exonmap 1.6.05 Crispin Miller
| Snapshot Date: 2008-08-08 00:12:03 -0700 (Fri, 08 Aug 2008) | | URL: https://hedgehog.fhcrc.org/bioconductor/branches/RELEASE_2_2/madman/Rpacks/exonmap | | Last Changed Rev: 32670 / Revision: 33132 | | Last Changed Date: 2008-07-11 09:25:07 -0700 (Fri, 11 Jul 2008) |
| lamb1 | Linux (SUSE 10.1) / x86_64 | [ OK ] | WARNINGS | |
| wilson2 | Linux (openSUSE 10.3) / x86_64 | OK | WARNINGS | |
| wellington | Linux (openSUSE 10.3) / i686 | OK | WARNINGS | |
| liverpool | Windows Server 2003 R2 (32-bit) / x64 | OK | WARNINGS | OK |
| pitt | Mac OS X Tiger (10.4.11) / i386 | OK | WARNINGS | OK |