| pgUtils 1.12.0 Johannes Rainer
 
 | Snapshot Date: 2008-08-08 00:12:03 -0700 (Fri, 08 Aug 2008) |  | URL: https://hedgehog.fhcrc.org/bioconductor/branches/RELEASE_2_2/madman/Rpacks/pgUtils |  | Last Changed Rev: 31430 / Revision: 33132 |  | Last Changed Date: 2008-04-29 16:50:18 -0700 (Tue, 29 Apr 2008) | 
 | lamb1 | Linux (SUSE 10.1) / x86_64 | OK | OK |  | 
| wilson2 | Linux (openSUSE 10.3) / x86_64 | OK | OK |  | 
| wellington | Linux (openSUSE 10.3) / i686 | OK | OK |  | 
| liverpool | Windows Server 2003 R2 (32-bit) / x64 | N O T   S U P P O R T E D | 
| pitt | Mac OS X Tiger (10.4.11) / i386 | OK | OK | [ OK ] | 
                INSTALLATION WITH 'R CMD INSTALL pgUtils_1.12.0.tar.gz'
* Installing to library 'pgUtils.buildbin-libdir'
* Installing *source* package 'pgUtils' ...
** R
** inst
** preparing package for lazy loading
Loading required package: Rdbi
Loading required package: RdbiPgSQL
Attaching package: 'RdbiPgSQL'
	The following object(s) are masked from package:Rdbi :
	 dbAppendTable 
** help
Note: removing empty section \note
Note: removing empty section \references
Note: removing empty section \examples
Note: removing empty section \details
Note: removing empty section \references
Note: removing empty section \seealso
Note: removing empty section \examples
Note: removing empty section \details
Note: removing empty section \references
Note: removing empty section \seealso
Note: removing empty section \examples
Note: removing empty section \details
Note: removing empty section \references
Note: removing empty section \seealso
Note: removing empty section \examples
Note: removing empty section \references
Note: removing empty section \references
Note: removing empty section \references
Note: removing empty section \references
Note: removing empty section \examples
Note: removing empty section \references
Note: removing empty section \references
Note: removing empty section \references
Note: removing empty section \details
Note: removing empty section \references
Note: removing empty section \details
Note: removing empty section \references
Note: removing empty section \seealso
Note: removing empty section \examples
Note: removing empty section \references
Note: removing empty section \examples
Note: removing empty section \references
Note: removing empty section \examples
 >>> Building/Updating help pages for package 'pgUtils'
     Formats: text html latex example 
  AutoReference                     text    html    latex
  auto.fk.name                      text    html    latex
  auto.pk.name                      text    html    latex
  auto.pk.seq                       text    html    latex
  createDBTable                     text    html    latex   example
  createSequence                    text    html    latex
  dbColnames                        text    html    latex
  dbListDatabases                   text    html    latex
  dbListSequences                   text    html    latex
  deleteDBEntry                     text    html    latex
  do.log                            text    html    latex
  getRefAttribute-methods           text    html    latex
  getRefColumn-methods              text    html    latex
  getRefTable-methods               text    html    latex
  getSourceAttribute-methods        text    html    latex
  getSourceColumn-methods           text    html    latex
  insertIntoTable                   text    html    latex   example
  log.file                          text    html    latex
  log.level                         text    html    latex
  loggit                            text    html    latex
  searchIn                          text    html    latex
  updateDBTable                     text    html    latex
** building package indices ...
* DONE (pgUtils)