| RankProd 2.12.0 Fangxin Hong
 
 | Snapshot Date: 2008-08-08 00:12:03 -0700 (Fri, 08 Aug 2008) |  | URL: https://hedgehog.fhcrc.org/bioconductor/branches/RELEASE_2_2/madman/Rpacks/RankProd |  | Last Changed Rev: 31430 / Revision: 33132 |  | Last Changed Date: 2008-04-29 16:50:18 -0700 (Tue, 29 Apr 2008) | 
 | lamb1 | Linux (SUSE 10.1) / x86_64 | OK | OK |  | 
| wilson2 | Linux (openSUSE 10.3) / x86_64 | OK | OK |  | 
| wellington | Linux (openSUSE 10.3) / i686 | OK | OK |  | 
| liverpool | Windows Server 2003 R2 (32-bit) / x64 | OK | OK | [ OK ] | 
| pitt | Mac OS X Tiger (10.4.11) / i386 | OK | OK | OK | 
installing R.css in E:/biocbld/bbs-2.2-bioc/meat/RankProd.buildbin-libdir
Using auto-selected zip options 'RankProd-ZIPDATA=zip'
---------- Making package RankProd ------------
  adding build stamp to DESCRIPTION
  installing R files
  installing inst files
  installing data files
  preparing package RankProd for lazy loading
  installing man source files
  installing indices
  zipping data
  installing help
Note: unmatched right brace in file 'topGene.Rd' on or after line 74
Note: unmatched right brace in file 'topGene.Rd' on or after line 74
 >>> Building/Updating help pages for package 'RankProd'
     Formats: text html latex example chm 
  RP                                text    html    latex   example chm
  RPadvance                         text    html    latex   example chm
  RSadvance                         text    html    latex   example chm
  RankProd-internal                 text    html    latex           chm
  arab                              text    html    latex           chm
  golub                             text    html    latex           chm
  lymphoma                          text    html    latex           chm
  plotGene                          text    html    latex   example chm
  plotRP                            text    html    latex   example chm
  topGene                           text    html    latex   example chm
Microsoft HTML Help Compiler 4.74.8702
Compiling e:\biocbld\bbs-2.2-bioc\meat\R.INSTALL.5016\RankProd\chm\RankProd.chm
Compile time: 0 minutes, 0 seconds
11	Topics
42	Local links
1	Internet link
1	Graphic
Created e:\biocbld\bbs-2.2-bioc\meat\R.INSTALL.5016\RankProd\chm\RankProd.chm, 33,903 bytes
Compression decreased file by 16,456 bytes.
  adding MD5 sums
packaged installation of package 'RankProd' as RankProd_2.12.0.zip
* DONE (RankProd)