| arrayQualityMetrics 1.6.1 Audrey Kauffmann
 
 | Snapshot Date: 2008-08-08 00:12:03 -0700 (Fri, 08 Aug 2008) |  | URL: https://hedgehog.fhcrc.org/bioconductor/branches/RELEASE_2_2/madman/Rpacks/arrayQualityMetrics |  | Last Changed Rev: 33090 / Revision: 33132 |  | Last Changed Date: 2008-08-06 15:20:04 -0700 (Wed, 06 Aug 2008) | 
 | lamb1 | Linux (SUSE 10.1) / x86_64 | OK | OK |  | 
| wilson2 | Linux (openSUSE 10.3) / x86_64 | OK | OK |  | 
| wellington | Linux (openSUSE 10.3) / i686 | OK | OK |  | 
| liverpool | Windows Server 2003 R2 (32-bit) / x64 | [ OK ] | OK | OK | 
| pitt | Mac OS X Tiger (10.4.11) / i386 | OK | OK | OK | 
* checking for file 'arrayQualityMetrics/DESCRIPTION' ... OK
* preparing 'arrayQualityMetrics':
* checking DESCRIPTION meta-information ... OK
* installing the package to re-build vignettes
installing R.css in E:/biocbld/bbs-2.2-bioc/tmpdir/Rinst176886843
---------- Making package arrayQualityMetrics ------------
  adding build stamp to DESCRIPTION
  installing NAMESPACE file and metadata
  installing R files
  installing inst files
  preparing package arrayQualityMetrics for lazy loading
Loading required package: Biobase
Loading required package: tools
Welcome to Bioconductor
  Vignettes contain introductory material. To view, type
  'openVignette()'. To cite Bioconductor, see
  'citation("Biobase")' and for packages 'citation(pkgname)'.
Loading required package: geneplotter
Loading required package: lattice
Loading required package: annotate
Loading required package: AnnotationDbi
Loading required package: DBI
Loading required package: RSQLite
Loading required package: xtable
KernSmooth 2.22 installed
Copyright M. P. Wand 1997
Loading required package: genefilter
Loading required package: survival
Loading required package: splines
Loading required package: vsn
Loading required package: affy
Loading required package: affyio
Loading required package: preprocessCore
Loading required package: limma
Loading required package: RColorBrewer
Loading required package: affyPLM
Loading required package: gcrma
Loading required package: matchprobes
Loading required package: simpleaffy
Loading required package: latticeExtra
Loading required package: grid
Loading required package: beadarray
Attaching package: 'beadarray'
	The following object(s) are masked from package:limma :
	 backgroundCorrect,
	 imageplot,
	 plotMA 
  installing man source files
  installing indices
  installing help
 >>> Building/Updating help pages for package 'arrayQualityMetrics'
     Formats: text html latex example chm 
  XYfromGAL                         text    html    latex           chm
  arrayQualityMetrics               text    html    latex   example chm
Microsoft HTML Help Compiler 4.74.8702
Compiling e:\biocbld\bbs-2.2-bioc\meat\arrayQualityMetrics\chm\arrayQualityMetrics.chm
Compile time: 0 minutes, 0 seconds
3	Topics
10	Local links
0	Internet links
1	Graphic
Created e:\biocbld\bbs-2.2-bioc\meat\arrayQualityMetrics\chm\arrayQualityMetrics.chm, 19,004 bytes
Compression increased file by 3,640 bytes.
  adding MD5 sums
* DONE (arrayQualityMetrics)
* creating vignettes ... OK
* removing junk files
* checking for LF line-endings in source and make files
* checking for empty or unneeded directories
* building 'arrayQualityMetrics_1.6.1.tar.gz'