| Back to the "Multiple platform build/check report" | A B C D E F G H I J K L M N O [P] Q R S T U V W X Y Z | 
| Package 178/260 | Hostname | OS / Arch | BUILD | CHECK | BUILD BIN | ||||
| pgUtils 1.12.0 Johannes Rainer 
 | lamb1 | Linux (SUSE 10.1) / x86_64 | OK | OK | |||||
| wilson2 | Linux (openSUSE 10.3) / x86_64 | OK | OK | ||||||
| wellington | Linux (openSUSE 10.3) / i686 | OK | OK | ||||||
| liverpool | Windows Server 2003 R2 (32-bit) / x64 | N O T S U P P O R T E D | |||||||
| pitt | Mac OS X Tiger (10.4.11) / i386 | [ OK ] | OK | OK | |||||
| Package: pgUtils | 
| Version: 1.12.0 | 
| Command: /Library/Frameworks/R.framework/Versions/2.7/Resources/bin/R CMD build pgUtils | 
| StartedAt: 2008-08-08 03:00:35 -0700 (Fri, 08 Aug 2008) | 
| EndedAt: 2008-08-08 03:00:36 -0700 (Fri, 08 Aug 2008) | 
| EllapsedTime: 0.8 seconds | 
| RetCode: 0 | 
| Status: OK | 
| PackageFile: pgUtils_1.12.0.tar.gz | 
| PackageFileSize: 105.4 KiB | 
* checking for file 'pgUtils/DESCRIPTION' ... OK * preparing 'pgUtils': * checking DESCRIPTION meta-information ... OK * removing junk files * checking for LF line-endings in source and make files * checking for empty or unneeded directories * building 'pgUtils_1.12.0.tar.gz'