| Back to the "Multiple platform build/check report" | A B C D E [F] G H I J K L M N O P Q R S T U V W X Y Z | 
| Package 79/260 | Hostname | OS / Arch | BUILD | CHECK | BUILD BIN | ||||
| flowUtils 1.0.0 Florian Hahne 
 | lamb1 | Linux (SUSE 10.1) / x86_64 | OK | OK | |||||
| wilson2 | Linux (openSUSE 10.3) / x86_64 | OK | OK | ||||||
| wellington | Linux (openSUSE 10.3) / i686 | OK | OK | ||||||
| liverpool | Windows Server 2003 R2 (32-bit) / x64 | OK | OK | OK | |||||
| pitt | Mac OS X Tiger (10.4.11) / i386 | [ OK ] | OK | OK | 
| Package: flowUtils | 
| Version: 1.0.0 | 
| Command: /Library/Frameworks/R.framework/Versions/2.7/Resources/bin/R CMD build flowUtils | 
| StartedAt: 2008-08-08 03:12:44 -0700 (Fri, 08 Aug 2008) | 
| EndedAt: 2008-08-08 03:12:45 -0700 (Fri, 08 Aug 2008) | 
| EllapsedTime: 0.8 seconds | 
| RetCode: 0 | 
| Status: OK | 
| PackageFile: flowUtils_1.0.0.tar.gz | 
| PackageFileSize: 14.97 KiB | 
* checking for file 'flowUtils/DESCRIPTION' ... OK * preparing 'flowUtils': * checking DESCRIPTION meta-information ... OK * removing junk files * checking for LF line-endings in source and make files * checking for empty or unneeded directories * building 'flowUtils_1.0.0.tar.gz'