| nudge 1.6.0 N. Dean
 
 | Snapshot Date: 2008-08-08 00:12:03 -0700 (Fri, 08 Aug 2008) |  | URL: https://hedgehog.fhcrc.org/bioconductor/branches/RELEASE_2_2/madman/Rpacks/nudge |  | Last Changed Rev: 31430 / Revision: 33132 |  | Last Changed Date: 2008-04-29 16:50:18 -0700 (Tue, 29 Apr 2008) | 
 | lamb1 | Linux (SUSE 10.1) / x86_64 | OK | OK |  | 
| wilson2 | Linux (openSUSE 10.3) / x86_64 | [ OK ] | OK |  | 
| wellington | Linux (openSUSE 10.3) / i686 | OK | OK |  | 
| liverpool | Windows Server 2003 R2 (32-bit) / x64 | OK | OK | OK | 
| pitt | Mac OS X Tiger (10.4.11) / i386 | OK | OK | OK | 
* checking for file 'nudge/DESCRIPTION' ... OK
* preparing 'nudge':
* checking DESCRIPTION meta-information ... OK
* installing the package to re-build vignettes
* Installing *source* package 'nudge' ...
** R
** data
** inst
** help
 >>> Building/Updating help pages for package 'nudge'
     Formats: text html latex example 
  hiv                               text    html    latex
  like                              text    html    latex
  neg.contr                         text    html    latex
  norm1a                            text    html    latex   example
  norm1b                            text    html    latex   example
  norm1c                            text    html    latex   example
  norm1d                            text    html    latex   example
  norm2c                            text    html    latex   example
  norm2d                            text    html    latex   example
  nudge1                            text    html    latex   example
  nudge2                            text    html    latex   example
  pos.contr                         text    html    latex
** building package indices ...
* DONE (nudge)
* creating vignettes ... OK
* removing junk files
* checking for LF line-endings in source and make files
* checking for empty or unneeded directories
* building 'nudge_1.6.0.tar.gz'