| sigPathway 1.8.0 Weil Lai
 
 | Snapshot Date: 2008-08-08 00:12:03 -0700 (Fri, 08 Aug 2008) |  | URL: https://hedgehog.fhcrc.org/bioconductor/branches/RELEASE_2_2/madman/Rpacks/sigPathway |  | Last Changed Rev: 31430 / Revision: 33132 |  | Last Changed Date: 2008-04-29 16:50:18 -0700 (Tue, 29 Apr 2008) | 
 | lamb1 | Linux (SUSE 10.1) / x86_64 | OK | OK |  | 
| wilson2 | Linux (openSUSE 10.3) / x86_64 | OK | OK |  | 
| wellington | Linux (openSUSE 10.3) / i686 | [ OK ] | OK |  | 
| liverpool | Windows Server 2003 R2 (32-bit) / x64 | OK | OK | OK | 
| pitt | Mac OS X Tiger (10.4.11) / i386 | OK | OK | OK | 
* checking for file 'sigPathway/DESCRIPTION' ... OK
* preparing 'sigPathway':
* checking DESCRIPTION meta-information ... OK
* cleaning src
* installing the package to re-build vignettes
* Installing *source* package 'sigPathway' ...
** libs
gcc -std=gnu99 -I/home/biocbuild/bbs-2.2-bioc/R/include  -I/usr/local/include    -fpic  -g -O2 -Wall -c calc_gene_set_internal.c -o calc_gene_set_internal.o
gcc -std=gnu99 -I/home/biocbuild/bbs-2.2-bioc/R/include  -I/usr/local/include    -fpic  -g -O2 -Wall -c calc_gene_set_stat.c -o calc_gene_set_stat.o
gcc -std=gnu99 -I/home/biocbuild/bbs-2.2-bioc/R/include  -I/usr/local/include    -fpic  -g -O2 -Wall -c calc_probe_stat.c -o calc_probe_stat.o
gcc -std=gnu99 -I/home/biocbuild/bbs-2.2-bioc/R/include  -I/usr/local/include    -fpic  -g -O2 -Wall -c calc_weights.c -o calc_weights.o
gcc -std=gnu99 -I/home/biocbuild/bbs-2.2-bioc/R/include  -I/usr/local/include    -fpic  -g -O2 -Wall -c matrix_fn.c -o matrix_fn.o
gcc -std=gnu99 -I/home/biocbuild/bbs-2.2-bioc/R/include  -I/usr/local/include    -fpic  -g -O2 -Wall -c permute.c -o permute.o
gcc -std=gnu99 -I/home/biocbuild/bbs-2.2-bioc/R/include  -I/usr/local/include    -fpic  -g -O2 -Wall -c shuffle.c -o shuffle.o
gcc -std=gnu99 -I/home/biocbuild/bbs-2.2-bioc/R/include  -I/usr/local/include    -fpic  -g -O2 -Wall -c sigPathway.c -o sigPathway.o
gcc -std=gnu99 -shared -L/usr/local/lib -o sigPathway.so calc_gene_set_internal.o calc_gene_set_stat.o calc_probe_stat.o calc_weights.o matrix_fn.o permute.o shuffle.o sigPathway.o -L/home/biocbuild/bbs-2.2-bioc/R/lib -lRlapack -L/home/biocbuild/bbs-2.2-bioc/R/lib -lRblas -lgfortran -lm  
** R
** data
** inst
** preparing package for lazy loading
** help
 >>> Building/Updating help pages for package 'sigPathway'
     Formats: text html latex example 
  MuscleExample                     text    html    latex
  calcTNullFast                     text    html    latex
  calcTStatFast                     text    html    latex   example
  calculate.GSEA                    text    html    latex
  calculate.NGSk                    text    html    latex   example
  calculatePathwayStatistics        text    html    latex   example
  estimateNumPerm                   text    html    latex   example
  getPathwayStatistics.NGSk         text    html    latex
  getPathwayStatistics              text    html    latex
  importGeneSets                    text    html    latex
  rankPathways.NGSk                 text    html    latex
  rankPathways                      text    html    latex
  runSigPathway                     text    html    latex   example
  selectGeneSets                    text    html    latex
  writeSigPathway                   text    html    latex
** building package indices ...
* DONE (sigPathway)
* creating vignettes ... OK
* cleaning src
* removing junk files
* checking for LF line-endings in source and make files
    file 'sigPathway/src/Makevars' had non-LF line endings
* checking for empty or unneeded directories
* building 'sigPathway_1.8.0.tar.gz'