| fbat 1.4.0 Weiliang Qiu
 
 | Snapshot Date: 2008-08-08 00:12:03 -0700 (Fri, 08 Aug 2008) |  | URL: https://hedgehog.fhcrc.org/bioconductor/branches/RELEASE_2_2/madman/Rpacks/fbat |  | Last Changed Rev: 31430 / Revision: 33132 |  | Last Changed Date: 2008-04-29 16:50:18 -0700 (Tue, 29 Apr 2008) | 
 | lamb1 | Linux (SUSE 10.1) / x86_64 | OK | OK |  | 
| wilson2 | Linux (openSUSE 10.3) / x86_64 | OK | OK |  | 
| wellington | Linux (openSUSE 10.3) / i686 | OK | OK |  | 
| liverpool | Windows Server 2003 R2 (32-bit) / x64 | OK | OK | [ OK ] | 
| pitt | Mac OS X Tiger (10.4.11) / i386 | OK | OK | OK | 
installing R.css in E:/biocbld/bbs-2.2-bioc/meat/fbat.buildbin-libdir
Using auto-selected zip options ''
---------- Making package fbat ------------
  adding build stamp to DESCRIPTION
  installing NAMESPACE file and metadata
  making DLL ...
making FBAT.d from FBAT.c
making register.d from register.c
gcc  -std=gnu99  -IE:/biocbld/bbs-2.2-bioc/R/include     -O3 -Wall  -c FBAT.c -o FBAT.o
gcc  -std=gnu99  -IE:/biocbld/bbs-2.2-bioc/R/include     -O3 -Wall  -c register.c -o register.o
gfortran   -O3  -c missGFreq.f -o missGFreq.o
windres --preprocessor="gcc -E -xc -DRC_INVOKED" -I E:/biocbld/bbs-2.2-bioc/R/include  -i fbat_res.rc -o fbat_res.o
gcc  -std=gnu99  -shared -s  -o fbat.dll fbat.def FBAT.o register.o missGFreq.o fbat_res.o  -LE:/biocbld/bbs-2.2-bioc/R/bin   -lgfortran -lR
  ... DLL made
  installing DLL
  installing R files
  installing inst files
  installing data files
  preparing package fbat for lazy loading
Loading required package: MASS
Loading required package: GeneticsBase
Loading required package: combinat
Attaching package: 'combinat'
	The following object(s) are masked from package:utils :
	 combn 
Loading required package: xtable
Loading required package: mvtnorm
Loading required package: haplo.stats
  installing man source files
  installing indices
  not zipping data
  installing help
Note: removing empty section \details
Note: removing empty section \note
Note: removing empty section \examples
Note: removing empty section \seealso
Note: removing empty section \details
Note: removing empty section \note
Note: removing empty section \examples
Note: removing empty section \seealso
Note: removing empty section \details
Note: removing empty section \details
Note: removing empty section \note
Note: removing empty section \references
Note: removing empty section \examples
Note: removing empty section \seealso
Note: removing empty section \note
Note: removing empty section \references
Note: removing empty section \examples
Note: removing empty section \seealso
Note: removing empty section \note
Note: removing empty section \references
Note: removing empty section \examples
Note: removing empty section \seealso
Note: removing empty section \note
Note: removing empty section \references
Note: removing empty section \examples
Note: removing empty section \seealso
Note: removing empty section \details
Note: removing empty section \note
Note: removing empty section \examples
Note: removing empty section \details
Note: removing empty section \note
Note: removing empty section \examples
Note: removing empty section \source
Note: removing empty section \details
Note: removing empty section \references
Note: removing empty section \source
Note: removing empty section \details
Note: removing empty section \references
Note: removing empty section \source
Note: removing empty section \details
Note: removing empty section \references
Note: removing empty section \source
Note: removing empty section \details
Note: removing empty section \references
Note: removing empty section \source
Note: removing empty section \details
Note: removing empty section \references
Note: removing empty section \source
Note: removing empty section \details
Note: removing empty section \references
Note: removing empty section \source
Note: removing empty section \details
Note: removing empty section \references
Note: removing empty section \source
Note: removing empty section \details
Note: removing empty section \references
Note: removing empty section \value
Note: removing empty section \value
 >>> Building/Updating help pages for package 'fbat'
     Formats: text html latex example chm 
  checkMarkers                      text    html    latex   example chm
  checkMendelian                    text    html    latex   example chm
  fbat                              text    html    latex   example chm
  getFounders                       text    html    latex           chm
  missGFreq                         text    html    latex   example chm
  pedAFreq                          text    html    latex   example chm
  pedFlagHomo                       text    html    latex   example chm
  pedGFreq                          text    html    latex   example chm
  pedHardyWeinberg                  text    html    latex   example chm
  readHapMap                        text    html    latex           chm
  readLink                          text    html    latex           chm
  readPed                           text    html    latex           chm
  sampleInfoCEU                     text    html    latex   example chm
  sampleInfoCHB                     text    html    latex   example chm
  sampleInfoJPT                     text    html    latex   example chm
  sampleInfoYRI                     text    html    latex   example chm
  summaryPvalue                     text    html    latex   example chm
  viewFlagHomo                      text    html    latex   example chm
  viewHW                            text    html    latex   example chm
  viewstat                          text    html    latex   example chm
Microsoft HTML Help Compiler 4.74.8702
Compiling e:\biocbld\bbs-2.2-bioc\meat\R.INSTALL.5400\fbat\chm\fbat.chm
Compile time: 0 minutes, 0 seconds
21	Topics
40	Local links
3	Internet links
1	Graphic
Created e:\biocbld\bbs-2.2-bioc\meat\R.INSTALL.5400\fbat\chm\fbat.chm, 36,667 bytes
Compression decreased file by 41,847 bytes.
  adding MD5 sums
packaged installation of package 'fbat' as fbat_1.4.0.zip
* DONE (fbat)