| CoCiteStats 1.12.0 R. Gentleman
 
 | Snapshot Date: 2008-08-08 00:12:03 -0700 (Fri, 08 Aug 2008) |  | URL: https://hedgehog.fhcrc.org/bioconductor/branches/RELEASE_2_2/madman/Rpacks/CoCiteStats |  | Last Changed Rev: 31430 / Revision: 33132 |  | Last Changed Date: 2008-04-29 16:50:18 -0700 (Tue, 29 Apr 2008) | 
 | lamb1 | Linux (SUSE 10.1) / x86_64 | OK | OK |  | 
| wilson2 | Linux (openSUSE 10.3) / x86_64 | OK | OK |  | 
| wellington | Linux (openSUSE 10.3) / i686 | OK | OK |  | 
| liverpool | Windows Server 2003 R2 (32-bit) / x64 | OK | OK | OK | 
| pitt | Mac OS X Tiger (10.4.11) / i386 | OK | OK | [ OK ] | 
                INSTALLATION WITH 'R CMD INSTALL CoCiteStats_1.12.0.tar.gz'
* Installing to library 'CoCiteStats.buildbin-libdir'
* Installing *source* package 'CoCiteStats' ...
** R
** help
Note: removing empty section \details
Note: removing empty section \details
 >>> Building/Updating help pages for package 'CoCiteStats'
     Formats: text html latex example 
  actorAdjTable                     text    html    latex   example
  gene.gene.statistic               text    html    latex   example
  gene.geneslist.sig                text    html    latex   example
  gene.geneslist.statistic          text    html    latex   example
  paperLen                          text    html    latex   example
  twTStats                          text    html    latex   example
  twowayTable                       text    html    latex   example
** building package indices ...
* DONE (CoCiteStats)