| hexbin 1.14.0 Nicholas Lewin-Koh
 
 | Snapshot Date: 2008-08-08 00:12:03 -0700 (Fri, 08 Aug 2008) |  | URL: https://hedgehog.fhcrc.org/bioconductor/branches/RELEASE_2_2/madman/Rpacks/hexbin |  | Last Changed Rev: 31430 / Revision: 33132 |  | Last Changed Date: 2008-04-29 16:50:18 -0700 (Tue, 29 Apr 2008) | 
 | lamb1 | Linux (SUSE 10.1) / x86_64 | [ OK ] | OK |  | 
| wilson2 | Linux (openSUSE 10.3) / x86_64 | OK | OK |  | 
| wellington | Linux (openSUSE 10.3) / i686 | OK | OK |  | 
| liverpool | Windows Server 2003 R2 (32-bit) / x64 | OK | OK | OK | 
| pitt | Mac OS X Tiger (10.4.11) / i386 | OK | OK | OK | 
* checking for file 'hexbin/DESCRIPTION' ... OK
* preparing 'hexbin':
* checking DESCRIPTION meta-information ... OK
* cleaning src
* installing the package to re-build vignettes
* Installing *source* package 'hexbin' ...
** libs
gfortran   -fpic  -g -O2 -Wall -c hbin.f -o hbin.o
gfortran   -fpic  -g -O2 -Wall -c hcell.f -o hcell.o
gfortran   -fpic  -g -O2 -Wall -c herode.f -o herode.o
gfortran   -fpic  -g -O2 -Wall -c hsm.f -o hsm.o
gcc -std=gnu99 -shared -L/usr/local/lib64 -o hexbin.so hbin.o hcell.o herode.o hsm.o  -lgfortran -lm 
** R
** data
** inst
** preparing package for lazy loading
Loading required package: grid
Loading required package: lattice
Creating a new generic function for "plot" in "hexbin"
Creating a new generic function for "summary" in "hexbin"
** help
Note: removing empty section \references
Note: removing empty section \examples
Note: removing empty section \examples
Note: removing empty section \details
Note: removing empty section \details
Note: removing empty section \examples
Note: removing empty section \details
Note: removing empty section \examples
 >>> Building/Updating help pages for package 'hexbin'
     Formats: text html latex example 
  NHANES                            text    html    latex   example
  colramp                           text    html    latex   example
  erode.hexbin                      text    html    latex   example
  getHMedian                        text    html    latex   example
  gplot.hexbin                      text    html    latex   example
  grid.hexagons                     text    html    latex   example
  grid.hexlegend                    text    html    latex   example
  hboxplot                          text    html    latex   example
  hcell2xy                          text    html    latex   example
  hcell2xyInt                       text    html    latex   example
  hdiffplot                         text    html    latex   example
  hexGraphPaper                     text    html    latex   example
  hexList                           text    html    latex
  hexMA.loess                       text    html    latex   example
  hexTapply                         text    html    latex   example
  hexVP-class                       text    html    latex   example
  hexVP.abline                      text    html    latex
  hexViewport                       text    html    latex   example
  hexbin                            text    html    latex   example
  hexbinplot                        text    html    latex   example
  hexplom                           text    html    latex   example
  hexpolygon                        text    html    latex   example
  hsmooth-methods                   text    html    latex
  inout.hex                         text    html    latex
  list2hexList                      text    html    latex
  old-classes                       text    html    latex
  optShape                          text    html    latex   example
  panel.hexboxplot                  text    html    latex   example
  panel.hexgrid                     text    html    latex
  panel.hexloess                    text    html    latex
  plotMAhex                         text    html    latex   example
  pushHexport                       text    html    latex
  smooth.hexbin                     text    html    latex   example
** building package indices ...
* DONE (hexbin)
* creating vignettes ... OK
* cleaning src
* removing junk files
* checking for LF line-endings in source and make files
* checking for empty or unneeded directories
* building 'hexbin_1.14.0.tar.gz'