| SMAP 1.4.0 Robin Andersson
 
 | Snapshot Date: 2008-08-08 00:12:03 -0700 (Fri, 08 Aug 2008) |  | URL: https://hedgehog.fhcrc.org/bioconductor/branches/RELEASE_2_2/madman/Rpacks/SMAP |  | Last Changed Rev: 31430 / Revision: 33132 |  | Last Changed Date: 2008-04-29 16:50:18 -0700 (Tue, 29 Apr 2008) | 
 | lamb1 | Linux (SUSE 10.1) / x86_64 | OK | OK |  | 
| wilson2 | Linux (openSUSE 10.3) / x86_64 | [ OK ] | OK |  | 
| wellington | Linux (openSUSE 10.3) / i686 | OK | OK |  | 
| liverpool | Windows Server 2003 R2 (32-bit) / x64 | OK | OK | OK | 
| pitt | Mac OS X Tiger (10.4.11) / i386 | OK | OK | OK | 
* checking for file 'SMAP/DESCRIPTION' ... OK
* preparing 'SMAP':
* checking DESCRIPTION meta-information ... OK
* cleaning src
* installing the package to re-build vignettes
* Installing *source* package 'SMAP' ...
** libs
gcc -std=gnu99 -I/home/biocbuild/bbs-2.2-bioc/R/include  -I/usr/local/include    -fpic  -g -O2 -Wall -c gradient.c -o gradient.o
gradient.c: In function 'hmm_update':
gradient.c:247: warning: unused variable 'tmp'
gcc -std=gnu99 -I/home/biocbuild/bbs-2.2-bioc/R/include  -I/usr/local/include    -fpic  -g -O2 -Wall -c init.c -o init.o
gcc -std=gnu99 -I/home/biocbuild/bbs-2.2-bioc/R/include  -I/usr/local/include    -fpic  -g -O2 -Wall -c overlap.c -o overlap.o
gcc -std=gnu99 -I/home/biocbuild/bbs-2.2-bioc/R/include  -I/usr/local/include    -fpic  -g -O2 -Wall -c prob.c -o prob.o
gcc -std=gnu99 -I/home/biocbuild/bbs-2.2-bioc/R/include  -I/usr/local/include    -fpic  -g -O2 -Wall -c viterbi.c -o viterbi.o
gcc -std=gnu99 -shared -L/usr/local/lib64 -o SMAP.so gradient.o init.o overlap.o prob.o viterbi.o   
** R
** data
** inst
** preparing package for lazy loading
Creating a new generic function for "plot" in "SMAP"
** help
 >>> Building/Updating help pages for package 'SMAP'
     Formats: text html latex example 
  GBM                               text    html    latex   example
  SMAP-internal                     text    html    latex
  SMAPHMM-class                     text    html    latex
  SMAPHMM                           text    html    latex
  SMAPObservations-class            text    html    latex
  SMAPObservations                  text    html    latex   example
  SMAPProfile-class                 text    html    latex
  SMAPProfiles-class                text    html    latex
  smap                              text    html    latex   example
** building package indices ...
* DONE (SMAP)
* creating vignettes ... OK
* cleaning src
* removing junk files
* checking for LF line-endings in source and make files
* checking for empty or unneeded directories
* building 'SMAP_1.4.0.tar.gz'