| RbcBook1 1.8.0 Vince Carey
 
 | Snapshot Date: 2008-08-08 00:12:03 -0700 (Fri, 08 Aug 2008) |  | URL: https://hedgehog.fhcrc.org/bioconductor/branches/RELEASE_2_2/madman/Rpacks/RbcBook1 |  | Last Changed Rev: 31430 / Revision: 33132 |  | Last Changed Date: 2008-04-29 16:50:18 -0700 (Tue, 29 Apr 2008) | 
 | lamb1 | Linux (SUSE 10.1) / x86_64 | OK | OK |  | 
| wilson2 | Linux (openSUSE 10.3) / x86_64 | OK | OK |  | 
| wellington | Linux (openSUSE 10.3) / i686 | OK | OK |  | 
| liverpool | Windows Server 2003 R2 (32-bit) / x64 | OK | OK | [ OK ] | 
| pitt | Mac OS X Tiger (10.4.11) / i386 | OK | OK | OK | 
installing R.css in E:/biocbld/bbs-2.2-bioc/meat/RbcBook1.buildbin-libdir
Using auto-selected zip options 'RbcBook1-ZIPDATA=zip'
---------- Making package RbcBook1 ------------
  adding build stamp to DESCRIPTION
  installing R files
  installing inst files
  installing data files
  installing man source files
  installing indices
  zipping data
  installing help
Note: removing empty section \arguments
Note: removing empty section \arguments
 >>> Building/Updating help pages for package 'RbcBook1'
     Formats: text html latex example chm 
  bcStangle                         text    html    latex   example chm
  bcSweave                          text    html    latex   example chm
  bcr                               text    html    latex   example chm
  checkVerbatimLines                text    html    latex   example chm
  imageSize                         text    html    latex   example chm
  perf                              text    html    latex   example chm
  requireAllBook1                   text    html    latex   example chm
  rpart2gNEL                        text    html    latex   example chm
Microsoft HTML Help Compiler 4.74.8702
Compiling e:\biocbld\bbs-2.2-bioc\meat\R.INSTALL.4888\RbcBook1\chm\RbcBook1.chm
Compile time: 0 minutes, 0 seconds
9	Topics
31	Local links
0	Internet links
1	Graphic
Created e:\biocbld\bbs-2.2-bioc\meat\R.INSTALL.4888\RbcBook1\chm\RbcBook1.chm, 24,067 bytes
Compression decreased file by 4,748 bytes.
  adding MD5 sums
packaged installation of package 'RbcBook1' as RbcBook1_1.8.0.zip
* DONE (RbcBook1)