SemSim 1.6.0 Xiang Guo
 | Snapshot Date: 2008-08-08 00:12:03 -0700 (Fri, 08 Aug 2008) |  | URL: https://hedgehog.fhcrc.org/bioconductor/branches/RELEASE_2_2/madman/Rpacks/SemSim |  | Last Changed Rev: 31430 / Revision: 33132 |  | Last Changed Date: 2008-04-29 16:50:18 -0700 (Tue, 29 Apr 2008) |  
  | lamb1  | Linux (SUSE 10.1) / x86_64  |  OK  |  OK  |  | 
| wilson2  | Linux (openSUSE 10.3) / x86_64  |  OK  |  OK  |  | 
| wellington  | Linux (openSUSE 10.3) / i686  |  OK  |  OK  |  | 
| liverpool  | Windows Server 2003 R2 (32-bit) / x64  |  OK  |  OK  |  OK  | 
| pitt  | Mac OS X Tiger (10.4.11) / i386  | [ OK ] |  OK  |  OK  | 
* checking for file 'SemSim/DESCRIPTION' ... OK
* preparing 'SemSim':
* checking DESCRIPTION meta-information ... OK
* installing the package to re-build vignettes
* Installing *source* package 'SemSim' ...
** R
** data
** inst
** help
 >>> Building/Updating help pages for package 'SemSim'
     Formats: text html latex example 
  GOCount                           text    html    latex
  Schreiber                         text    html    latex   example
  SemSim-internal                   text    html    latex
  SemSim-package                    text    html    latex
  geneSim                           text    html    latex   example
  mgeneSim                          text    html    latex   example
  mtermSim                          text    html    latex   example
  termSim                           text    html    latex   example
** building package indices ...
* DONE (SemSim)
* creating vignettes ... OK
* removing junk files
* checking for LF line-endings in source and make files
* checking for empty or unneeded directories
* building 'SemSim_1.6.0.tar.gz'