| AffyExpress 1.6.0 Xuejun Arthur Li
 
 | Snapshot Date: 2008-08-08 00:12:03 -0700 (Fri, 08 Aug 2008) |  | URL: https://hedgehog.fhcrc.org/bioconductor/branches/RELEASE_2_2/madman/Rpacks/AffyExpress |  | Last Changed Rev: 31430 / Revision: 33132 |  | Last Changed Date: 2008-04-29 16:50:18 -0700 (Tue, 29 Apr 2008) | 
 | lamb1 | Linux (SUSE 10.1) / x86_64 | OK | OK |  | 
| wilson2 | Linux (openSUSE 10.3) / x86_64 | [ OK ] | OK |  | 
| wellington | Linux (openSUSE 10.3) / i686 | OK | OK |  | 
| liverpool | Windows Server 2003 R2 (32-bit) / x64 | OK | OK | OK | 
| pitt | Mac OS X Tiger (10.4.11) / i386 | OK | OK | OK | 
* checking for file 'AffyExpress/DESCRIPTION' ... OK
* preparing 'AffyExpress':
* checking DESCRIPTION meta-information ... OK
* installing the package to re-build vignettes
* Installing *source* package 'AffyExpress' ...
** R
** data
** inst
** help
 >>> Building/Updating help pages for package 'AffyExpress'
     Formats: text html latex example 
  AffyInteraction                   text    html    latex   example
  AffyQA                            text    html    latex   example
  AffyRegress                       text    html    latex   example
  Filter                            text    html    latex   example
  import.data                       text    html    latex   example
  interaction.result2html           text    html    latex   example
  make.contrast                     text    html    latex   example
  make.design                       text    html    latex   example
  post.interaction                  text    html    latex   example
  pre.process                       text    html    latex   example
  regress                           text    html    latex   example
  result2html                       text    html    latex   example
  select.sig.gene                   text    html    latex   example
  testData                          text    html    latex
** building package indices ...
* DONE (AffyExpress)
* creating vignettes ... OK
* removing junk files
* checking for LF line-endings in source and make files
* checking for empty or unneeded directories
* building 'AffyExpress_1.6.0.tar.gz'