| plw 1.0.0 Magnus Astrand
 
 | Snapshot Date: 2008-08-08 00:12:03 -0700 (Fri, 08 Aug 2008) |  | URL: https://hedgehog.fhcrc.org/bioconductor/branches/RELEASE_2_2/madman/Rpacks/plw |  | Last Changed Rev: 31430 / Revision: 33132 |  | Last Changed Date: 2008-04-29 16:50:18 -0700 (Tue, 29 Apr 2008) | 
 | lamb1 | Linux (SUSE 10.1) / x86_64 | OK | OK |  | 
| wilson2 | Linux (openSUSE 10.3) / x86_64 | [ OK ] | OK |  | 
| wellington | Linux (openSUSE 10.3) / i686 | OK | OK |  | 
| liverpool | Windows Server 2003 R2 (32-bit) / x64 | OK | OK | OK | 
| pitt | Mac OS X Tiger (10.4.11) / i386 | OK | OK | OK | 
* checking for file 'plw/DESCRIPTION' ... OK
* preparing 'plw':
* checking DESCRIPTION meta-information ... OK
* cleaning src
* installing the package to re-build vignettes
* Installing *source* package 'plw' ...
** libs
gcc -std=gnu99 -I/home/biocbuild/bbs-2.2-bioc/R/include  -I/usr/local/include    -fpic  -g -O2 -Wall -c SpecialFunctions.c -o SpecialFunctions.o
gcc -std=gnu99 -I/home/biocbuild/bbs-2.2-bioc/R/include  -I/usr/local/include    -fpic  -g -O2 -Wall -c SpecialOptim.c -o SpecialOptim.o
gcc -std=gnu99 -shared -L/usr/local/lib64 -o plw.so SpecialFunctions.o SpecialOptim.o   
** R
** data
** inst
** preparing package for lazy loading
Loading required package: MASS
Loading required package: affy
Loading required package: Biobase
Loading required package: tools
Welcome to Bioconductor
  Vignettes contain introductory material. To view, type
  'openVignette()'. To cite Bioconductor, see
  'citation("Biobase")' and for packages 'citation(pkgname)'.
Loading required package: affyio
Loading required package: preprocessCore
Loading required package: splines
** help
 >>> Building/Updating help pages for package 'plw'
     Formats: text html latex example 
  AffySpikeU95Subset                text    html    latex
  HowToPLW                          text    html    latex   example
  estimateMVbeta                    text    html    latex
  estimateSigma                     text    html    latex
  estimateSigmaMV                   text    html    latex
  estimateSigmaMVbeta               text    html    latex
  getKnots                          text    html    latex
  lmw                               text    html    latex   example
  logitT                            text    html    latex   example
  plw-package                       text    html    latex
  plw                               text    html    latex   example
  scaleParameterPlot                text    html    latex   example
  statByIndex                       text    html    latex   example
  topRankSummary                    text    html    latex   example
  varHistPlot                       text    html    latex   example
** building package indices ...
* DONE (plw)
* creating vignettes ... OK
* cleaning src
* removing junk files
* checking for LF line-endings in source and make files
* checking for empty or unneeded directories
* building 'plw_1.0.0.tar.gz'