| spotSegmentation 1.14.0 Chris Fraley
 
 | Snapshot Date: 2008-08-08 00:12:03 -0700 (Fri, 08 Aug 2008) |  | URL: https://hedgehog.fhcrc.org/bioconductor/branches/RELEASE_2_2/madman/Rpacks/spotSegmentation |  | Last Changed Rev: 31430 / Revision: 33132 |  | Last Changed Date: 2008-04-29 16:50:18 -0700 (Tue, 29 Apr 2008) | 
 | lamb1 | Linux (SUSE 10.1) / x86_64 | OK | OK |  | 
| wilson2 | Linux (openSUSE 10.3) / x86_64 | OK | OK |  | 
| wellington | Linux (openSUSE 10.3) / i686 | OK | OK |  | 
| liverpool | Windows Server 2003 R2 (32-bit) / x64 | OK | OK | [ OK ] | 
| pitt | Mac OS X Tiger (10.4.11) / i386 | OK | OK | OK | 
installing R.css in E:/biocbld/bbs-2.2-bioc/meat/spotSegmentation.buildbin-libdir
Using auto-selected zip options 'spotSegmentation-ZIPDATA=zip'
---------- Making package spotSegmentation ------------
  adding build stamp to DESCRIPTION
  installing R files
  installing inst files
  installing data files
  installing man source files
  installing indices
  zipping data
  installing help
Note: removing empty section \author
Note: removing empty section \author
Note: removing empty section \author
Note: removing empty section \author
Note: removing empty section \author
Note: removing empty section \details
Note: removing empty section \note
Note: removing empty section \author
Note: removing empty section \details
Note: removing empty section \note
Note: removing empty section \author
Note: removing empty section \author
Note: removing empty section \author
Note: removing empty section \author
 >>> Building/Updating help pages for package 'spotSegmentation'
     Formats: text html latex example chm 
  plot.spotseg                      text    html    latex   example chm
  plotBlockImage                    text    html    latex   example chm
  spotSegTest                       text    html    latex           chm
  spotgrid                          text    html    latex   example chm
  spotseg                           text    html    latex   example chm
  summary.spotseg                   text    html    latex   example chm
Microsoft HTML Help Compiler 4.74.8702
Compiling e:\biocbld\bbs-2.2-bioc\meat\R.INSTALL.5860\spotSegmentation\chm\spotSegmentation.chm
Compile time: 0 minutes, 0 seconds
7	Topics
19	Local links
1	Internet link
1	Graphic
Created e:\biocbld\bbs-2.2-bioc\meat\R.INSTALL.5860\spotSegmentation\chm\spotSegmentation.chm, 24,079 bytes
Compression decreased file by 874 bytes.
  adding MD5 sums
packaged installation of package 'spotSegmentation' as spotSegmentation_1.14.0.zip
* DONE (spotSegmentation)