| stepNorm 1.12.0 Yuanyuan Xiao
 
 | Snapshot Date: 2008-08-08 00:12:03 -0700 (Fri, 08 Aug 2008) |  | URL: https://hedgehog.fhcrc.org/bioconductor/branches/RELEASE_2_2/madman/Rpacks/stepNorm |  | Last Changed Rev: 31430 / Revision: 33132 |  | Last Changed Date: 2008-04-29 16:50:18 -0700 (Tue, 29 Apr 2008) | 
 | lamb1 | Linux (SUSE 10.1) / x86_64 | OK | OK |  | 
| wilson2 | Linux (openSUSE 10.3) / x86_64 | OK | OK |  | 
| wellington | Linux (openSUSE 10.3) / i686 | OK | OK |  | 
| liverpool | Windows Server 2003 R2 (32-bit) / x64 | OK | OK | OK | 
| pitt | Mac OS X Tiger (10.4.11) / i386 | OK | OK | [ OK ] | 
                INSTALLATION WITH 'R CMD INSTALL stepNorm_1.12.0.tar.gz'
* Installing to library 'stepNorm.buildbin-libdir'
* Installing *source* package 'stepNorm' ...
** R
** inst
** help
 >>> Building/Updating help pages for package 'stepNorm'
     Formats: text html latex example 
  calcAIC                           text    html    latex   example
  calcBIC                           text    html    latex   example
  fit2DWithin                       text    html    latex   example
  fitWithin                         text    html    latex   example
  maCompPlate2                      text    html    latex   example
  makeStepList                      text    html    latex   example
  marrayFitClass                    text    html    latex   example
  seqWithinNorm                     text    html    latex   example
  stepNorm-internal                 text    html    latex
  stepWithinNorm                    text    html    latex   example
  withinNorm                        text    html    latex   example
** building package indices ...
* DONE (stepNorm)