| widgetTools 1.16.0 Jianhua Zhang
 
 | Snapshot Date: 2008-08-08 00:12:03 -0700 (Fri, 08 Aug 2008) |  | URL: https://hedgehog.fhcrc.org/bioconductor/branches/RELEASE_2_2/madman/Rpacks/widgetTools |  | Last Changed Rev: 31430 / Revision: 33132 |  | Last Changed Date: 2008-04-29 16:50:18 -0700 (Tue, 29 Apr 2008) | 
 | lamb1 | Linux (SUSE 10.1) / x86_64 | OK | OK |  | 
| wilson2 | Linux (openSUSE 10.3) / x86_64 | OK | OK |  | 
| wellington | Linux (openSUSE 10.3) / i686 | OK | OK |  | 
| liverpool | Windows Server 2003 R2 (32-bit) / x64 | [ OK ] | OK | OK | 
| pitt | Mac OS X Tiger (10.4.11) / i386 | OK | OK | OK | 
* checking for file 'widgetTools/DESCRIPTION' ... OK
* preparing 'widgetTools':
* checking DESCRIPTION meta-information ... OK
* installing the package to re-build vignettes
installing R.css in E:/biocbld/bbs-2.2-bioc/tmpdir/Rinst242003384
---------- Making package widgetTools ------------
  adding build stamp to DESCRIPTION
  installing NAMESPACE file and metadata
  installing R files
  installing inst files
  preparing package widgetTools for lazy loading
Loading required package: tcltk
Loading Tcl/Tk interface ... done
  installing man source files
  installing indices
  installing help
 >>> Building/Updating help pages for package 'widgetTools'
     Formats: text html latex example chm 
  basicPW-class                     text    html    latex   example chm
  button                            text    html    latex   example chm
  dropdownList                      text    html    latex   example chm
  makeViewer                        text    html    latex   example chm
  oneVScrList                       text    html    latex   example chm
  safeFileOpen                      text    html    latex   example chm
  tooltip                           text    html    latex   example chm
  widget-class                      text    html    latex   example chm
  widgetView-class                  text    html    latex   example chm
  writeText                         text    html    latex   example chm
Microsoft HTML Help Compiler 4.74.8702
Compiling e:\biocbld\bbs-2.2-bioc\meat\widgetTools\chm\widgetTools.chm
Compile time: 0 minutes, 1 second
11	Topics
149	Local links
0	Internet links
1	Graphic
Created e:\biocbld\bbs-2.2-bioc\meat\widgetTools\chm\widgetTools.chm, 39,780 bytes
Compression decreased file by 54,949 bytes.
  adding MD5 sums
* DONE (widgetTools)
* creating vignettes ... OK
* removing junk files
* checking for LF line-endings in source and make files
* checking for empty or unneeded directories
* building 'widgetTools_1.16.0.tar.gz'