| codelink 1.8.1 Diego Diez
 
 | Snapshot Date: 2008-08-08 00:12:03 -0700 (Fri, 08 Aug 2008) |  | URL: https://hedgehog.fhcrc.org/bioconductor/branches/RELEASE_2_2/madman/Rpacks/codelink |  | Last Changed Rev: 32625 / Revision: 33132 |  | Last Changed Date: 2008-07-08 22:44:30 -0700 (Tue, 08 Jul 2008) | 
 | lamb1 | Linux (SUSE 10.1) / x86_64 | OK | OK |  | 
| wilson2 | Linux (openSUSE 10.3) / x86_64 | OK | OK |  | 
| wellington | Linux (openSUSE 10.3) / i686 | OK | OK |  | 
| liverpool | Windows Server 2003 R2 (32-bit) / x64 | OK | OK | [ OK ] | 
| pitt | Mac OS X Tiger (10.4.11) / i386 | OK | OK | OK | 
installing R.css in E:/biocbld/bbs-2.2-bioc/meat/codelink.buildbin-libdir
Using auto-selected zip options 'codelink-ZIPDATA=zip codelink-HELP=ziponly'
---------- Making package codelink ------------
  adding build stamp to DESCRIPTION
  installing NAMESPACE file and metadata
  installing R files
  installing inst files
  installing data files
  preparing package codelink for lazy loading
Loading required package: Biobase
Loading required package: tools
Welcome to Bioconductor
  Vignettes contain introductory material. To view, type
  'openVignette()'. To cite Bioconductor, see
  'citation("Biobase")' and for packages 'citation(pkgname)'.
Loading required package: limma
Loading required package: annotate
Loading required package: AnnotationDbi
Loading required package: DBI
Loading required package: RSQLite
Loading required package: xtable
Loading required package: genefilter
Loading required package: survival
Loading required package: splines
  installing man source files
  installing indices
  zipping data
  installing help
Note: removing empty section \seealso
Note: removing empty section \seealso
Note: removing empty section \value
Note: removing empty section \details
Note: removing empty section \note
Note: removing empty section \seealso
Note: removing empty section \examples
Note: removing empty section \value
Note: removing empty section \details
Note: removing empty section \note
Note: removing empty section \seealso
Note: removing empty section \examples
Note: removing empty section \value
Note: removing empty section \details
Note: removing empty section \note
Note: removing empty section \seealso
Note: removing empty section \value
Note: removing empty section \details
Note: removing empty section \note
Note: removing empty section \seealso
Note: removing empty section \details
Note: removing empty section \note
Note: removing empty section \details
Note: removing empty section \note
Note: removing empty section \note
Note: removing empty section \seealso
Note: removing empty section \note
Note: removing empty section \seealso
Note: removing empty section \value
Note: removing empty section \details
Note: removing empty section \note
Note: removing empty section \seealso
Note: removing empty section \value
Note: removing empty section \details
Note: removing empty section \note
Note: removing empty section \seealso
Note: removing empty section \value
Note: removing empty section \note
Note: removing empty section \seealso
Note: removing empty section \value
Note: removing empty section \note
Note: removing empty section \seealso
Note: removing empty section \details
Note: removing empty section \note
Note: removing empty section \seealso
Note: removing empty section \examples
Note: removing empty section \details
Note: removing empty section \note
Note: removing empty section \seealso
Note: removing empty section \examples
Note: removing empty section \details
Note: removing empty section \note
Note: removing empty section \seealso
Note: removing empty section \details
Note: removing empty section \note
Note: removing empty section \seealso
Note: removing empty section \note
Note: removing empty section \seealso
Note: removing empty section \examples
Note: removing empty section \note
Note: removing empty section \seealso
Note: removing empty section \examples
Note: removing empty section \value
Note: removing empty section \details
Note: removing empty section \note
Note: removing empty section \seealso
Note: removing empty section \value
Note: removing empty section \details
Note: removing empty section \note
Note: removing empty section \seealso
Note: removing empty section \details
Note: removing empty section \note
Note: removing empty section \details
Note: removing empty section \note
Note: removing empty section \details
Note: removing empty section \note
Note: removing empty section \seealso
Note: removing empty section \details
Note: removing empty section \note
Note: removing empty section \seealso
Note: removing empty section \details
Note: removing empty section \note
Note: removing empty section \seealso
Note: removing empty section \details
Note: removing empty section \note
Note: removing empty section \seealso
Note: removing empty section \note
Note: removing empty section \seealso
Note: removing empty section \note
Note: removing empty section \seealso
Note: removing empty section \details
Note: removing empty section \note
Note: removing empty section \seealso
Note: removing empty section \details
Note: removing empty section \note
Note: removing empty section \seealso
Note: removing empty section \value
Note: removing empty section \details
Note: removing empty section \note
Note: removing empty section \seealso
Note: removing empty section \examples
Note: removing empty section \value
Note: removing empty section \details
Note: removing empty section \note
Note: removing empty section \seealso
Note: removing empty section \examples
Note: removing empty section \value
Note: removing empty section \details
Note: removing empty section \note
Note: removing empty section \value
Note: removing empty section \details
Note: removing empty section \note
Note: removing empty section \value
Note: removing empty section \details
Note: removing empty section \note
Note: removing empty section \seealso
Note: removing empty section \value
Note: removing empty section \details
Note: removing empty section \note
Note: removing empty section \seealso
Note: removing empty section \value
Note: removing empty section \note
Note: removing empty section \seealso
Note: removing empty section \value
Note: removing empty section \note
Note: removing empty section \seealso
Note: removing empty section \value
Note: removing empty section \details
Note: removing empty section \note
Note: removing empty section \seealso
Note: removing empty section \examples
Note: removing empty section \value
Note: removing empty section \details
Note: removing empty section \note
Note: removing empty section \seealso
Note: removing empty section \examples
Note: removing empty section \details
Note: removing empty section \note
Note: removing empty section \details
Note: removing empty section \note
Note: removing empty section \details
Note: removing empty section \note
Note: removing empty section \seealso
Note: removing empty section \details
Note: removing empty section \note
Note: removing empty section \seealso
Note: removing empty section \note
Note: removing empty section \seealso
Note: removing empty section \note
Note: removing empty section \seealso
Note: removing empty section \details
Note: removing empty section \note
Note: removing empty section \examples
Note: removing empty section \details
Note: removing empty section \note
Note: removing empty section \examples
Note: removing empty section \details
Note: removing empty section \note
Note: removing empty section \seealso
Note: removing empty section \examples
Note: removing empty section \details
Note: removing empty section \note
Note: removing empty section \seealso
Note: removing empty section \examples
Note: removing empty section \value
Note: removing empty section \note
Note: removing empty section \seealso
Note: removing empty section \value
Note: removing empty section \note
Note: removing empty section \seealso
 >>> Building/Updating help pages for package 'codelink'
     Formats: text html latex example chm 
  Codelink-class                    text    html    latex   example chm
  Nondocumented-objects             text    html    latex           chm
  SNR                               text    html    latex           chm
  arrayNew                          text    html    latex   example chm
  arraySize                         text    html    latex           chm
  as.matrix.Codelink                text    html    latex   example chm
  bkgdCorrect                       text    html    latex   example chm
  codelink.example                  text    html    latex           chm
  codelink.exprset                  text    html    latex           chm
  createWeights                     text    html    latex   example chm
  cutCV                             text    html    latex   example chm
  decDetect                         text    html    latex           chm
  dim.Codelink                      text    html    latex   example chm
  fc2Cond                           text    html    latex           chm
  imageCodelink                     text    html    latex   example chm
  logCodelink                       text    html    latex   example chm
  mergeArray                        text    html    latex   example chm
  na2false                          text    html    latex   example chm
  normalize                         text    html    latex   example chm
  normalize.loess                   text    html    latex   example chm
  plotCV                            text    html    latex           chm
  plotCorrelation                   text    html    latex   example chm
  plotDensities                     text    html    latex   example chm
  plotMA                            text    html    latex   example chm
  printHead                         text    html    latex           chm
  readCodelink                      text    html    latex   example chm
  readHeader                        text    html    latex   example chm
  readHeaderXLS                     text    html    latex   example chm
  reportCodelink                    text    html    latex           chm
  selCV                             text    html    latex           chm
  writeCodelink                     text    html    latex   example chm
  zipping help files
Microsoft HTML Help Compiler 4.74.8702
Compiling e:\biocbld\bbs-2.2-bioc\meat\R.INSTALL.6108\codelink\chm\codelink.chm
Compile time: 0 minutes, 0 seconds
32	Topics
66	Local links
0	Internet links
1	Graphic
Created e:\biocbld\bbs-2.2-bioc\meat\R.INSTALL.6108\codelink\chm\codelink.chm, 38,697 bytes
Compression decreased file by 48,313 bytes.
  adding MD5 sums
packaged installation of package 'codelink' as codelink_1.8.1.zip
* DONE (codelink)