| PCpheno 1.2.0 Nolwenn Le Meur
 
 | Snapshot Date: 2008-08-08 00:12:03 -0700 (Fri, 08 Aug 2008) |  | URL: https://hedgehog.fhcrc.org/bioconductor/branches/RELEASE_2_2/madman/Rpacks/PCpheno |  | Last Changed Rev: 31430 / Revision: 33132 |  | Last Changed Date: 2008-04-29 16:50:18 -0700 (Tue, 29 Apr 2008) | 
 | lamb1 | Linux (SUSE 10.1) / x86_64 | OK | WARNINGS |  | 
| wilson2 | Linux (openSUSE 10.3) / x86_64 | OK | WARNINGS |  | 
| wellington | Linux (openSUSE 10.3) / i686 | OK | WARNINGS |  | 
| liverpool | Windows Server 2003 R2 (32-bit) / x64 | [ OK ] | WARNINGS | OK | 
| pitt | Mac OS X Tiger (10.4.11) / i386 | OK | WARNINGS | OK | 
* checking for file 'PCpheno/DESCRIPTION' ... OK
* preparing 'PCpheno':
* checking DESCRIPTION meta-information ... OK
* installing the package to re-build vignettes
installing R.css in E:/biocbld/bbs-2.2-bioc/tmpdir/Rinst539658871
---------- Making package PCpheno ------------
  adding build stamp to DESCRIPTION
  installing NAMESPACE file and metadata
  installing R files
  installing inst files
  installing data files
  installing man source files
  installing indices
  not zipping data
  installing help
 >>> Building/Updating help pages for package 'PCpheno'
     Formats: text html latex example chm 
  CoHyperGParams-class              text    html    latex           chm
  CoHyperGResult-class              text    html    latex   example chm
  Dudley                            text    html    latex   example chm
  Giaever                           text    html    latex   example chm
  HI                                text    html    latex   example chm
  KEGG2SCISI                        text    html    latex   example chm
  Kastenmayer                       text    html    latex   example chm
  Lesage                            text    html    latex   example chm
  Osterberg                         text    html    latex   example chm
  PCpheno.package                   text    html    latex           chm
  SGDphenoL                         text    html    latex   example chm
  YEASTOHNOLOG                      text    html    latex   example chm
  buildFDMat                        text    html    latex   example chm
  categoryToEntrezBuilder           text    html    latex   example chm
  complexStatus                     text    html    latex   example chm
  deResult-class                    text    html    latex   example chm
  densityEstimate                   text    html    latex   example chm
  getDescr                          text    html    latex   example chm
  getFDgene                         text    html    latex   example chm
  graphTheory                       text    html    latex   example chm
  gtResult-class                    text    html    latex   example chm
  overlap                           text    html    latex   example chm
  plot                              text    html    latex   example chm
  ppiInteraction                    text    html    latex   example chm
  reduceM                           text    html    latex   example chm
  testResult-class                  text    html    latex           chm
  truncName                         text    html    latex   example chm
Microsoft HTML Help Compiler 4.74.8702
Compiling e:\biocbld\bbs-2.2-bioc\meat\PCpheno\chm\PCpheno.chm
Compile time: 0 minutes, 0 seconds
28	Topics
109	Local links
9	Internet links
1	Graphic
Created e:\biocbld\bbs-2.2-bioc\meat\PCpheno\chm\PCpheno.chm, 55,528 bytes
Compression decreased file by 49,539 bytes.
  adding MD5 sums
* DONE (PCpheno)
* creating vignettes ... OK
* removing junk files
* checking for LF line-endings in source and make files
* checking for empty or unneeded directories
* building 'PCpheno_1.2.0.tar.gz'