hypergraph 1.12.0 Robert Gentleman
 | Snapshot Date: 2008-08-08 00:12:03 -0700 (Fri, 08 Aug 2008) |  | URL: https://hedgehog.fhcrc.org/bioconductor/branches/RELEASE_2_2/madman/Rpacks/hypergraph |  | Last Changed Rev: 31430 / Revision: 33132 |  | Last Changed Date: 2008-04-29 16:50:18 -0700 (Tue, 29 Apr 2008) |  
  | lamb1  | Linux (SUSE 10.1) / x86_64  |  OK  |  OK  |  | 
| wilson2  | Linux (openSUSE 10.3) / x86_64  |  OK  |  OK  |  | 
| wellington  | Linux (openSUSE 10.3) / i686  |  OK  |  OK  |  | 
| liverpool  | Windows Server 2003 R2 (32-bit) / x64  |  OK  |  OK  |  OK  | 
| pitt  | Mac OS X Tiger (10.4.11) / i386  |  OK  |  OK  | [ OK ] | 
                INSTALLATION WITH 'R CMD INSTALL hypergraph_1.12.0.tar.gz'
* Installing to library 'hypergraph.buildbin-libdir'
* Installing *source* package 'hypergraph' ...
** R
** inst
** preparing package for lazy loading
Loading required package: graph
** help
Note: removing empty section \seealso
Note: removing empty section \seealso
 >>> Building/Updating help pages for package 'hypergraph'
     Formats: text html latex example 
  DirectedHyperedge-class           text    html    latex   example
  DirectedHyperedge                 text    html    latex
  Hyperedge-class                   text    html    latex   example
  Hyperedge                         text    html    latex
  Hypergraph-class                  text    html    latex   example
  Hypergraph                        text    html    latex
  kCores                            text    html    latex   example
  l2hel                             text    html    latex   example
  vCover                            text    html    latex   example
** building package indices ...
* DONE (hypergraph)