| ontoTools 1.16.0 Vince Carey
 
 | Snapshot Date: 2008-08-08 00:12:03 -0700 (Fri, 08 Aug 2008) |  | URL: https://hedgehog.fhcrc.org/bioconductor/branches/RELEASE_2_2/madman/Rpacks/ontoTools |  | Last Changed Rev: 31430 / Revision: 33132 |  | Last Changed Date: 2008-04-29 16:50:18 -0700 (Tue, 29 Apr 2008) | 
 | lamb1 | Linux (SUSE 10.1) / x86_64 | OK | OK |  | 
| wilson2 | Linux (openSUSE 10.3) / x86_64 | OK | OK |  | 
| wellington | Linux (openSUSE 10.3) / i686 | OK | OK |  | 
| liverpool | Windows Server 2003 R2 (32-bit) / x64 | OK | OK | OK | 
| pitt | Mac OS X Tiger (10.4.11) / i386 | OK | OK | [ OK ] | 
                INSTALLATION WITH 'R CMD INSTALL ontoTools_1.16.0.tar.gz'
* Installing to library 'ontoTools.buildbin-libdir'
* Installing *source* package 'ontoTools' ...
** R
** data
** inst
** preparing package for lazy loading
Loading required package: graph
Loading required package: SparseM
Package SparseM (0.78) loaded.  To cite, see citation("SparseM")
Loading required package: GO.db
Loading required package: AnnotationDbi
Loading required package: Biobase
Loading required package: tools
Welcome to Bioconductor
  Vignettes contain introductory material. To view, type
  'openVignette()'. To cite Bioconductor, see
  'citation("Biobase")' and for packages 'citation(pkgname)'.
Loading required package: DBI
Loading required package: RSQLite
Loading required package: annotate
Loading required package: xtable
Creating a new generic function for "grep" in "ontoTools"
** help
Note: removing empty section \references
Note: removing empty section \value
Note: removing empty section \references
Note: removing empty section \references
Note: removing empty section \value
Note: removing empty section \details
Note: removing empty section \references
Note: removing empty section \details
Note: removing empty section \examples
Note: removing empty section \examples
Note: removing empty section \source
Note: removing empty section \references
Note: removing empty section \references
Note: removing empty section \examples
Note: removing empty section \references
 >>> Building/Updating help pages for package 'ontoTools'
     Formats: text html latex example 
  A.csr                             text    html    latex
  GDI                               text    html    latex   example
  LLGOMFcp                          text    html    latex
  OOC-class                         text    html    latex   example
  SGDIvocab                         text    html    latex   example
  STMA                              text    html    latex   example
  accessMat                         text    html    latex
  buildGOgraph                      text    html    latex   example
  compoundGraph-class               text    html    latex
  depthStruct                       text    html    latex   example
  gomfAmat                          text    html    latex
  litOnto                           text    html    latex
  namedSparse-class                 text    html    latex   example
  ontology-class                    text    html    latex   example
  ooMapLL2GOMFdemo                  text    html    latex
  otkvEnv2namedSparse               text    html    latex   example
  rootedDAG-class                   text    html    latex
  semsim                            text    html    latex   example
  taggedHierNomenclature-class      text    html    latex   example
  toDot-methods                     text    html    latex   example
** building package indices ...
* DONE (ontoTools)