| vbmp 1.8.0 Nicola Lama
 
 | Snapshot Date: 2008-08-08 00:12:03 -0700 (Fri, 08 Aug 2008) |  | URL: https://hedgehog.fhcrc.org/bioconductor/branches/RELEASE_2_2/madman/Rpacks/vbmp |  | Last Changed Rev: 31430 / Revision: 33132 |  | Last Changed Date: 2008-04-29 16:50:18 -0700 (Tue, 29 Apr 2008) | 
 | lamb1 | Linux (SUSE 10.1) / x86_64 | OK | OK |  | 
| wilson2 | Linux (openSUSE 10.3) / x86_64 | OK | OK |  | 
| wellington | Linux (openSUSE 10.3) / i686 | OK | OK |  | 
| liverpool | Windows Server 2003 R2 (32-bit) / x64 | OK | OK | OK | 
| pitt | Mac OS X Tiger (10.4.11) / i386 | OK | OK | [ OK ] | 
                INSTALLATION WITH 'R CMD INSTALL vbmp_1.8.0.tar.gz'
* Installing to library 'vbmp.buildbin-libdir'
* Installing *source* package 'vbmp' ...
** R
** data
** inst
** preparing package for lazy loading
** help
 >>> Building/Updating help pages for package 'vbmp'
     Formats: text html latex example 
  BRCA12                            text    html    latex
  covParams                         text    html    latex
  lowerBound                        text    html    latex
  plotDiagnostics                   text    html    latex
  predClass                         text    html    latex
  predError                         text    html    latex
  predLik                           text    html    latex
  predictCPP                        text    html    latex
  vbmp                              text    html    latex   example
** building package indices ...
* DONE (vbmp)