| BufferedMatrixMethods 1.4.0 B. M. Bolstad
 
 | Snapshot Date: 2008-08-08 00:12:03 -0700 (Fri, 08 Aug 2008) |  | URL: https://hedgehog.fhcrc.org/bioconductor/branches/RELEASE_2_2/madman/Rpacks/BufferedMatrixMethods |  | Last Changed Rev: 31430 / Revision: 33132 |  | Last Changed Date: 2008-04-29 16:50:18 -0700 (Tue, 29 Apr 2008) | 
 | lamb1 | Linux (SUSE 10.1) / x86_64 | OK | OK |  | 
| wilson2 | Linux (openSUSE 10.3) / x86_64 | OK | OK |  | 
| wellington | Linux (openSUSE 10.3) / i686 | OK | OK |  | 
| liverpool | Windows Server 2003 R2 (32-bit) / x64 | OK | OK | [ OK ] | 
| pitt | Mac OS X Tiger (10.4.11) / i386 | OK | OK | OK | 
installing R.css in E:/biocbld/bbs-2.2-bioc/meat/BufferedMatrixMethods.buildbin-libdir
Using auto-selected zip options ''
---------- Making package BufferedMatrixMethods ------------
  adding build stamp to DESCRIPTION
  installing NAMESPACE file and metadata
  making DLL ...
making init_package.d from init_package.c
making preprocess_bm.d from preprocess_bm.c
gcc  -std=gnu99  -IE:/biocbld/bbs-2.2-bioc/R/include -I"E:/biocbld/bbs-2.2-bioc/R/library/BufferedMatrix/include"    -O3 -Wall  -c init_package.c -o init_package.o
gcc  -std=gnu99  -IE:/biocbld/bbs-2.2-bioc/R/include -I"E:/biocbld/bbs-2.2-bioc/R/library/BufferedMatrix/include"    -O3 -Wall  -c preprocess_bm.c -o preprocess_bm.o
preprocess_bm.c: In function 'bm_rma_bg_correct':
preprocess_bm.c:343: warning: unused variable 'i'
preprocess_bm.c: In function 'R_bm_rma_bg_correct':
preprocess_bm.c:377: warning: unused variable 'current_mode'
preprocess_bm.c: In function 'R_bm_quantile_normalize':
preprocess_bm.c:592: warning: unused variable 'current_mode'
preprocess_bm.c: In function 'R_bm_rma_bg_correct_quantile_normalize':
preprocess_bm.c:1150: warning: unused variable 'current_mode'
preprocess_bm.c: At top level:
preprocess_bm.c:452: warning: 'min' defined but not used
windres --preprocessor="gcc -E -xc -DRC_INVOKED" -I E:/biocbld/bbs-2.2-bioc/R/include  -i BufferedMatrixMethods_res.rc -o BufferedMatrixMethods_res.o
gcc  -std=gnu99  -shared -s  -o BufferedMatrixMethods.dll BufferedMatrixMethods.def init_package.o preprocess_bm.o BufferedMatrixMethods_res.o  -LE:/biocbld/bbs-2.2-bioc/R/bin    -lR
  ... DLL made
  installing DLL
  installing R files
  preparing package BufferedMatrixMethods for lazy loading
Loading required package: BufferedMatrix
  installing man source files
  installing indices
  installing help
 >>> Building/Updating help pages for package 'BufferedMatrixMethods'
     Formats: text html latex example chm 
  BM_affyDataInput                  text    html    latex           chm
  BM_justRMA                        text    html    latex           chm
  BM_readcelfiles                   text    html    latex           chm
  rmapreprocess.bufferedmatrix      text    html    latex           chm
Microsoft HTML Help Compiler 4.74.8702
Compiling e:\biocbld\bbs-2.2-bioc\meat\R.INSTALL.2972\BufferedMatrixMethods\chm\BufferedMatrixMethods.chm
Compile time: 0 minutes, 0 seconds
5	Topics
14	Local links
0	Internet links
1	Graphic
Created e:\biocbld\bbs-2.2-bioc\meat\R.INSTALL.2972\BufferedMatrixMethods\chm\BufferedMatrixMethods.chm, 19,880 bytes
Compression decreased file by 1,994 bytes.
  adding MD5 sums
packaged installation of package 'BufferedMatrixMethods' as BufferedMatrixMethods_1.4.0.zip
* DONE (BufferedMatrixMethods)