| GraphAT 1.12.0 Thomas LaFramboise
 
 | Snapshot Date: 2008-08-08 00:12:03 -0700 (Fri, 08 Aug 2008) |  | URL: https://hedgehog.fhcrc.org/bioconductor/branches/RELEASE_2_2/madman/Rpacks/GraphAT |  | Last Changed Rev: 31430 / Revision: 33132 |  | Last Changed Date: 2008-04-29 16:50:18 -0700 (Tue, 29 Apr 2008) | 
 | lamb1 | Linux (SUSE 10.1) / x86_64 | OK | OK |  | 
| wilson2 | Linux (openSUSE 10.3) / x86_64 | OK | OK |  | 
| wellington | Linux (openSUSE 10.3) / i686 | OK | OK |  | 
| liverpool | Windows Server 2003 R2 (32-bit) / x64 | OK | [ OK ] | OK | 
| pitt | Mac OS X Tiger (10.4.11) / i386 | OK | OK | OK | 
* checking for working pdflatex ... OK
* using log directory 'E:/biocbld/bbs-2.2-bioc/meat/GraphAT.Rcheck'
* using R version 2.7.1 (2008-06-23)
* using session charset: ISO8859-1
* checking for file 'GraphAT/DESCRIPTION' ... OK
* this is package 'GraphAT' version '1.12.0'
* checking package dependencies ... OK
* checking if this is a source package ... OK
* checking whether package 'GraphAT' can be installed ... OK
* checking package directory ... OK
* checking for portable file names ... OK
* checking DESCRIPTION meta-information ... OK
* checking top-level files ... OK
* checking index information ... OK
* checking package subdirectories ... OK
* checking R files for non-ASCII characters ... OK
* checking R files for syntax errors ... OK
* checking whether the package can be loaded ... OK
* checking whether the package can be loaded with stated dependencies ... OK
* checking for unstated dependencies in R code ... OK
* checking S3 generic/method consistency ... OK
* checking replacement functions ... OK
* checking foreign function calls ... OK
* checking R code for possible problems ... OK
* checking Rd files ... OK
* checking Rd cross-references ... OK
* checking for missing documentation entries ... OK
* checking for code/documentation mismatches ... OK
* checking Rd \usage sections ... OK
* checking data for non-ASCII characters ... OK
* creating GraphAT-Ex.R ... OK
* checking examples ... OK
* creating GraphAT-manual.tex ... OK
* checking GraphAT-manual.tex using pdflatex ... OK
 
installing R.css in E:/biocbld/bbs-2.2-bioc/meat/GraphAT.Rcheck
---------- Making package GraphAT ------------
  adding build stamp to DESCRIPTION
  installing R files
  installing data files
  installing man source files
  installing indices
  not zipping data
  installing help
Note: removing empty section \references
Note: removing empty section \references
 >>> Building/Updating help pages for package 'GraphAT'
     Formats: text html latex example chm 
  Phenoclusters                     text    html    latex   example chm
  causton                           text    html    latex   example chm
  cellcycle                         text    html    latex   example chm
  clust2Mat                         text    html    latex   example chm
  depthmat                          text    html    latex   example chm
  getpvalue                         text    html    latex   example chm
  giaever                           text    html    latex   example chm
  mRNAclusters                      text    html    latex   example chm
  makeClustM                        text    html    latex   example chm
  mat2UndirG                        text    html    latex   example chm
  permPower                         text    html    latex   example chm
  perms                             text    html    latex   example chm
Microsoft HTML Help Compiler 4.74.8702
Compiling e:\biocbld\bbs-2.2-bioc\meat\GraphAT.Rcheck\00_pkg_src\GraphAT\chm\GraphAT.chm
Compile time: 0 minutes, 1 second
13	Topics
37	Local links
5	Internet links
1	Graphic
Created e:\biocbld\bbs-2.2-bioc\meat\GraphAT.Rcheck\00_pkg_src\GraphAT\chm\GraphAT.chm, 29,544 bytes
Compression decreased file by 8,472 bytes.
  adding MD5 sums
* DONE (GraphAT)