| beadarraySNP 1.6.0 Jan Oosting
 
 | Snapshot Date: 2008-08-08 00:12:03 -0700 (Fri, 08 Aug 2008) |  | URL: https://hedgehog.fhcrc.org/bioconductor/branches/RELEASE_2_2/madman/Rpacks/beadarraySNP |  | Last Changed Rev: 31430 / Revision: 33132 |  | Last Changed Date: 2008-04-29 16:50:18 -0700 (Tue, 29 Apr 2008) | 
 | lamb1 | Linux (SUSE 10.1) / x86_64 | OK | OK |  | 
| wilson2 | Linux (openSUSE 10.3) / x86_64 | OK | OK |  | 
| wellington | Linux (openSUSE 10.3) / i686 | OK | OK |  | 
| liverpool | Windows Server 2003 R2 (32-bit) / x64 | [ OK ] | OK | OK | 
| pitt | Mac OS X Tiger (10.4.11) / i386 | OK | OK | OK | 
* checking for file 'beadarraySNP/DESCRIPTION' ... OK
* preparing 'beadarraySNP':
* checking DESCRIPTION meta-information ... OK
* installing the package to re-build vignettes
installing R.css in E:/biocbld/bbs-2.2-bioc/tmpdir/Rinst474879089
---------- Making package beadarraySNP ------------
  adding build stamp to DESCRIPTION
  installing NAMESPACE file and metadata
  installing R files
  installing inst files
  installing data files
  preparing package beadarraySNP for lazy loading
Loading required package: tools
Loading required package: Biobase
Welcome to Bioconductor
  Vignettes contain introductory material. To view, type
  'openVignette()'. To cite Bioconductor, see
  'citation("Biobase")' and for packages 'citation(pkgname)'.
Loading required package: quantsmooth
Loading required package: quantreg
Loading required package: SparseM
Loading required package: lodplot
Loading required package: grid
  installing man source files
  installing indices
  not zipping data
  installing help
 >>> Building/Updating help pages for package 'beadarraySNP'
     Formats: text html latex example chm 
  BeadstudioQC                      text    html    latex           chm
  CopynumberConversion              text    html    latex           chm
  Datasets                          text    html    latex           chm
  GenomicReports                    text    html    latex   example chm
  PolarTransforms                   text    html    latex   example chm
  QCIllumina-class                  text    html    latex           chm
  Sample_Map2Samplesheet            text    html    latex           chm
  alterCN                           text    html    latex           chm
  arrayType                         text    html    latex           chm
  backgroundCorrect.SNP             text    html    latex   example chm
  backgroundEstimate                text    html    latex           chm
  calculateLOH                      text    html    latex           chm
  calculateQCarray                  text    html    latex   example chm
  class.SnpSetIllumina              text    html    latex           chm
  compareGenotypes                  text    html    latex   example chm
  createCNSummary                   text    html    latex           chm
  getDNAindex                       text    html    latex           chm
  heterozygosity                    text    html    latex   example chm
  heterozygousSNPs                  text    html    latex   example chm
  interactiveCNselect               text    html    latex           chm
  normalizeBetweenAlleles.SNP       text    html    latex   example chm
  normalizeLoci.SNP                 text    html    latex   example chm
  normalizeWithinArrays.SNP         text    html    latex   example chm
  pdfChromosomesSmoothCopyNumber    text    html    latex   example chm
  pdfQC                             text    html    latex           chm
  plotGoldenGate4OPA                text    html    latex           chm
  plotQC                            text    html    latex   example chm
  read.SnpSetIllumina               text    html    latex   example chm
  removeLowQualityProbes            text    html    latex           chm
  removeLowQualitySamples           text    html    latex   example chm
  renameOPA                         text    html    latex           chm
  reportGenotypeSegmentation        text    html    latex           chm
  reportSamplePanelQC-methods       text    html    latex   example chm
  segmentate                        text    html    latex           chm
  setRealCN                         text    html    latex           chm
  smoothed.intensity                text    html    latex           chm
  standardNormalization             text    html    latex   example chm
Microsoft HTML Help Compiler 4.74.8702
Compiling e:\biocbld\bbs-2.2-bioc\meat\beadarraySNP\chm\beadarraySNP.chm
Compile time: 0 minutes, 0 seconds
38	Topics
188	Local links
0	Internet links
1	Graphic
Created e:\biocbld\bbs-2.2-bioc\meat\beadarraySNP\chm\beadarraySNP.chm, 56,837 bytes
Compression decreased file by 77,170 bytes.
  adding MD5 sums
* DONE (beadarraySNP)
* creating vignettes ... OK
* removing junk files
* checking for LF line-endings in source and make files
* checking for empty or unneeded directories
* building 'beadarraySNP_1.6.0.tar.gz'