| Package STATUS - Package status is indicated by one of the following glyphs: | 
|  -  TIMEOUT  | 
BUILD, CHECK or BUILD BIN of package took more than 40 minutes | 
|  -  ERROR  | 
BUILD, CHECK or BUILD BIN of package returned an error | 
|  -  WARNINGS  | 
CHECK of package produced warnings | 
|  -  OK  | 
BUILD, CHECK or BUILD BIN of package was OK | 
|  - skipped  | 
CHECK or BUILD BIN of package was skipped because the BUILD step failed (or because something bad happened with the Build System itself) | 
| Click on any glyph in the report below to see the status details (command output). | 
| wilson2 | 
Linux (openSUSE 11.1) / x86_64  |  |  |  | 
| [liverpool] | 
Windows Server 2003 R2 (32-bit) / x64  |  |  |  | 
| pitt | 
Mac OS X Tiger (10.4.11) / i386  |  |  |  | 
| pelham | 
Mac OS X Leopard (10.5.6) / i386  |  |  |  | 
 | 
| A [A] B  C  D  E  F  G  H  I  J  K  L  M  N  O  P  Q  R  S  T  U  V  W  X  Y  Z  | 
| ABarray 1.10.0 | Yongming Andrew Sun |  OK  |  OK  |  OK  | 
| aCGH 1.16.0 | Jane Fridlyand |  OK  |  OK  |  OK  | 
| ACME 1.8.0 | Sean Davis |  OK  |  OK  |  OK  | 
| adSplit 1.12.0 | Claudio Lottaz |  OK  |  OK  |  OK  | 
| affxparser 1.14.2 | Kasper Daniel Hansen |  OK  |  WARNINGS  |  OK  | 
| affy 1.20.2 | Rafael A. Irizarry |  OK  |  OK  |  OK  | 
| affycomp 1.18.0 | Rafael A. Irizarry |  OK  |  OK  |  OK  | 
| AffyCompatible 1.2.0 | Martin Morgan |  OK  |  WARNINGS  |  OK  | 
| affyContam 1.0.0 | V. Carey |  OK  |  OK  |  OK  | 
| affycoretools 1.14.1 | James W. MacDonald |  OK  |  OK  |  OK  | 
| AffyExpress 1.8.0 | Xuejun Arthur Li |  OK  |  OK  |  OK  | 
| affyio 1.10.1 | Benjamin Milo Bolstad |  OK  |  WARNINGS  |  OK  | 
| affylmGUI 1.16.0 | Keith Satterley |  OK  |  OK  |  OK  | 
| affyPara 1.2.1 | Markus Schmidberger |  OK  |  OK  |  OK  | 
| affypdnn 1.16.0 | Laurent Gautier |  OK  |  OK  |  OK  | 
| affyPLM 1.18.1 | Ben Bolstad |  OK  |  OK  |  OK  | 
| affyQCReport 1.20.0 | Craig Parman |  OK  |  OK  |  OK  | 
| Agi4x44PreProcess 1.2.0 | Pedro Lopez-Romero |  OK  |  OK  |  OK  | 
| altcdfenvs 2.4.0 | Laurent Gautier |  OK  |  OK  |  OK  | 
| annaffy 1.14.0 | Colin A. Smith |  OK  |  OK  |  OK  | 
| AnnBuilder 1.20.0 | J. Zhang |  OK  |  OK  |  OK  | 
| annotate 1.20.1 | Biocore Team c/o BioC user list |  OK  |  OK  |  OK  | 
| AnnotationDbi 1.4.3 | Biocore Team c/o BioC user list |  OK  |  OK  |  OK  | 
| annotationTools 1.12.0 | Alexandre Kuhn |  OK  |  OK  |  OK  | 
| apComplex 2.8.0 | Denise Scholtens |  OK  |  OK  |  OK  | 
| aroma.light 1.10.0 | Henrik Bengtsson |  OK  |  WARNINGS  |  OK  | 
| ArrayExpress 1.2.3 | Audrey Kauffmann |  OK  |  OK  |  OK  | 
| arrayMvout 1.0.0 | V. Carey |  OK  |  OK  |  OK  | 
| arrayQuality 1.20.0 | Agnes Paquet |  OK  |  OK  |  OK  | 
| arrayQualityMetrics 1.8.1 | Audrey Kauffmann |  OK  |  OK  |  OK  | 
| ArrayTools 1.2.1 | Arthur Li |  OK  |  OK  |  OK  | 
 | 
| B  A [B] C  D  E  F  G  H  I  J  K  L  M  N  O  P  Q  R  S  T  U  V  W  X  Y  Z  | 
| BAC 1.2.0 | Raphael Gottardo |  OK  |  OK  |  OK  | 
| BCRANK 1.4.1 | Adam Ameur |  OK  |  OK  |  OK  | 
| beadarray 1.10.0 | Mark Dunning |  OK  |  OK  |  OK  | 
| beadarraySNP 1.8.0 | Jan Oosting |  OK  |  OK  |  OK  | 
| bgafun 1.4.0 | Iain Wallace |  OK  |  OK  |  OK  | 
| BGmix 1.2.0 | Alex Lewin |  OK  |  OK  |  OK  | 
| bgx 1.6.0 | Ernest Turro |  OK  |  OK  |  OK  | 
| BicARE 1.0.0 | Pierre Gestraud , |  OK  |  OK  |  OK  | 
| Biobase 2.2.2 | Biocore Team c/o BioC user list |  OK  |  OK  |  OK  | 
| BiocCaseStudies 1.4.0 | Biocore Team c/o BioC user list |  OK  |  OK  |  OK  | 
| biocGraph 1.4.0 | Li Long |  ERROR  |  skipped  |  skipped  | 
| biocViews 1.10.6 | Biocore Team c/o BioC user list |  OK  |  OK  |  OK  | 
| bioDist 1.14.0 | Biocore Team c/o BioC user list |  OK  |  OK  |  OK  | 
| biomaRt 1.16.0 | Steffen Durinck |  OK  |  OK  |  OK  | 
| BioMVCClass 1.10.0 | Elizabeth Whalen |  OK  |  OK  |  OK  | 
| Biostrings 2.10.22 | H. Pages |  OK  |  WARNINGS  |  OK  | 
| bridge 1.6.0 | Raphael Gottardo |  OK  |  OK  |  OK  | 
| BSgenome 1.10.5 | H. Pages |  OK  |  OK  |  OK  | 
| BufferedMatrix 1.6.0 | Benjamin Milo Bolstad |  OK  |  OK  |  OK  | 
| BufferedMatrixMethods 1.6.0 | B. M. Bolstad |  OK  |  OK  |  OK  | 
 | 
| C  A  B [C] D  E  F  G  H  I  J  K  L  M  N  O  P  Q  R  S  T  U  V  W  X  Y  Z  | 
| CALIB 1.8.0 | Hui Zhao |  OK  |  OK  |  OK  | 
| Category 2.8.4 | Robert Gentleman |  OK  |  OK  |  OK  | 
| cellHTS 1.12.0 | Ligia Bras |  OK  |  OK  |  OK  | 
| cellHTS2 2.6.0 | Florian Hahne |  OK  |  WARNINGS  |  OK  | 
| CGHbase 1.0.0 | Sjoerd Vosse |  OK  |  OK  |  OK  | 
| CGHcall 2.0.0 | Sjoerd Vosse |  OK  |  WARNINGS  |  OK  | 
| cghMCR 1.12.0 | J. Zhang |  OK  |  OK  |  OK  | 
| CGHregions 1.0.0 | Sjoerd Vosse |  OK  |  OK  |  OK  | 
| ChemmineR 1.2.0 | Y. Eddie Cao |  OK  |  OK  |  OK  | 
| clusterStab 1.14.0 | James W. MacDonald |  OK  |  OK  |  OK  | 
| CMA 1.0.0 | Martin Slawski | N O T   S U P P O R T E D | 
| CoCiteStats 1.14.0 | R. Gentleman |  OK  |  OK  |  OK  | 
| codelink 1.10.0 | Diego Diez |  OK  |  OK  |  OK  | 
| convert 1.18.0 | Yee Hwa (Jean) Yang |  OK  |  OK  |  OK  | 
| copa 1.10.0 | James W. MacDonald |  OK  |  OK  |  OK  | 
| CORREP 1.8.0 | Dongxiao Zhu |  OK  |  OK  |  OK  | 
| cosmo 1.8.0 | Oliver Bembom |  OK  |  OK  |  OK  | 
| cosmoGUI 1.8.0 | Oliver Bembom |  OK  |  OK  |  OK  | 
| ctc 1.16.0 | Antoine Lucas |  OK  |  OK  |  OK  | 
 | 
| D  A  B  C [D] E  F  G  H  I  J  K  L  M  N  O  P  Q  R  S  T  U  V  W  X  Y  Z  | 
| daMA 1.14.0 | Jobst Landgrebe |  OK  |  OK  |  OK  | 
| DEDS 1.16.0 | Yuanyuan Xiao |  OK  |  OK  |  OK  | 
| DFP 1.0.0 | Rodrigo Alvarez-Glez |  OK  |  OK  |  OK  | 
| diffGeneAnalysis 1.24.0 | Choudary Jagarlamudi |  OK  |  OK  |  OK  | 
| DNAcopy 1.16.0 | Venkatraman E. Seshan |  OK  |  OK  |  OK  | 
| domainsignatures 1.2.0 | Florian Hahne |  OK  |  OK  |  OK  | 
| dualKS 1.2.0 | Eric J. Kort |  OK  |  OK  |  OK  | 
| DynDoc 1.20.0 | Biocore Team c/o BioC user list |  OK  |  OK  |  OK  | 
 | 
| E  A  B  C  D [E] F  G  H  I  J  K  L  M  N  O  P  Q  R  S  T  U  V  W  X  Y  Z  | 
| EBarrays 2.6.0 | Ming Yuan |  OK  |  OK  |  OK  | 
| EBImage 2.6.0 | Gregoire Pau |  OK  |  OK  |  OK  | 
| ecolitk 1.14.0 | Laurent |  OK  |  OK  |  OK  | 
| edd 1.20.0 | Vince Carey |  OK  |  OK  |  OK  | 
| edgeR 1.0.4 | Mark Robinson |  OK  |  OK  |  OK  | 
| exonmap 2.0.03 | Crispin Miller |  OK  |  OK  |  OK  | 
| explorase 1.6.0 | Michael Lawrence |  OK  |  OK  |  OK  | 
| externalVector 1.8.0 | Biocore Team c/o BioC user list |  OK  |  OK  |  OK  | 
 | 
| F  A  B  C  D  E [F] G  H  I  J  K  L  M  N  O  P  Q  R  S  T  U  V  W  X  Y  Z  | 
| factDesign 1.16.0 | Denise Scholtens |  OK  |  OK  |  OK  | 
| fbat 1.6.0 | The R Genetics Project |  OK  |  OK  |  OK  | 
| fdrame 1.14.0 | Effi Kenigsberg |  OK  |  OK  |  OK  | 
| flowClust 1.8.1 | Raphael Gottardo |  OK  |  OK  |  OK  | 
| flowCore 1.8.3 | Nolwenn Le Meur |  OK  |  OK  |  OK  | 
| flowQ 1.2.0 | N. Le Meur |  OK  |  OK  |  OK  | 
| flowUtils 1.2.0 | Nishant Gopalakrishnan |  OK  |  OK  |  OK  | 
| flowViz 1.6.2 | Florian Hahne |  OK  |  OK  |  OK  | 
 | 
| G  A  B  C  D  E  F [G] H  I  J  K  L  M  N  O  P  Q  R  S  T  U  V  W  X  Y  Z  | 
| gaga 1.2.0 | David Rossell |  OK  |  OK  |  OK  | 
| gaggle 1.10.0 | Dan Tenenbaum |  OK  |  OK  |  OK  | 
| gcrma 2.14.1 | Z. Wu |  OK  |  OK  |  OK  | 
| genArise 1.18.0 | IFC Development Team |  OK  |  OK  |  OK  | 
| genefilter 1.22.0 | Biocore Team c/o BioC user list |  OK  |  OK  |  OK  | 
| GeneMeta 1.14.0 | Biocore Team c/o BioC user list |  OK  |  OK  |  OK  | 
| geneplotter 1.20.0 | Biocore Team c/o BioC user list |  OK  |  OK  |  OK  | 
| GeneR 2.12.0 | Y. d'Aubenton-Carafa |  OK  |  OK  |  OK  | 
| geneRecommender 1.14.0 | Greg Hather |  OK  |  OK  |  OK  | 
| GeneRfold 1.0.0 | Antoine Lucas | N O T   S U P P O R T E D | 
| GeneSelector 1.2.0 | Martin Slawski |  OK  |  OK  |  OK  | 
| GeneSpring 2.16.0 | Thon de Boer |  OK  |  OK  |  OK  | 
| GeneticsBase 1.8.0 | The R Genetics Project |  OK  |  OK  |  OK  | 
| GeneticsDesign 1.10.0 | The R Genetics Project |  OK  |  OK  |  OK  | 
| GeneticsPed 1.4.0 | The R Genetics Project |  OK  |  OK  |  OK  | 
| GeneTraffic 1.14.0 | Daniel Iordan |  OK  |  OK  |  OK  | 
| GenomeGraphs 1.2.3 | Steffen Durinck |  OK  |  OK  |  OK  | 
| GEOmetadb 1.2.1 | Jack Zhu |  OK  |  OK  |  OK  | 
| GEOquery 2.6.0 | Sean Davis |  OK  |  OK  |  OK  | 
| GGBase 3.0.0 | Vince Carey |  OK  |  OK  |  OK  | 
| GGtools 3.0.0 | Vince Carey |  OK  |  OK  |  OK  | 
| GLAD 1.18.0 | Philippe Hupe |  OK  |  OK  |  OK  | 
| GlobalAncova 3.8.0 | R. Meister |  OK  |  OK  |  OK  | 
| globaltest 4.12.0 | Jelle Goeman |  OK  |  OK  |  OK  | 
| goProfiles 1.4.0 | Alex Sanchez |  OK  |  OK  |  OK  | 
| GOstats 2.8.0 | Robert Gentleman |  OK  |  OK  |  OK  | 
| goTools 1.16.0 | Agnes Paquet |  OK  |  OK  |  OK  | 
| gpls 1.14.0 | Biocore Team c/o BioC user list |  OK  |  OK  |  OK  | 
| graph 1.20.0 | Robert Gentleman |  OK  |  OK  |  OK  | 
| GraphAlignment 1.4.0 | Joern P. Meier |  OK  |  OK  |  OK  | 
| GraphAT 1.14.0 | Thomas LaFramboise |  OK  |  OK  |  OK  | 
| GSEABase 1.4.0 | Biocore Team c/o BioC user list |  OK  |  OK  |  OK  | 
| GSEAlm 1.2.0 | Assaf Oron |  OK  |  OK  |  OK  | 
 | 
| H  A  B  C  D  E  F  G [H] I  J  K  L  M  N  O  P  Q  R  S  T  U  V  W  X  Y  Z  | 
| Harshlight 1.12.0 | Maurizio Pellegrino |  OK  |  OK  |  OK  | 
| Heatplus 1.12.0 | Alexander Ploner |  OK  |  OK  |  OK  | 
| HELP 1.0.0 | Reid F. Thompson |  OK  |  OK  |  OK  | 
| HEM 1.14.0 | HyungJun Cho |  OK  |  OK  |  OK  | 
| hexbin 1.16.0 | Nicholas Lewin-Koh |  OK  |  OK  |  OK  | 
| HilbertVis 1.0.2 | Simon Anders |  OK  |  WARNINGS  |  OK  | 
| HilbertVisGUI 1.0.5 | Simon Anders |  OK  |  WARNINGS  |  OK  | 
| hopach 2.2.0 | Katherine S. Pollard |  OK  |  OK  |  OK  | 
| hypergraph 1.14.0 | Robert Gentleman |  OK  |  OK  |  OK  | 
 | 
| I  A  B  C  D  E  F  G  H [I] J  K  L  M  N  O  P  Q  R  S  T  U  V  W  X  Y  Z  | 
| Icens 1.14.0 | Biocore Team c/o BioC user list |  OK  |  OK  |  OK  | 
| idiogram 1.18.0 | Karl J. Dykema |  OK  |  OK  |  OK  | 
| impute 1.14.0 | Balasubramanian Narasimhan |  OK  |  OK  |  OK  | 
| IRanges 1.0.16 | Biocore Team c/o BioC user list |  OK  |  OK  |  OK  | 
| ITALICS 2.2.0 | Guillem Rigaill |  OK  |  OK  |  OK  | 
| iterativeBMA 1.0.0 | Ka Yee Yeung |  OK  |  OK  |  OK  | 
| iterativeBMAsurv 1.0.0 | Ka Yee Yeung |  OK  |  WARNINGS  |  OK  | 
 | 
| K  A  B  C  D  E  F  G  H  I  J [K] L  M  N  O  P  Q  R  S  T  U  V  W  X  Y  Z  | 
| KCsmart 1.6.0 | Jorma de Ronde |  OK  |  OK  |  OK  | 
| keggorth 1.4.0 | VJ Carey |  OK  |  OK  |  OK  | 
| KEGGSOAP 1.16.0 | Robert Gentleman |  OK  |  OK  |  OK  | 
 | 
| L  A  B  C  D  E  F  G  H  I  J  K [L] M  N  O  P  Q  R  S  T  U  V  W  X  Y  Z  | 
| lapmix 1.8.0 | Yann Ruffieux |  OK  |  OK  |  OK  | 
| LBE 1.10.0 | Cyril Dalmasso |  OK  |  OK  |  OK  | 
| limma 2.16.5 | Gordon Smyth |  OK  |  OK  |  OK  | 
| limmaGUI 1.18.0 | Keith Satterley |  OK  |  OK  |  OK  | 
| LMGene 1.12.0 | John Tillinghast |  OK  |  OK  |  OK  | 
| logicFS 1.12.0 | Holger Schwender |  OK  |  OK  |  OK  | 
| logitT 1.0.0 | Tobias Guennel |  OK  |  OK  |  OK  | 
| LPE 1.16.0 | Nitin Jain |  OK  |  OK  |  OK  | 
| LPEadj 1.2.0 | Carl Murie |  OK  |  OK  |  OK  | 
| lumi 1.8.3 | Pan Du |  OK  |  OK  |  OK  | 
 | 
| M  A  B  C  D  E  F  G  H  I  J  K  L [M] N  O  P  Q  R  S  T  U  V  W  X  Y  Z  | 
| maanova 1.12.0 | Hyuna Yang |  OK  |  OK  |  OK  | 
| macat 1.16.0 | Joern Toedling |  OK  |  OK  |  OK  | 
| maCorrPlot 1.12.0 | Alexander Ploner |  OK  |  WARNINGS  |  OK  | 
| maDB 1.14.1 | Johannes Rainer | N O T   S U P P O R T E D | 
| made4 1.16.0 | Aedin Culhane |  OK  |  OK  |  OK  | 
| maigesPack 1.6.0 | Gustavo H. Esteves |  OK  |  OK  |  OK  | 
| makecdfenv 1.20.0 | James W. MacDonald |  OK  |  OK  |  OK  | 
| makePlatformDesign 1.6.0 | Benilton Carvalho |  OK  |  OK  |  OK  | 
| MANOR 1.14.0 | Pierre Neuvial |  OK  |  OK  |  OK  | 
| MantelCorr 1.12.0 | Brian Steinmeyer |  OK  |  OK  |  OK  | 
| marray 1.20.0 | Yee Hwa (Jean) Yang |  OK  |  OK  |  OK  | 
| maSigPro 1.14.0 | Ana Conesa |  OK  |  OK  |  OK  | 
| MassSpecWavelet 1.8.0 | Pan Du |  OK  |  OK  |  OK  | 
| matchprobes 1.14.1 | Biocore Team c/o BioC user list |  OK  |  WARNINGS  |  OK  | 
| mdqc 1.4.0 | Gabriela Cohen-Freue |  OK  |  OK  |  OK  | 
| MeasurementError.cor 1.14.0 | Beiying Ding |  OK  |  OK  |  OK  | 
| MEDME 1.2.1 | Mattia Pelizzola |  OK  |  OK  |  OK  | 
| MergeMaid 2.14.0 | Xiaogang Zhong |  OK  |  OK  |  OK  | 
| metaArray 1.16.0 | Hyungwon Choi |  OK  |  OK  |  OK  | 
| Mfuzz 1.12.0 | Matthias Futschik |  OK  |  OK  |  OK  | 
| microRNA 1.0.0 | Robert Gentleman |  OK  |  OK  |  OK  | 
| minet 1.2.0 | Patrick E. Meyer |  OK  |  OK  |  OK  | 
| MiPP 1.14.0 | Sukwoo Kim |  OK  |  OK  |  OK  | 
| miRNApath 1.2.0 | James M. Ward |  OK  |  OK  |  OK  | 
| MLInterfaces 1.22.0 | V. Carey |  OK  |  OK  |  OK  | 
| multiscan 1.2.0 | Mizanur Khondoker |  OK  |  OK  |  OK  | 
| multtest 1.22.0 | Katherine S. Pollard |  OK  |  OK  |  OK  | 
| MVCClass 1.16.0 | Elizabeth Whalen |  OK  |  OK  |  OK  | 
 | 
| N  A  B  C  D  E  F  G  H  I  J  K  L  M [N] O  P  Q  R  S  T  U  V  W  X  Y  Z  | 
| nem 2.6.0 | Florian Markowetz |  OK  |  OK  |  OK  | 
| nnNorm 2.6.0 | Adi Laurentiu Tarca |  OK  |  OK  |  OK  | 
| nudge 1.8.0 | N. Dean |  OK  |  OK  |  OK  | 
 | 
| O  A  B  C  D  E  F  G  H  I  J  K  L  M  N [O] P  Q  R  S  T  U  V  W  X  Y  Z  | 
| occugene 1.2.0 | Oliver Will |  OK  |  OK  |  OK  | 
| OCplus 1.16.0 | Alexander Ploner |  OK  |  OK  |  OK  | 
| oligo 1.6.0 | Benilton Carvalho |  OK  |  OK  |  OK  | 
| oligoClasses 1.4.0 | Benilton Carvalho |  OK  |  OK  |  OK  | 
| OLIN 1.18.0 | Matthias Futschik |  OK  |  OK  |  OK  | 
| OLINgui 1.16.0 | Matthias Futschik |  OK  |  OK  |  OK  | 
| oneChannelGUI 1.8.10 | Raffaele A Calogero |  OK  |  OK  |  OK  | 
| ontoTools 1.20.0 | Vince Carey |  OK  |  OK  |  OK  | 
| OrderedList 1.14.0 | Claudio Lottaz |  OK  |  OK  |  OK  | 
| OutlierD 1.6.0 | Sukwoo Kim |  OK  |  OK  |  OK  | 
 | 
| P  A  B  C  D  E  F  G  H  I  J  K  L  M  N  O [P] Q  R  S  T  U  V  W  X  Y  Z  | 
| pamr 1.40.1 | Rob Tibshirani |  OK  |  OK  |  OK  | 
| panp 1.12.0 | Peter Warren |  OK  |  OK  |  OK  | 
| parody 1.0.0 | VJ Carey |  OK  |  OK  |  OK  | 
| pathRender 1.10.0 | Li Long |  OK  |  OK  |  OK  | 
| pcaMethods 1.18.0 | Wolfram Stacklies |  OK  |  OK  |  OK  | 
| pcot2 1.10.0 | Sarah Song |  OK  |  OK  |  OK  | 
| PCpheno 1.4.1 | Nolwenn Le Meur |  OK  |  OK  |  OK  | 
| pdInfoBuilder 1.6.0 | Benilton Carvalho |  OK  |  OK  |  OK  | 
| pdmclass 1.14.0 | James W. MacDonald |  OK  |  OK  |  OK  | 
| PGSEA 1.10.0 | Karl Dykema |  OK  |  OK  |  OK  | 
| pgUtils 1.14.1 | Johannes Rainer | N O T   S U P P O R T E D | 
| pickgene 1.14.0 | Brian S. Yandell |  OK  |  OK  |  OK  | 
| pkgDepTools 1.8.0 | Seth Falcon |  OK  |  OK  |  OK  | 
| plgem 1.14.0 | Mattia Pelizzola |  OK  |  OK  |  OK  | 
| plier 1.12.0 | Crispin Miller |  OK  |  OK  |  OK  | 
| PLPE 1.2.0 | Soo-heang Eo |  OK  |  OK  |  OK  | 
| plw 1.2.0 | Magnus Astrand |  OK  |  OK  |  OK  | 
| ppiStats 1.8.0 | Tony Chiang |  OK  |  OK  |  OK  | 
| prada 1.18.0 | Florian Hahne |  OK  |  OK  |  OK  | 
| preprocessCore 1.4.0 | Benjamin Milo Bolstad |  OK  |  OK  |  OK  | 
| PROcess 1.18.0 | Xiaochun Li |  OK  |  OK  |  OK  | 
| puma 1.8.1 | Richard Pearson |  OK  |  OK  |  OK  | 
 | 
| Q  A  B  C  D  E  F  G  H  I  J  K  L  M  N  O  P [Q] R  S  T  U  V  W  X  Y  Z  | 
| quantsmooth 1.8.0 | Jan Oosting |  OK  |  OK  |  OK  | 
| qvalue 1.16.0 | John D. Storey |  OK  |  OK  |  OK  | 
 | 
| R  A  B  C  D  E  F  G  H  I  J  K  L  M  N  O  P  Q [R] S  T  U  V  W  X  Y  Z  | 
| rama 1.16.0 | Raphael Gottardo |  OK  |  OK  |  OK  | 
| RankProd 2.14.0 | Fangxin Hong |  OK  |  OK  |  OK  | 
| RbcBook1 1.10.0 | Vince Carey |  OK  |  OK  |  OK  | 
| RBGL 1.18.0 | Li Long |  OK  |  WARNINGS  |  OK  | 
| RBioinf 1.2.0 | Robert Gentleman |  OK  |  OK  |  OK  | 
| rbsurv 1.10.0 | Sooheang Eo |  OK  |  OK  |  OK  | 
| Rdbi 1.16.0 | Jianhua Zhang |  OK  |  OK  |  OK  | 
| RdbiPgSQL 1.16.0 | Jianhua Zhang | N O T   S U P P O R T E D | 
| Rdisop 1.2.0 | Steffen Neumann |  OK  |  OK  |  OK  | 
| reb 1.16.0 | Karl J. Dykema |  OK  |  OK  |  OK  | 
| RefPlus 1.12.1 | Kai-Ming Chang |  OK  |  OK  |  OK  | 
| Resourcerer 1.16.0 | Jianhua Zhang |  OK  |  OK  |  OK  | 
| rflowcyt 1.14.0 | N. LeMeur |  OK  |  OK  |  OK  | 
| Rgraphviz 1.20.4 | Li Long |  OK  |  OK  |  OK  | 
| rHVDM 1.8.1 | Martino Barenco |  OK  |  OK  |  OK  | 
| Ringo 1.6.0 | J. Toedling |  OK  |  OK  |  OK  | 
| Rintact 1.4.0 | Tony Chiang |  OK  |  OK  |  OK  | 
| RLMM 1.4.0 | Nusrat Rabbee |  OK  |  OK  |  OK  | 
| RMAGEML 2.16.0 | Steffen Durinck | N O T   S U P P O R T E D | 
| RNAither 1.4.6 | Nora Rieber |  OK  |  OK  |  OK  | 
| ROC 1.16.0 | Vince Carey |  OK  |  OK  |  OK  | 
| RpsiXML 1.0.0 | Jitao David Zhang |  OK  |  OK  |  OK  | 
| Rredland 1.8.0 | VJ Carey | N O T   S U P P O R T E D | 
| rsbml 2.0.0 | Michael Lawrence | N O T   S U P P O R T E D | 
| RSNPper 1.16.0 | VJ Carey |  ERROR  |  skipped  |  skipped  | 
| rtracklayer 1.2.2 | Michael Lawrence |  OK  |  OK  |  OK  | 
| Rtreemix 1.4.0 | Jasmina Bogojeska |  OK  |  OK  |  OK  | 
| Ruuid 1.20.0 | Biocore Team c/o BioC user list |  OK  |  OK  |  OK  | 
| RWebServices 1.6.0 | Martin Morgan | N O T   S U P P O R T E D | 
 | 
| S  A  B  C  D  E  F  G  H  I  J  K  L  M  N  O  P  Q  R [S] T  U  V  W  X  Y  Z  | 
| safe 2.2.0 | William T. Barry |  OK  |  OK  |  OK  | 
| sagenhaft 1.12.0 | Tim Beissbarth |  OK  |  OK  |  OK  | 
| SAGx 1.16.0 | Per Broberg, |  OK  |  OK  |  OK  | 
| SBMLR 1.36.0 | Tomas Radivoyevitch |  OK  |  OK  |  OK  | 
| ScISI 1.14.0 | Tony Chiang |  OK  |  OK  |  OK  | 
| seqLogo 1.8.0 | Oliver Bembom |  OK  |  OK  |  OK  | 
| ShortRead 1.0.7 | Biocore Team c/o BioC user list |  OK  |  WARNINGS  |  OK  | 
| siggenes 1.16.0 | Holger Schwender |  OK  |  OK  |  OK  | 
| sigPathway 1.10.0 | Weil Lai |  OK  |  OK  |  OK  | 
| SIM 1.10.0 | Maarten van Iterson |  OK  |  OK  |  OK  | 
| simpleaffy 2.18.0 | Crispin Miller |  OK  |  OK  |  OK  | 
| simulatorAPMS 1.14.0 | Tony Chiang |  OK  |  OK  |  OK  | 
| sizepower 1.12.0 | Weiliang Qiu |  OK  |  OK  |  OK  | 
| SLGI 1.2.0 | Nolwenn Le Meur |  OK  |  OK  |  OK  | 
| SLqPCR 1.8.0 | Matthias Kohl |  OK  |  OK  |  OK  | 
| SMAP 1.6.0 | Robin Andersson |  OK  |  OK  |  OK  | 
| snapCGH 1.10.0 | Thomas Hardcastle |  OK  |  OK  |  OK  | 
| SNPchip 1.6.0 | Robert Scharpf |  OK  |  OK  |  OK  | 
| snpMatrix 1.6.1 | David Clayton |  OK  |  WARNINGS  |  OK  | 
| spikeLI 1.10.0 | Enrico Carlon |  OK  |  OK  |  OK  | 
| splicegear 1.14.0 | Laurent Gautier |  OK  |  OK  |  OK  | 
| splots 1.8.0 | Oleg Sklyar |  OK  |  OK  |  OK  | 
| spotSegmentation 1.16.0 | Chris Fraley |  OK  |  OK  |  OK  | 
| sscore 1.14.0 | Richard Kennedy |  OK  |  OK  |  OK  | 
| ssize 1.14.0 | Gregory R. Warnes |  OK  |  OK  |  OK  | 
| stam 1.10.0 | Claudio Lottaz |  OK  |  OK  |  OK  | 
| stepNorm 1.14.0 | Yuanyuan Xiao |  OK  |  OK  |  OK  | 
 | 
| T  A  B  C  D  E  F  G  H  I  J  K  L  M  N  O  P  Q  R  S [T] U  V  W  X  Y  Z  | 
| tilingArray 1.20.0 | W. Huber |  OK  |  OK  |  OK  | 
| timecourse 1.14.0 | Yu Chuan Tai |  OK  |  OK  |  OK  | 
| tkWidgets 1.20.0 | J. Zhang |  OK  |  OK  |  OK  | 
| topGO 1.10.1 | Adrian Alexa |  OK  |  WARNINGS  |  OK  | 
| twilight 1.18.0 | Stefanie Scheid |  OK  |  OK  |  OK  | 
| TypeInfo 1.8.0 | Duncan Temple Lang |  OK  |  OK  |  OK  | 
 | 
| V  A  B  C  D  E  F  G  H  I  J  K  L  M  N  O  P  Q  R  S  T  U [V] W  X  Y  Z  | 
| VanillaICE 1.4.0 | Robert Scharpf |  OK  |  OK  |  OK  | 
| vbmp 1.10.0 | Nicola Lama |  OK  |  OK  |  OK  | 
| vsn 3.8.0 | Wolfgang Huber |  OK  |  OK  |  OK  | 
 | 
| W  A  B  C  D  E  F  G  H  I  J  K  L  M  N  O  P  Q  R  S  T  U  V [W] X  Y  Z  | 
| weaver 1.8.0 | Seth Falcon |  OK  |  OK  |  OK  | 
| webbioc 1.14.0 | Colin A. Smith |  OK  |  OK  |  OK  | 
| widgetTools 1.18.0 | Jianhua Zhang |  OK  |  OK  |  OK  | 
 | 
| X  A  B  C  D  E  F  G  H  I  J  K  L  M  N  O  P  Q  R  S  T  U  V  W [X] Y  Z  | 
| xcms 1.14.1 | Colin A. Smith |  OK  |  OK  |  OK  | 
| XDE 1.2.0 | Robert Scharpf |  OK  |  OK  |  OK  | 
| xmapbridge 1.0.0 | Tim Yates |  OK  |  OK  |  OK  | 
| xps 1.2.10 | Christian Stratowa |  OK  |  OK  |  OK  | 
 | 
| Y  A  B  C  D  E  F  G  H  I  J  K  L  M  N  O  P  Q  R  S  T  U  V  W  X [Y] Z  | 
| yaqcaffy 1.2.0 | Laurent Gatto |  OK  |  OK  |  OK  |