| miRNApath 1.2.0 James M. Ward
 
 | Bioconductor Changelog |  | Snapshot Date: 2009-04-18 11:27:48 -0700 (Sat, 18 Apr 2009) |  | URL: https://hedgehog.fhcrc.org/bioconductor/branches/RELEASE_2_3/madman/Rpacks/miRNApath |  | Last Changed Rev: 34811 / Revision: 38965 |  | Last Changed Date: 2008-10-21 15:32:58 -0700 (Tue, 21 Oct 2008) | 
 | wilson2 | Linux (openSUSE 11.1) / x86_64 | OK | OK |  | 
| liverpool | Windows Server 2003 R2 (32-bit) / x64 | [ OK ] | OK | OK | 
| pitt | Mac OS X Tiger (10.4.11) / i386 | OK | OK | OK | 
| pelham | Mac OS X Leopard (10.5.6) / i386 | OK | OK | OK | 
* checking for file 'miRNApath/DESCRIPTION' ... OK
* preparing 'miRNApath':
* checking DESCRIPTION meta-information ... OK
* installing the package to re-build vignettes
installing R.css in E:/biocbld/bbs-2.3-bioc/tmpdir/Rinst442405902
---------- Making package miRNApath ------------
  adding build stamp to DESCRIPTION
  installing NAMESPACE file and metadata
  installing R files
  installing inst files
  installing data files
  preparing package miRNApath for lazy loading
  installing man source files
  installing indices
  not zipping data
  installing help
 >>> Building/Updating help pages for package 'miRNApath'
     Formats: text html latex example chm 
  checkColumns                      text    html    latex   example chm
  convertFoldChange                 text    html    latex   example chm
  filtermirnapath                   text    html    latex   example chm
  loadmirnapath                     text    html    latex   example chm
  loadmirnapathways                 text    html    latex   example chm
  loadmirnatogene                   text    html    latex   example chm
  miRNApath-package                 text    html    latex   example chm
  mirnaTable                        text    html    latex   example chm
  mirnaobj                          text    html    latex   example chm
  mirnapath-class                   text    html    latex   example chm
  runEnrichment                     text    html    latex   example chm
Microsoft HTML Help Compiler 4.74.8702
Compiling e:\biocbld\bbs-2.3-bioc\meat\miRNApath\chm\miRNApath.chm
Compile time: 0 minutes, 2 seconds
12	Topics
53	Local links
0	Internet links
1	Graphic
Created e:\biocbld\bbs-2.3-bioc\meat\miRNApath\chm\miRNApath.chm, 40,378 bytes
Compression decreased file by 25,057 bytes.
  adding MD5 sums
* DONE (miRNApath)
* creating vignettes ... OK
* removing junk files
* checking for LF line-endings in source and make files
* checking for empty or unneeded directories
* building 'miRNApath_1.2.0.tar.gz'