| rtracklayer 1.2.2 Michael Lawrence
 
 | Bioconductor Changelog |  | Snapshot Date: 2009-04-18 11:27:48 -0700 (Sat, 18 Apr 2009) |  | URL: https://hedgehog.fhcrc.org/bioconductor/branches/RELEASE_2_3/madman/Rpacks/rtracklayer |  | Last Changed Rev: 35218 / Revision: 38965 |  | Last Changed Date: 2008-11-10 08:36:42 -0800 (Mon, 10 Nov 2008) | 
 | wilson2 | Linux (openSUSE 11.1) / x86_64 | OK | OK |  | 
| liverpool | Windows Server 2003 R2 (32-bit) / x64 | OK | OK | [ OK ] | 
| pitt | Mac OS X Tiger (10.4.11) / i386 | OK | OK | OK | 
| pelham | Mac OS X Leopard (10.5.6) / i386 | OK | OK | OK | 
installing R.css in E:/biocbld/bbs-2.3-bioc/meat/rtracklayer.buildbin-libdir
Using auto-selected zip options 'rtracklayer-ZIPDATA=zip rtracklayer-HELP=ziponly'
---------- Making package rtracklayer ------------
  adding build stamp to DESCRIPTION
  installing NAMESPACE file and metadata
  installing R files
  installing inst files
  installing data files
  preparing package rtracklayer for lazy loading
Loading required package: Biobase
Loading required package: tools
Welcome to Bioconductor
  Vignettes contain introductory material. To view, type
  'openVignette()'. To cite Bioconductor, see
  'citation("Biobase")' and for packages 'citation(pkgname)'.
Loading required package: RCurl
  installing man source files
  installing indices
  zipping data
  installing help
 >>> Building/Updating help pages for package 'rtracklayer'
     Formats: text html latex example chm 
  activeView-methods                text    html    latex   example chm
  argoSession-class                 text    html    latex           chm
  argoView-class                    text    html    latex           chm
  basicTrackLine-class              text    html    latex           chm
  browseGenome                      text    html    latex   example chm
  browserSession-class              text    html    latex           chm
  browserSession-methods            text    html    latex           chm
  browserView-class                 text    html    latex           chm
  browserView-methods               text    html    latex   example chm
  browserViews-methods              text    html    latex   example chm
  chrid-class                       text    html    latex           chm
  chrid-methods                     text    html    latex   example chm
  cpneTrack                         text    html    latex   example chm
  dataVals-methods                  text    html    latex   example chm
  export                            text    html    latex   example chm
  export.gff                        text    html    latex   example chm
  genomeBrowsers                    text    html    latex           chm
  genomeSegment-class               text    html    latex           chm
  genomeSegment-methods             text    html    latex   example chm
  genomeSequence-methods            text    html    latex           chm
  import                            text    html    latex   example chm
  import.gff                        text    html    latex   example chm
  laySequence-methods               text    html    latex           chm
  layTrack-methods                  text    html    latex   example chm
  trackData                         text    html    latex           chm
  trackSet-class                    text    html    latex           chm
  trackSet-methods                  text    html    latex   example chm
  trackSets-class                   text    html    latex           chm
  trackSets-methods                 text    html    latex           chm
  tracks-methods                    text    html    latex           chm
  ucscSession-class                 text    html    latex           chm
  ucscTable                         text    html    latex           chm
  ucscTrackLine-class               text    html    latex           chm
  ucscTrackModes-class              text    html    latex           chm
  ucscTrackModes-methods            text    html    latex   example chm
  ucscTrackSet-class                text    html    latex           chm
  ucscView-class                    text    html    latex           chm
  wigTrackLine-class                text    html    latex           chm
  zipping help files
Microsoft HTML Help Compiler 4.74.8702
Compiling e:\biocbld\bbs-2.3-bioc\meat\R.INSTALL.1656\rtracklayer\chm\rtracklayer.chm
Compile time: 0 minutes, 3 seconds
39	Topics
441	Local links
15	Internet links
1	Graphic
Created e:\biocbld\bbs-2.3-bioc\meat\R.INSTALL.1656\rtracklayer\chm\rtracklayer.chm, 60,996 bytes
Compression decreased file by 133,129 bytes.
  adding MD5 sums
packaged installation of package 'rtracklayer' as rtracklayer_1.2.2.zip
* DONE (rtracklayer)