HELP 1.0.0 Reid F. Thompson
 | Bioconductor Changelog |  | Snapshot Date: 2009-04-18 11:27:48 -0700 (Sat, 18 Apr 2009) |  | URL: https://hedgehog.fhcrc.org/bioconductor/branches/RELEASE_2_3/madman/Rpacks/HELP |  | Last Changed Rev: 34811 / Revision: 38965 |  | Last Changed Date: 2008-10-21 15:32:58 -0700 (Tue, 21 Oct 2008) |  
  | wilson2  | Linux (openSUSE 11.1) / x86_64  |  OK  |  OK  |  | 
| liverpool  | Windows Server 2003 R2 (32-bit) / x64  | [ OK ] |  OK  |  OK  | 
| pitt  | Mac OS X Tiger (10.4.11) / i386  |  OK  |  OK  |  OK  | 
| pelham  | Mac OS X Leopard (10.5.6) / i386  |  OK  |  OK  |  OK  | 
* checking for file 'HELP/DESCRIPTION' ... OK
* preparing 'HELP':
* checking DESCRIPTION meta-information ... OK
* installing the package to re-build vignettes
installing R.css in E:/biocbld/bbs-2.3-bioc/tmpdir/Rinst102465246
---------- Making package HELP ------------
  adding build stamp to DESCRIPTION
  installing NAMESPACE file and metadata
  installing R files
  installing demos
  installing inst files
  installing data files
  preparing package HELP for lazy loading
Loading required package: Biobase
Loading required package: tools
Welcome to Bioconductor
  Vignettes contain introductory material. To view, type
  'openVignette()'. To cite Bioconductor, see
  'citation("Biobase")' and for packages 'citation(pkgname)'.
  installing man source files
  installing indices
  not zipping data
  installing help
 >>> Building/Updating help pages for package 'HELP'
     Formats: text html latex example chm 
  base.stacking.thermodynamics      text    html    latex   example chm
  calcGC-methods                    text    html    latex           chm
  calcGC                            text    html    latex   example chm
  calcPrototype-methods             text    html    latex           chm
  calcPrototype                     text    html    latex   example chm
  calcTm-methods                    text    html    latex           chm
  calcTm                            text    html    latex   example chm
  combineData-methods               text    html    latex           chm
  combineData                       text    html    latex   example chm
  createWiggle-methods              text    html    latex           chm
  createWiggle                      text    html    latex   example chm
  exprs2-methods                    text    html    latex           chm
  exprs2                            text    html    latex   example chm
  fuzzyMatches-methods              text    html    latex           chm
  fuzzyMatches                      text    html    latex   example chm
  getFeatures-methods               text    html    latex           chm
  getFeatures                       text    html    latex   example chm
  getSamples-methods                text    html    latex           chm
  getSamples                        text    html    latex   example chm
  plotBins-methods                  text    html    latex           chm
  plotBins                          text    html    latex   example chm
  plotChip-methods                  text    html    latex           chm
  plotChip                          text    html    latex   example chm
  plotFeature-methods               text    html    latex           chm
  plotFeature                       text    html    latex   example chm
  plotPairs-methods                 text    html    latex           chm
  plotPairs                         text    html    latex   example chm
  quantileNormalize-methods         text    html    latex           chm
  quantileNormalize                 text    html    latex   example chm
  readDesign-methods                text    html    latex           chm
  readDesign                        text    html    latex   example chm
  readPairs-methods                 text    html    latex           chm
  readPairs                         text    html    latex   example chm
  readSampleKey                     text    html    latex   example chm
Microsoft HTML Help Compiler 4.74.8702
Compiling e:\biocbld\bbs-2.3-bioc\meat\HELP\chm\HELP.chm
Compile time: 0 minutes, 4 seconds
35	Topics
215	Local links
1	Internet link
1	Graphic
Created e:\biocbld\bbs-2.3-bioc\meat\HELP\chm\HELP.chm, 57,247 bytes
Compression decreased file by 108,860 bytes.
  adding MD5 sums
* DONE (HELP)
* creating vignettes ... OK
* removing junk files
* checking for LF line-endings in source and make files
* checking for empty or unneeded directories
* building 'HELP_1.0.0.tar.gz'