SBMLR 1.36.0 Tomas Radivoyevitch
Bioconductor Changelog | Snapshot Date: 2009-04-18 11:27:48 -0700 (Sat, 18 Apr 2009) | URL: https://hedgehog.fhcrc.org/bioconductor/branches/RELEASE_2_3/madman/Rpacks/SBMLR | Last Changed Rev: 34811 / Revision: 38965 | Last Changed Date: 2008-10-21 15:32:58 -0700 (Tue, 21 Oct 2008) |
| wilson2 | Linux (openSUSE 11.1) / x86_64 | OK | OK | |
liverpool | Windows Server 2003 R2 (32-bit) / x64 | OK | OK | [ OK ] |
pitt | Mac OS X Tiger (10.4.11) / i386 | OK | OK | OK |
pelham | Mac OS X Leopard (10.5.6) / i386 | OK | OK | OK |
installing R.css in E:/biocbld/bbs-2.3-bioc/meat/SBMLR.buildbin-libdir
Using auto-selected zip options ''
---------- Making package SBMLR ------------
adding build stamp to DESCRIPTION
installing R files
installing inst files
preparing package SBMLR for lazy loading
Loading required package: XML
Loading required package: odesolve
installing man source files
installing indices
installing help
>>> Building/Updating help pages for package 'SBMLR'
Formats: text html latex example chm
equateModels text html latex example chm
Note: removing empty section \details in file 'makeLaw.Rd'
Note: removing empty section \details in file 'makeLaw.Rd'
makeLaw text html latex example chm
readSBML text html latex example chm
readSBMLR text html latex example chm
saveSBML text html latex example chm
saveSBMLR text html latex example chm
simulate text html latex example chm
summary.SBML text html latex example chm
Microsoft HTML Help Compiler 4.74.8702
Compiling e:\biocbld\bbs-2.3-bioc\meat\R.INSTALL.5468\SBMLR\chm\SBMLR.chm
Compile time: 0 minutes, 0 seconds
9 Topics
22 Local links
0 Internet links
1 Graphic
Created e:\biocbld\bbs-2.3-bioc\meat\R.INSTALL.5468\SBMLR\chm\SBMLR.chm, 25,218 bytes
Compression decreased file by 3,899 bytes.
adding MD5 sums
packaged installation of package 'SBMLR' as SBMLR_1.36.0.zip
* DONE (SBMLR)