| AffyCompatible 1.2.0 Martin Morgan
 
 | Bioconductor Changelog |  | Snapshot Date: 2009-04-18 11:27:48 -0700 (Sat, 18 Apr 2009) |  | URL: https://hedgehog.fhcrc.org/bioconductor/branches/RELEASE_2_3/madman/Rpacks/AffyCompatible |  | Last Changed Rev: 34811 / Revision: 38965 |  | Last Changed Date: 2008-10-21 15:32:58 -0700 (Tue, 21 Oct 2008) | 
 | wilson2 | Linux (openSUSE 11.1) / x86_64 | OK | WARNINGS |  | 
| liverpool | Windows Server 2003 R2 (32-bit) / x64 | OK | WARNINGS | [ OK ] | 
| pitt | Mac OS X Tiger (10.4.11) / i386 | OK | WARNINGS | OK | 
| pelham | Mac OS X Leopard (10.5.6) / i386 | OK | WARNINGS | OK | 
installing R.css in E:/biocbld/bbs-2.3-bioc/meat/AffyCompatible.buildbin-libdir
Using auto-selected zip options ''
---------- Making package AffyCompatible ------------
  adding build stamp to DESCRIPTION
  installing NAMESPACE file and metadata
  installing R files
  installing inst files
  preparing package AffyCompatible for lazy loading
Loading required package: XML
Loading required package: RCurl
  installing man source files
  installing indices
  installing help
 >>> Building/Updating help pages for package 'AffyCompatible'
     Formats: text html latex example chm 
  AffyCompatible-class              text    html    latex   example chm
  AffyCompatible-package            text    html    latex           chm
  NetAffxResource-class             text    html    latex   example chm
  NetAffxResource                   text    html    latex           chm
  accessors-NetAffxResource         text    html    latex           chm
  readArr                           text    html    latex   example chm
  readMage                          text    html    latex   example chm
  readNetAffx                       text    html    latex   example chm
  readXml                           text    html    latex   example chm
  xclass                            text    html    latex   example chm
  zzz-.TypedAssociation-class       text    html    latex           chm
  zzz-ARRCompatibility-class        text    html    latex   example chm
  zzz-DTTCompatibility-class        text    html    latex   example chm
  zzz-NetAffxCompatibility-class    text    html    latex   example chm
  zzz                               text    html    latex           chm
Microsoft HTML Help Compiler 4.74.8702
Compiling e:\biocbld\bbs-2.3-bioc\meat\R.INSTALL.2452\AffyCompatible\chm\AffyCompatible.chm
Compile time: 0 minutes, 2 seconds
16	Topics
2,131	Local links
1	Internet link
1	Graphic
Created e:\biocbld\bbs-2.3-bioc\meat\R.INSTALL.2452\AffyCompatible\chm\AffyCompatible.chm, 104,573 bytes
Compression decreased file by 866,863 bytes.
  adding MD5 sums
packaged installation of package 'AffyCompatible' as AffyCompatible_1.2.0.zip
* DONE (AffyCompatible)