| biocViews 1.10.6 Biocore Team c/o BioC user list
 
 | Bioconductor Changelog |  | Snapshot Date: 2009-04-18 11:27:48 -0700 (Sat, 18 Apr 2009) |  | URL: https://hedgehog.fhcrc.org/bioconductor/branches/RELEASE_2_3/madman/Rpacks/biocViews |  | Last Changed Rev: 37909 / Revision: 38965 |  | Last Changed Date: 2009-03-11 12:27:16 -0700 (Wed, 11 Mar 2009) | 
 | wilson2 | Linux (openSUSE 11.1) / x86_64 | OK | OK |  | 
| liverpool | Windows Server 2003 R2 (32-bit) / x64 | [ OK ] | OK | OK | 
| pitt | Mac OS X Tiger (10.4.11) / i386 | OK | OK | OK | 
| pelham | Mac OS X Leopard (10.5.6) / i386 | OK | OK | OK | 
* checking for file 'biocViews/DESCRIPTION' ... OK
* preparing 'biocViews':
* checking DESCRIPTION meta-information ... OK
* installing the package to re-build vignettes
installing R.css in E:/biocbld/bbs-2.3-bioc/tmpdir/Rinst545688662
---------- Making package biocViews ------------
  adding build stamp to DESCRIPTION
  installing NAMESPACE file and metadata
  installing R files
  installing inst files
  installing data files
  preparing package biocViews for lazy loading
  installing man source files
  installing indices
  not zipping data
  installing help
 >>> Building/Updating help pages for package 'biocViews'
     Formats: text html latex example chm 
  BiocView-class                    text    html    latex           chm
  Htmlized-class                    text    html    latex           chm
  PackageDetail-class               text    html    latex   example chm
  RepositoryDetail-class            text    html    latex           chm
  biocViews-package                 text    html    latex   example chm
  biocViewsVocab                    text    html    latex   example chm
  extractManuals                    text    html    latex           chm
  extractVignettes                  text    html    latex           chm
  genReposControlFiles              text    html    latex           chm
  getBiocSubViews                   text    html    latex   example chm
  getBiocViews                      text    html    latex   example chm
  getPacksAndViews                  text    html    latex           chm
  getSubTerms                       text    html    latex   example chm
  htmlDoc                           text    html    latex           chm
  htmlFilename                      text    html    latex           chm
  htmlValue                         text    html    latex           chm
  writeBiocViews                    text    html    latex           chm
  writeHtmlDoc                      text    html    latex           chm
  writePackageDetailHtml            text    html    latex           chm
  writeRepositoryHtml               text    html    latex           chm
  writeTopLevelView                 text    html    latex           chm
  write_REPOSITORY                  text    html    latex           chm
  write_SYMBOLS                     text    html    latex           chm
  write_VIEWS                       text    html    latex           chm
Microsoft HTML Help Compiler 4.74.8702
Compiling e:\biocbld\bbs-2.3-bioc\meat\biocViews\chm\biocViews.chm
Compile time: 0 minutes, 16 seconds
25	Topics
117	Local links
0	Internet links
1	Graphic
Created e:\biocbld\bbs-2.3-bioc\meat\biocViews\chm\biocViews.chm, 39,750 bytes
Compression decreased file by 49,106 bytes.
  adding MD5 sums
* DONE (biocViews)
* creating vignettes ... OK
* removing junk files
* checking for LF line-endings in source and make files
* checking for empty or unneeded directories
* building 'biocViews_1.10.6.tar.gz'