| PROcess 1.18.0 Xiaochun Li
 
 | Bioconductor Changelog |  | Snapshot Date: 2009-04-18 11:27:48 -0700 (Sat, 18 Apr 2009) |  | URL: https://hedgehog.fhcrc.org/bioconductor/branches/RELEASE_2_3/madman/Rpacks/PROcess |  | Last Changed Rev: 34811 / Revision: 38965 |  | Last Changed Date: 2008-10-21 15:32:58 -0700 (Tue, 21 Oct 2008) | 
 | wilson2 | Linux (openSUSE 11.1) / x86_64 | OK | OK |  | 
| liverpool | Windows Server 2003 R2 (32-bit) / x64 | [ OK ] | OK | OK | 
| pitt | Mac OS X Tiger (10.4.11) / i386 | OK | OK | OK | 
| pelham | Mac OS X Leopard (10.5.6) / i386 | OK | WARNINGS | OK | 
* checking for file 'PROcess/DESCRIPTION' ... OK
* preparing 'PROcess':
* checking DESCRIPTION meta-information ... OK
* installing the package to re-build vignettes
installing R.css in E:/biocbld/bbs-2.3-bioc/tmpdir/Rinst546866900
---------- Making package PROcess ------------
  adding build stamp to DESCRIPTION
  installing NAMESPACE file and metadata
  installing R files
  installing inst files
  preparing package PROcess for lazy loading
Loading required package: Icens
Loading required package: survival
Loading required package: splines
  installing man source files
  installing indices
  installing help
 >>> Building/Updating help pages for package 'PROcess'
     Formats: text html latex example chm 
  align                             text    html    latex           chm
  aveSpec                           text    html    latex   example chm
  avesd                             text    html    latex           chm
  binning                           text    html    latex           chm
  bslnoff                           text    html    latex   example chm
  gelmap                            text    html    latex           chm
  getMzs                            text    html    latex           chm
  getPeaks                          text    html    latex   example chm
  getPeaks2                         text    html    latex           chm
  intg                              text    html    latex   example chm
  is.multiple                       text    html    latex   example chm
  isPeak                            text    html    latex   example chm
  lnn                               text    html    latex           chm
  peaks                             text    html    latex   example chm
  pk2bmkr                           text    html    latex   example chm
  quality                           text    html    latex   example chm
  read.files                        text    html    latex           chm
  renorm                            text    html    latex   example chm
  rmBaseline                        text    html    latex   example chm
  specZoom                          text    html    latex   example chm
Microsoft HTML Help Compiler 4.74.8702
Compiling e:\biocbld\bbs-2.3-bioc\meat\PROcess\chm\PROcess.chm
Compile time: 0 minutes, 3 seconds
21	Topics
47	Local links
0	Internet links
1	Graphic
Created e:\biocbld\bbs-2.3-bioc\meat\PROcess\chm\PROcess.chm, 33,806 bytes
Compression decreased file by 17,668 bytes.
  adding MD5 sums
* DONE (PROcess)
* creating vignettes ... OK
* removing junk files
* checking for LF line-endings in source and make files
* checking for empty or unneeded directories
* building 'PROcess_1.18.0.tar.gz'