| HilbertVis 1.0.2 Simon Anders
 
 | Bioconductor Changelog |  | Snapshot Date: 2009-04-18 11:27:48 -0700 (Sat, 18 Apr 2009) |  | URL: https://hedgehog.fhcrc.org/bioconductor/branches/RELEASE_2_3/madman/Rpacks/HilbertVis |  | Last Changed Rev: 36119 / Revision: 38965 |  | Last Changed Date: 2008-12-18 02:36:08 -0800 (Thu, 18 Dec 2008) | 
 | wilson2 | Linux (openSUSE 11.1) / x86_64 | OK | WARNINGS |  | 
| liverpool | Windows Server 2003 R2 (32-bit) / x64 | OK | WARNINGS | [ OK ] | 
| pitt | Mac OS X Tiger (10.4.11) / i386 | OK | WARNINGS | OK | 
| pelham | Mac OS X Leopard (10.5.6) / i386 | OK | WARNINGS | OK | 
installing R.css in E:/biocbld/bbs-2.3-bioc/meat/HilbertVis.buildbin-libdir
Using auto-selected zip options ''
---------- Making package HilbertVis ------------
  adding build stamp to DESCRIPTION
  installing NAMESPACE file and metadata
  making DLL ...
making hilbert.d from hilbert.c
making make_wiggle_vector.d from make_wiggle_vector.c
making shrink_vector.d from shrink_vector.c
gcc  -std=gnu99  -IE:/biocbld/bbs-2.3-bioc/R/include     -O3 -Wall  -c hilbert.c -o hilbert.o
gcc  -std=gnu99  -IE:/biocbld/bbs-2.3-bioc/R/include     -O3 -Wall  -c make_wiggle_vector.c -o make_wiggle_vector.o
gcc  -std=gnu99  -IE:/biocbld/bbs-2.3-bioc/R/include     -O3 -Wall  -c shrink_vector.c -o shrink_vector.o
windres --preprocessor="gcc -E -xc -DRC_INVOKED" -I E:/biocbld/bbs-2.3-bioc/R/include  -i HilbertVis_res.rc -o HilbertVis_res.o
gcc  -std=gnu99  -shared -s  -o HilbertVis.dll HilbertVis.def hilbert.o make_wiggle_vector.o shrink_vector.o HilbertVis_res.o  -LE:/biocbld/bbs-2.3-bioc/R/bin    -lR
  ... DLL made
  installing DLL
  installing R files
  installing inst files
  preparing package HilbertVis for lazy loading
  installing man source files
  installing indices
  installing help
 >>> Building/Updating help pages for package 'HilbertVis'
     Formats: text html latex example chm 
  hilbertCurve                      text    html    latex   example chm
  hilbertDefaultPalette             text    html    latex   example chm
  hilbertImage                      text    html    latex   example chm
  makeRandomTestData                text    html    latex   example chm
  makeWiggleVector                  text    html    latex   example chm
  plotHilbertCurve                  text    html    latex   example chm
  plotLongVector                    text    html    latex   example chm
  shrinkVector                      text    html    latex   example chm
Microsoft HTML Help Compiler 4.74.8702
Compiling e:\biocbld\bbs-2.3-bioc\meat\R.INSTALL.5284\HilbertVis\chm\HilbertVis.chm
Compile time: 0 minutes, 1 second
9	Topics
26	Local links
0	Internet links
1	Graphic
Created e:\biocbld\bbs-2.3-bioc\meat\R.INSTALL.5284\HilbertVis\chm\HilbertVis.chm, 26,937 bytes
Compression decreased file by 4,505 bytes.
  adding MD5 sums
packaged installation of package 'HilbertVis' as HilbertVis_1.0.2.zip
* DONE (HilbertVis)