Heatplus 1.12.0 Alexander Ploner
 | Bioconductor Changelog |  | Snapshot Date: 2009-04-18 11:27:48 -0700 (Sat, 18 Apr 2009) |  | URL: https://hedgehog.fhcrc.org/bioconductor/branches/RELEASE_2_3/madman/Rpacks/Heatplus |  | Last Changed Rev: 34811 / Revision: 38965 |  | Last Changed Date: 2008-10-21 15:32:58 -0700 (Tue, 21 Oct 2008) |  
  | wilson2  | Linux (openSUSE 11.1) / x86_64  |  OK  |  OK  |  | 
| liverpool  | Windows Server 2003 R2 (32-bit) / x64  | [ OK ] |  OK  |  OK  | 
| pitt  | Mac OS X Tiger (10.4.11) / i386  |  OK  |  OK  |  OK  | 
| pelham  | Mac OS X Leopard (10.5.6) / i386  |  OK  |  OK  |  OK  | 
* checking for file 'Heatplus/DESCRIPTION' ... OK
* preparing 'Heatplus':
* checking DESCRIPTION meta-information ... OK
* installing the package to re-build vignettes
installing R.css in E:/biocbld/bbs-2.3-bioc/tmpdir/Rinst491258761
---------- Making package Heatplus ------------
  adding build stamp to DESCRIPTION
  installing R files
  installing inst files
  preparing package Heatplus for lazy loading
  installing man source files
  installing indices
  installing help
 >>> Building/Updating help pages for package 'Heatplus'
     Formats: text html latex example chm 
  RGBColVec                         text    html    latex   example chm
  cutplot.dendrogram                text    html    latex   example chm
  heatmap_2                         text    html    latex   example chm
  heatmap_plus                      text    html    latex   example chm
  picketplot                        text    html    latex   example chm
Microsoft HTML Help Compiler 4.74.8702
Compiling e:\biocbld\bbs-2.3-bioc\meat\Heatplus\chm\Heatplus.chm
Compile time: 0 minutes, 0 seconds
6	Topics
17	Local links
0	Internet links
1	Graphic
Created e:\biocbld\bbs-2.3-bioc\meat\Heatplus\chm\Heatplus.chm, 28,557 bytes
Compression decreased file by 2,932 bytes.
  adding MD5 sums
* DONE (Heatplus)
* creating vignettes ... OK
* removing junk files
* checking for LF line-endings in source and make files
* checking for empty or unneeded directories
* building 'Heatplus_1.12.0.tar.gz'