| MeasurementError.cor 1.14.0 Beiying Ding
 
 | Bioconductor Changelog |  | Snapshot Date: 2009-04-18 11:27:48 -0700 (Sat, 18 Apr 2009) |  | URL: https://hedgehog.fhcrc.org/bioconductor/branches/RELEASE_2_3/madman/Rpacks/MeasurementError.cor |  | Last Changed Rev: 34811 / Revision: 38965 |  | Last Changed Date: 2008-10-21 15:32:58 -0700 (Tue, 21 Oct 2008) | 
 | wilson2 | Linux (openSUSE 11.1) / x86_64 | OK | OK |  | 
| liverpool | Windows Server 2003 R2 (32-bit) / x64 | [ OK ] | OK | OK | 
| pitt | Mac OS X Tiger (10.4.11) / i386 | OK | OK | OK | 
| pelham | Mac OS X Leopard (10.5.6) / i386 | OK | OK | OK | 
* checking for file 'MeasurementError.cor/DESCRIPTION' ... OK
* preparing 'MeasurementError.cor':
* checking DESCRIPTION meta-information ... OK
* installing the package to re-build vignettes
installing R.css in E:/biocbld/bbs-2.3-bioc/tmpdir/Rinst184808752
---------- Making package MeasurementError.cor ------------
  adding build stamp to DESCRIPTION
  installing NAMESPACE file and metadata
  installing R files
  installing inst files
  preparing package MeasurementError.cor for lazy loading
  installing man source files
  installing indices
  installing help
 >>> Building/Updating help pages for package 'MeasurementError.cor'
     Formats: text html latex example chm 
Note: removing empty section \details in file 'cor.me.matrix.Rd'
Note: removing empty section \details in file 'cor.me.matrix.Rd'
  cor.me.matrix                     text    html    latex   example chm
Note: removing empty section \details in file 'cor.me.vector.Rd'
Note: removing empty section \details in file 'cor.me.vector.Rd'
  cor.me.vector                     text    html    latex   example chm
Microsoft HTML Help Compiler 4.74.8702
Compiling e:\biocbld\bbs-2.3-bioc\meat\MeasurementError.cor\chm\MeasurementError.cor.chm
Compile time: 0 minutes, 0 seconds
3	Topics
4	Local links
0	Internet links
1	Graphic
Created e:\biocbld\bbs-2.3-bioc\meat\MeasurementError.cor\chm\MeasurementError.cor.chm, 18,409 bytes
Compression increased file by 6,572 bytes.
  adding MD5 sums
* DONE (MeasurementError.cor)
* creating vignettes ... OK
* removing junk files
* excluding invalid files from 'MeasurementError.cor'
Subdirectory 'R' contains invalid file names:
  zzz
Subdirectory 'man' contains invalid file names:
  CalcInitials cor.me fcn fcn.uncons gradient gradient.uncons
  TransformCon2Uncon TransformUncon2Con
* checking for LF line-endings in source and make files
* checking for empty or unneeded directories
* building 'MeasurementError.cor_1.14.0.tar.gz'