sscore 1.14.0 Richard Kennedy
 | Bioconductor Changelog |  | Snapshot Date: 2009-04-18 11:27:48 -0700 (Sat, 18 Apr 2009) |  | URL: https://hedgehog.fhcrc.org/bioconductor/branches/RELEASE_2_3/madman/Rpacks/sscore |  | Last Changed Rev: 34811 / Revision: 38965 |  | Last Changed Date: 2008-10-21 15:32:58 -0700 (Tue, 21 Oct 2008) |  
  | wilson2  | Linux (openSUSE 11.1) / x86_64  |  OK  |  OK  |  | 
| liverpool  | Windows Server 2003 R2 (32-bit) / x64  |  OK  |  OK  | [ OK ] | 
| pitt  | Mac OS X Tiger (10.4.11) / i386  |  OK  |  OK  |  OK  | 
| pelham  | Mac OS X Leopard (10.5.6) / i386  |  OK  |  OK  |  OK  | 
installing R.css in E:/biocbld/bbs-2.3-bioc/meat/sscore.buildbin-libdir
Using auto-selected zip options ''
---------- Making package sscore ------------
  adding build stamp to DESCRIPTION
  installing R files
  installing inst files
  preparing package sscore for lazy loading
Loading required package: affy
Loading required package: Biobase
Loading required package: tools
Welcome to Bioconductor
  Vignettes contain introductory material. To view, type
  'openVignette()'. To cite Bioconductor, see
  'citation("Biobase")' and for packages 'citation(pkgname)'.
Loading required package: affyio
  installing man source files
  installing indices
  installing help
 >>> Building/Updating help pages for package 'sscore'
     Formats: text html latex example chm 
  OneStepBiweightAlgorithm          text    html    latex           chm
  SScore                            text    html    latex   example chm
  SScoreBatch                       text    html    latex   example chm
  computeAffxRawQ                   text    html    latex           chm
  computeAffxSFandSDT               text    html    latex   example chm
  computeOutlier                    text    html    latex   example chm
  computeRawQ                       text    html    latex           chm
  computeSFandSDT                   text    html    latex   example chm
  computeZoneIInfo                  text    html    latex           chm
  computeZonenoise                  text    html    latex           chm
  trimMean                          text    html    latex           chm
Microsoft HTML Help Compiler 4.74.8702
Compiling e:\biocbld\bbs-2.3-bioc\meat\R.INSTALL.4916\sscore\chm\sscore.chm
Compile time: 0 minutes, 0 seconds
12	Topics
28	Local links
16	Internet links
1	Graphic
Created e:\biocbld\bbs-2.3-bioc\meat\R.INSTALL.4916\sscore\chm\sscore.chm, 28,765 bytes
Compression decreased file by 17,748 bytes.
  adding MD5 sums
packaged installation of package 'sscore' as sscore_1.14.0.zip
* DONE (sscore)