| DFP 1.0.0 Rodrigo Alvarez-Glez
 
 | Bioconductor Changelog |  | Snapshot Date: 2009-04-18 11:27:48 -0700 (Sat, 18 Apr 2009) |  | URL: https://hedgehog.fhcrc.org/bioconductor/branches/RELEASE_2_3/madman/Rpacks/DFP |  | Last Changed Rev: 34811 / Revision: 38965 |  | Last Changed Date: 2008-10-21 15:32:58 -0700 (Tue, 21 Oct 2008) | 
 | wilson2 | Linux (openSUSE 11.1) / x86_64 | OK | OK |  | 
| liverpool | Windows Server 2003 R2 (32-bit) / x64 | OK | OK | [ OK ] | 
| pitt | Mac OS X Tiger (10.4.11) / i386 | OK | OK | OK | 
| pelham | Mac OS X Leopard (10.5.6) / i386 | OK | OK | OK | 
installing R.css in E:/biocbld/bbs-2.3-bioc/meat/DFP.buildbin-libdir
Using auto-selected zip options 'DFP-ZIPDATA=zip'
---------- Making package DFP ------------
  adding build stamp to DESCRIPTION
  installing NAMESPACE file and metadata
  installing R files
  installing inst files
  installing data files
  preparing package DFP for lazy loading
Loading required package: Biobase
Loading required package: tools
Welcome to Bioconductor
  Vignettes contain introductory material. To view, type
  'openVignette()'. To cite Bioconductor, see
  'citation("Biobase")' and for packages 'citation(pkgname)'.
  installing man source files
  installing indices
  zipping data
  installing help
 >>> Building/Updating help pages for package 'DFP'
     Formats: text html latex example chm 
  DFP-internal                      text    html    latex           chm
  DFP-package                       text    html    latex   example chm
  ExpressionLevel-class             text    html    latex   example chm
  HighExpressionLevel-class         text    html    latex   example chm
  LowExpressionLevel-class          text    html    latex   example chm
  MediumExpressionLevel-class       text    html    latex   example chm
  calculateDiscriminantFuzzyPattern text    html    latex           chm
  calculateFuzzyPatterns            text    html    latex           chm
  calculateMembershipFunctions      text    html    latex           chm
  discretizeExpressionValues        text    html    latex           chm
  discriminantFuzzyPattern          text    html    latex   example chm
  plotDiscriminantFuzzyPattern      text    html    latex           chm
  plotMembershipFunctions           text    html    latex           chm
  readCSV                           text    html    latex   example chm
  rmadataset                        text    html    latex   example chm
  show-methods                      text    html    latex           chm
  showDiscreteValues                text    html    latex           chm
  showFuzzyPatterns                 text    html    latex           chm
Microsoft HTML Help Compiler 4.74.8702
Compiling e:\biocbld\bbs-2.3-bioc\meat\R.INSTALL.6028\DFP\chm\DFP.chm
Compile time: 0 minutes, 0 seconds
19	Topics
53	Local links
0	Internet links
1	Graphic
Created e:\biocbld\bbs-2.3-bioc\meat\R.INSTALL.6028\DFP\chm\DFP.chm, 32,222 bytes
Compression decreased file by 42,761 bytes.
  adding MD5 sums
packaged installation of package 'DFP' as DFP_1.0.0.zip
* DONE (DFP)