| spikeLI 1.10.0 Enrico Carlon
 
 | Bioconductor Changelog |  | Snapshot Date: 2009-04-18 11:27:48 -0700 (Sat, 18 Apr 2009) |  | URL: https://hedgehog.fhcrc.org/bioconductor/branches/RELEASE_2_3/madman/Rpacks/spikeLI |  | Last Changed Rev: 34811 / Revision: 38965 |  | Last Changed Date: 2008-10-21 15:32:58 -0700 (Tue, 21 Oct 2008) | 
 | wilson2 | Linux (openSUSE 11.1) / x86_64 | OK | OK |  | 
| liverpool | Windows Server 2003 R2 (32-bit) / x64 | OK | OK | [ OK ] | 
| pitt | Mac OS X Tiger (10.4.11) / i386 | OK | OK | OK | 
| pelham | Mac OS X Leopard (10.5.6) / i386 | OK | OK | OK | 
installing R.css in E:/biocbld/bbs-2.3-bioc/meat/spikeLI.buildbin-libdir
Using auto-selected zip options 'spikeLI-ZIPDATA=zip'
---------- Making package spikeLI ------------
  adding build stamp to DESCRIPTION
  installing R files
  installing demos
  installing inst files
  installing data files
  preparing package spikeLI for lazy loading
  installing man source files
  installing indices
  zipping data
  installing help
 >>> Building/Updating help pages for package 'spikeLI'
     Formats: text html latex example chm 
  IvsDG                             text    html    latex   example chm
  Ivsc                              text    html    latex   example chm
  SPIKE_IN                          text    html    latex   example chm
  SPIKE_IN95                        text    html    latex   example chm
  SPIKE_INA                         text    html    latex   example chm
  SPIKE_INB                         text    html    latex   example chm
  SPIKE_INH                         text    html    latex   example chm
  collapse                          text    html    latex   example chm
  conc133                           text    html    latex   example chm
  conc95                            text    html    latex   example chm
  hgu                               text    html    latex   example chm
  spikeLI.package                   text    html    latex           chm
Microsoft HTML Help Compiler 4.74.8702
Compiling e:\biocbld\bbs-2.3-bioc\meat\R.INSTALL.1860\spikeLI\chm\spikeLI.chm
Compile time: 0 minutes, 1 second
13	Topics
113	Local links
0	Internet links
1	Graphic
Created e:\biocbld\bbs-2.3-bioc\meat\R.INSTALL.1860\spikeLI\chm\spikeLI.chm, 26,684 bytes
Compression decreased file by 11,475 bytes.
  adding MD5 sums
packaged installation of package 'spikeLI' as spikeLI_1.10.0.zip
* DONE (spikeLI)