IRanges 1.0.16 Biocore Team c/o BioC user list
| Bioconductor Changelog | | Snapshot Date: 2009-04-18 11:27:48 -0700 (Sat, 18 Apr 2009) | | URL: https://hedgehog.fhcrc.org/bioconductor/branches/RELEASE_2_3/madman/Rpacks/IRanges | | Last Changed Rev: 38942 / Revision: 38965 | | Last Changed Date: 2009-04-17 14:44:32 -0700 (Fri, 17 Apr 2009) |
| wilson2 | Linux (openSUSE 11.1) / x86_64 | OK | OK | |
| liverpool | Windows Server 2003 R2 (32-bit) / x64 | [ OK ] | OK | OK |
| pitt | Mac OS X Tiger (10.4.11) / i386 | OK | OK | OK |
| pelham | Mac OS X Leopard (10.5.6) / i386 | OK | OK | OK |