| idiogram 1.18.0 Karl J. Dykema
 
 | Bioconductor Changelog |  | Snapshot Date: 2009-04-18 11:27:48 -0700 (Sat, 18 Apr 2009) |  | URL: https://hedgehog.fhcrc.org/bioconductor/branches/RELEASE_2_3/madman/Rpacks/idiogram |  | Last Changed Rev: 34811 / Revision: 38965 |  | Last Changed Date: 2008-10-21 15:32:58 -0700 (Tue, 21 Oct 2008) | 
 | wilson2 | Linux (openSUSE 11.1) / x86_64 | OK | OK |  | 
| liverpool | Windows Server 2003 R2 (32-bit) / x64 | OK | OK | [ OK ] | 
| pitt | Mac OS X Tiger (10.4.11) / i386 | OK | OK | OK | 
| pelham | Mac OS X Leopard (10.5.6) / i386 | OK | OK | OK | 
installing R.css in E:/biocbld/bbs-2.3-bioc/meat/idiogram.buildbin-libdir
Using auto-selected zip options ''
---------- Making package idiogram ------------
  adding build stamp to DESCRIPTION
  installing NAMESPACE file and metadata
  installing R files
  installing inst files
  installing data files
  preparing package idiogram for lazy loading
Loading required package: Biobase
Loading required package: tools
Welcome to Bioconductor
  Vignettes contain introductory material. To view, type
  'openVignette()'. To cite Bioconductor, see
  'citation("Biobase")' and for packages 'citation(pkgname)'.
Loading required package: annotate
Loading required package: AnnotationDbi
Loading required package: xtable
Loading required package: plotrix
  preparing package idiogram for lazy data loading
  installing man source files
  installing indices
  installing help
 >>> Building/Updating help pages for package 'idiogram'
     Formats: text html latex example chm 
  Hs.cytoband                       text    html    latex   example chm
  buildChromLocation.2              text    html    latex   example chm
  cytoband                          text    html    latex   example chm
  idiograb                          text    html    latex   example chm
  idiogram                          text    html    latex   example chm
  idiogramExample                   text    html    latex   example chm
Microsoft HTML Help Compiler 4.74.8702
Compiling e:\biocbld\bbs-2.3-bioc\meat\R.INSTALL.876\idiogram\chm\idiogram.chm
Compile time: 0 minutes, 0 seconds
7	Topics
23	Local links
0	Internet links
1	Graphic
Created e:\biocbld\bbs-2.3-bioc\meat\R.INSTALL.876\idiogram\chm\idiogram.chm, 27,539 bytes
Compression decreased file by 1,429 bytes.
  adding MD5 sums
packaged installation of package 'idiogram' as idiogram_1.18.0.zip
* DONE (idiogram)