PLPE 1.2.0 Soo-heang Eo
 | Bioconductor Changelog |  | Snapshot Date: 2009-04-18 11:27:48 -0700 (Sat, 18 Apr 2009) |  | URL: https://hedgehog.fhcrc.org/bioconductor/branches/RELEASE_2_3/madman/Rpacks/PLPE |  | Last Changed Rev: 34811 / Revision: 38965 |  | Last Changed Date: 2008-10-21 15:32:58 -0700 (Tue, 21 Oct 2008) |  
  | wilson2  | Linux (openSUSE 11.1) / x86_64  |  OK  |  OK  |  | 
| liverpool  | Windows Server 2003 R2 (32-bit) / x64  |  OK  |  OK  | [ OK ] | 
| pitt  | Mac OS X Tiger (10.4.11) / i386  |  OK  |  OK  |  OK  | 
| pelham  | Mac OS X Leopard (10.5.6) / i386  |  OK  |  OK  |  OK  | 
installing R.css in E:/biocbld/bbs-2.3-bioc/meat/PLPE.buildbin-libdir
Using auto-selected zip options ''
---------- Making package PLPE ------------
  adding build stamp to DESCRIPTION
  installing NAMESPACE file and metadata
  installing R files
  installing inst files
  installing data files
  preparing package PLPE for lazy loading
Loading required package: Biobase
Loading required package: tools
Welcome to Bioconductor
  Vignettes contain introductory material. To view, type
  'openVignette()'. To cite Bioconductor, see
  'citation("Biobase")' and for packages 'citation(pkgname)'.
Loading required package: LPE
Loading required package: MASS
  preparing package PLPE for lazy data loading
  installing man source files
  installing indices
  installing help
 >>> Building/Updating help pages for package 'PLPE'
     Formats: text html latex example chm 
  am.trans.paired                   text    html    latex           chm
  base.error.paired                 text    html    latex           chm
  generate.null                     text    html    latex           chm
  lpe.paired                        text    html    latex   example chm
  lpe.paired.default                text    html    latex   example chm
  lpe.paired.fdr                    text    html    latex   example chm
  lpe.paired.fdr.default            text    html    latex   example chm
  plateletSet                       text    html    latex           chm
  print.lpe.paired                  text    html    latex   example chm
  print.lpe.paired.fdr              text    html    latex           chm
  summary.lpe.paired                text    html    latex   example chm
  summary.lpe.paired.fdr            text    html    latex           chm
Microsoft HTML Help Compiler 4.74.8702
Compiling e:\biocbld\bbs-2.3-bioc\meat\R.INSTALL.1032\PLPE\chm\PLPE.chm
Compile time: 0 minutes, 0 seconds
13	Topics
24	Local links
0	Internet links
1	Graphic
Created e:\biocbld\bbs-2.3-bioc\meat\R.INSTALL.1032\PLPE\chm\PLPE.chm, 21,911 bytes
Compression decreased file by 9,321 bytes.
  adding MD5 sums
packaged installation of package 'PLPE' as PLPE_1.2.0.zip
* DONE (PLPE)