gaggle 1.10.0 Dan Tenenbaum
 | Bioconductor Changelog |  | Snapshot Date: 2009-04-18 11:27:48 -0700 (Sat, 18 Apr 2009) |  | URL: https://hedgehog.fhcrc.org/bioconductor/branches/RELEASE_2_3/madman/Rpacks/gaggle |  | Last Changed Rev: 37396 / Revision: 38965 |  | Last Changed Date: 2009-02-13 14:14:07 -0800 (Fri, 13 Feb 2009) |  
  | wilson2  | Linux (openSUSE 11.1) / x86_64  |  OK  |  OK  |  | 
| liverpool  | Windows Server 2003 R2 (32-bit) / x64  | [ OK ] |  OK  |  OK  | 
| pitt  | Mac OS X Tiger (10.4.11) / i386  |  OK  |  OK  |  OK  | 
| pelham  | Mac OS X Leopard (10.5.6) / i386  |  OK  |  OK  |  OK  | 
* checking for file 'gaggle/DESCRIPTION' ... OK
* preparing 'gaggle':
* checking DESCRIPTION meta-information ... OK
* installing the package to re-build vignettes
installing R.css in E:/biocbld/bbs-2.3-bioc/tmpdir/Rinst614099786
---------- Making package gaggle ------------
  adding build stamp to DESCRIPTION
  installing NAMESPACE file and metadata
  installing R files
  installing inst files
  preparing package gaggle for lazy loading
Loading required package: rJava
Loading required package: graph
Loading required package: RUnit
  installing man source files
  installing indices
  installing help
 >>> Building/Updating help pages for package 'gaggle'
     Formats: text html latex example chm 
  broadcast                         text    html    latex           chm
Note: removing empty section \arguments in file 'connectToGaggle.Rd'
Note: removing empty section \arguments in file 'connectToGaggle.Rd'
  connectToGaggle                   text    html    latex           chm
Note: removing empty section \arguments in file 'disconnectFromGaggle.Rd'
Note: removing empty section \arguments in file 'disconnectFromGaggle.Rd'
  disconnectFromGaggle              text    html    latex           chm
  gaggleInit                        text    html    latex           chm
  geese                             text    html    latex           chm
Note: removing empty section \arguments in file 'getCluster.Rd'
Note: removing empty section \arguments in file 'getCluster.Rd'
  getCluster                        text    html    latex           chm
  getMatrix                         text    html    latex           chm
Note: removing empty section \arguments in file 'getNameList.Rd'
Note: removing empty section \arguments in file 'getNameList.Rd'
  getNameList                       text    html    latex           chm
  getNetwork                        text    html    latex           chm
  getSpecies                        text    html    latex           chm
  getTargetGoose                    text    html    latex           chm
Note: removing empty section \arguments in file 'getTuple.Rd'
Note: removing empty section \arguments in file 'getTuple.Rd'
  getTuple                          text    html    latex           chm
  hideGoose                         text    html    latex           chm
  setSpecies                        text    html    latex           chm
  setTargetGoose                    text    html    latex           chm
  showGoose                         text    html    latex           chm
  testGagglePackage                 text    html    latex           chm
Microsoft HTML Help Compiler 4.74.8702
Compiling e:\biocbld\bbs-2.3-bioc\meat\gaggle\chm\gaggle.chm
Compile time: 0 minutes, 0 seconds
18	Topics
79	Local links
0	Internet links
1	Graphic
Created e:\biocbld\bbs-2.3-bioc\meat\gaggle\chm\gaggle.chm, 25,379 bytes
Compression decreased file by 11,961 bytes.
  adding MD5 sums
* DONE (gaggle)
* creating vignettes ... OK
* removing junk files
* checking for LF line-endings in source and make files
* checking for empty or unneeded directories
* building 'gaggle_1.10.0.tar.gz'