SLqPCR 1.8.0 Matthias Kohl
 | Bioconductor Changelog |  | Snapshot Date: 2009-04-18 11:27:48 -0700 (Sat, 18 Apr 2009) |  | URL: https://hedgehog.fhcrc.org/bioconductor/branches/RELEASE_2_3/madman/Rpacks/SLqPCR |  | Last Changed Rev: 34811 / Revision: 38965 |  | Last Changed Date: 2008-10-21 15:32:58 -0700 (Tue, 21 Oct 2008) |  
  | wilson2  | Linux (openSUSE 11.1) / x86_64  |  OK  |  OK  |  | 
| liverpool  | Windows Server 2003 R2 (32-bit) / x64  |  OK  |  OK  | [ OK ] | 
| pitt  | Mac OS X Tiger (10.4.11) / i386  |  OK  |  OK  |  OK  | 
| pelham  | Mac OS X Leopard (10.5.6) / i386  |  OK  |  OK  |  OK  | 
installing R.css in E:/biocbld/bbs-2.3-bioc/meat/SLqPCR.buildbin-libdir
Using auto-selected zip options ''
---------- Making package SLqPCR ------------
  adding build stamp to DESCRIPTION
  installing R files
  installing inst files
  installing data files
  preparing package SLqPCR for lazy loading
Loading required package: RColorBrewer
  installing man source files
  installing indices
  not zipping data
  installing help
 >>> Building/Updating help pages for package 'SLqPCR'
     Formats: text html latex example chm 
  SLqPCR-package                    text    html    latex           chm
  SLqPCRdata                        text    html    latex   example chm
  geneStabM                         text    html    latex           chm
  geomMean                          text    html    latex           chm
  normPCR                           text    html    latex   example chm
  relQuantPCR                       text    html    latex           chm
  selectHKgenes                     text    html    latex   example chm
  vandesompele                      text    html    latex   example chm
Microsoft HTML Help Compiler 4.74.8702
Compiling e:\biocbld\bbs-2.3-bioc\meat\R.INSTALL.5628\SLqPCR\chm\SLqPCR.chm
Compile time: 0 minutes, 0 seconds
9	Topics
17	Local links
8	Internet links
1	Graphic
Created e:\biocbld\bbs-2.3-bioc\meat\R.INSTALL.5628\SLqPCR\chm\SLqPCR.chm, 24,223 bytes
Compression decreased file by 3,575 bytes.
  adding MD5 sums
packaged installation of package 'SLqPCR' as SLqPCR_1.8.0.zip
* DONE (SLqPCR)