This page was generated on 2021-10-16 15:58:43 -0400 (Sat, 16 Oct 2021).
|
| Hostname | OS | Arch (*) | Platform label (**) | R version | Installed pkgs |
|---|---|---|---|---|---|
| malbec2 | Linux (Ubuntu 20.04.2 LTS) | x86_64 | x86_64-linux-gnu | 4.1.1 (2021-08-10) -- "Kick Things" | 4174 |
| Click on any hostname to see more info about the system (e.g. compilers) (*) as reported by 'uname -p', except on Windows and Mac OS X (**) as reported by 'gcc -v' | |||||
A | |||||||||
| QUICK STATS | OS / Arch | INSTALL | BUILD | CHECK | |||||||||||||||||||||||||||||||
| malbec2 | Linux (Ubuntu 20.04.2 LTS) / x86_64 |
|
|
| |||||||||||||||||||||||||||||||
|
| ||||||||||||||||||||||||||||||||||
| Package | Maintainer | INSTALL | BUILD | CHECK | |||||||||||||||||||||||||||||||
| 1/406 | ABAData 1.22.0 (landing page) | Steffi Grote | OK | OK | OK | ||||||||||||||||||||||||||||||
| 2/406 | adductData 1.8.0 (landing page) | Josie Hayes | OK | OK | OK | ||||||||||||||||||||||||||||||
| 3/406 | affycompData 1.30.0 (landing page) | Harris Jaffee | OK | OK | OK | ||||||||||||||||||||||||||||||
| 4/406 | affydata 1.40.0 (landing page) | Harris Jaffee | OK | OK | WARNINGS | ||||||||||||||||||||||||||||||
| 5/406 | Affyhgu133A2Expr 1.28.0 (landing page) | Zhicheng Ji | OK | OK | OK | ||||||||||||||||||||||||||||||
| 6/406 | Affyhgu133aExpr 1.30.0 (landing page) | Zhicheng Ji | OK | OK | OK | ||||||||||||||||||||||||||||||
| 7/406 | Affyhgu133Plus2Expr 1.26.0 (landing page) | Zhicheng Ji | OK | OK | OK | ||||||||||||||||||||||||||||||
| 8/406 | AffymetrixDataTestFiles 0.30.0 (landing page) | Henrik Bengtsson | OK | OK | OK | ||||||||||||||||||||||||||||||
| 9/406 | Affymoe4302Expr 1.30.0 (landing page) | Zhicheng Ji | OK | OK | OK | ||||||||||||||||||||||||||||||
| 10/406 | airway 1.12.0 (landing page) | Michael Love | OK | OK | WARNINGS | ||||||||||||||||||||||||||||||
| 11/406 | ALL 1.34.0 (landing page) | Robert Gentleman | OK | OK | OK | ||||||||||||||||||||||||||||||
| 12/406 | ALLMLL 1.32.0 (landing page) | B. M. Bolstad | OK | OK | OK | ||||||||||||||||||||||||||||||
| 13/406 | alpineData 1.18.0 (landing page) | Michael Love | OK | OK | OK | ||||||||||||||||||||||||||||||
| 14/406 | AmpAffyExample 1.32.0 (landing page) | Rafael A. Irizarry | OK | OK | WARNINGS | ||||||||||||||||||||||||||||||
| 15/406 | AneuFinderData 1.20.0 (landing page) | Aaron Taudt | OK | OK | WARNINGS | ||||||||||||||||||||||||||||||
| 16/406 | antiProfilesData 1.28.0 (landing page) | Hector Corrada Bravo | OK | OK | OK | ||||||||||||||||||||||||||||||
| 17/406 | aracne.networks 1.18.0 (landing page) | Federico M. Giorgi | OK | OK | WARNINGS | ||||||||||||||||||||||||||||||
| 18/406 | ARRmData 1.28.0 (landing page) | Jean-Philippe Fortin | OK | OK | OK | ||||||||||||||||||||||||||||||
| 19/406 | AshkenazimSonChr21 1.22.0 (landing page) | Who to complain to | OK | OK | OK | ||||||||||||||||||||||||||||||
| 20/406 | ASICSdata 1.12.0 (landing page) | Gaƫlle Lefort | OK | OK | OK | ||||||||||||||||||||||||||||||
| 21/406 | AssessORFData 1.10.0 (landing page) | Deepank Korandla | OK | OK | OK | ||||||||||||||||||||||||||||||
|
| ||||||||||||||||||||||||||||||||||
| Package | Maintainer | INSTALL | BUILD | CHECK | |||||||||||||||||||||||||||||||
| 22/406 | bcellViper 1.28.0 (landing page) | Mariano Javier Alvarez | OK | OK | OK | ||||||||||||||||||||||||||||||
| 23/406 | beadarrayExampleData 1.30.0 (landing page) | Mark Dunning | OK | OK | OK | ||||||||||||||||||||||||||||||
| 24/406 | BeadArrayUseCases 1.30.1 (landing page) | Mike Smith | OK | OK | OK | ||||||||||||||||||||||||||||||
| 25/406 | BeadSorted.Saliva.EPIC 1.0.0 (landing page) | Jonah Fisher | OK | OK | OK | ||||||||||||||||||||||||||||||
| 26/406 | benchmarkfdrData2019 1.6.0 (landing page) | Stephanie Hicks | OK | OK | OK | ||||||||||||||||||||||||||||||
| 27/406 | beta7 1.30.0 (landing page) | Jean Yang | OK | OK | WARNINGS | ||||||||||||||||||||||||||||||
| 28/406 | BioImageDbs 1.0.5 (landing page) | Satoshi Kume | OK | OK | OK | ||||||||||||||||||||||||||||||
| 29/406 | biotmleData 1.16.0 (landing page) | Nima Hejazi | OK | OK | WARNINGS | ||||||||||||||||||||||||||||||
| 30/406 | biscuiteerData 1.6.0 (landing page) | "Jacob Morrison" | OK | OK | OK | ||||||||||||||||||||||||||||||
| 31/406 | bladderbatch 1.30.0 (landing page) | Jeffrey T. Leek | OK | OK | WARNINGS | ||||||||||||||||||||||||||||||
| 32/406 | blimaTestingData 1.12.0 (landing page) | Vojtech Kulvait | OK | OK | OK | ||||||||||||||||||||||||||||||
| 33/406 | BloodCancerMultiOmics2017 1.12.0 (landing page) | Malgorzata Oles | OK | OK | WARNINGS | ||||||||||||||||||||||||||||||
| 34/406 | bodymapRat 1.8.0 (landing page) | Stephanie Hicks | OK | OK | OK | ||||||||||||||||||||||||||||||
| 35/406 | brainImageRdata 1.10.0 (landing page) | Sara Linker | OK | OK | OK | ||||||||||||||||||||||||||||||
| 36/406 | breakpointRdata 1.10.0 (landing page) | David Porubsky | OK | OK | OK | ||||||||||||||||||||||||||||||
| 37/406 | breastCancerMAINZ 1.30.0 (landing page) | Markus Schroeder | OK | OK | WARNINGS | ||||||||||||||||||||||||||||||
| 38/406 | breastCancerNKI 1.30.0 (landing page) | Markus Schroeder | OK | OK | WARNINGS | ||||||||||||||||||||||||||||||
| 39/406 | breastCancerTRANSBIG 1.30.0 (landing page) | Markus Schroeder | OK | OK | WARNINGS | ||||||||||||||||||||||||||||||
| 40/406 | breastCancerUNT 1.30.0 (landing page) | Markus Schroeder | OK | OK | WARNINGS | ||||||||||||||||||||||||||||||
| 41/406 | breastCancerUPP 1.30.0 (landing page) | Markus Schroeder | OK | OK | WARNINGS | ||||||||||||||||||||||||||||||
| 42/406 | breastCancerVDX 1.30.0 (landing page) | Markus Schroeder | OK | OK | WARNINGS | ||||||||||||||||||||||||||||||
| 43/406 | brgedata 1.14.0 (landing page) | Carlos Ruiz-Arenas | OK | OK | WARNINGS | ||||||||||||||||||||||||||||||
| 44/406 | bronchialIL13 1.30.0 (landing page) | Vince Carey | OK | OK | OK | ||||||||||||||||||||||||||||||
| 45/406 | bsseqData 0.30.0 (landing page) | Kasper Daniel Hansen | OK | OK | WARNINGS | ||||||||||||||||||||||||||||||
|
| ||||||||||||||||||||||||||||||||||
| Package | Maintainer | INSTALL | BUILD | CHECK | |||||||||||||||||||||||||||||||
| 46/406 | cancerdata 1.30.0 (landing page) | Daniel Kosztyla | OK | OK | OK | ||||||||||||||||||||||||||||||
| 47/406 | CardinalWorkflows 1.24.0 (landing page) | Kylie A. Bemis | OK | OK | OK | ||||||||||||||||||||||||||||||
| 48/406 | ccdata 1.18.0 (landing page) | Alex Pickering | OK | OK | WARNINGS | ||||||||||||||||||||||||||||||
| 49/406 | CCl4 1.30.0 (landing page) | Audrey Kauffmann | OK | OK | WARNINGS | ||||||||||||||||||||||||||||||
| 50/406 | ccTutorial 1.30.0 (landing page) | Joern Toedling | OK | OK | OK | ||||||||||||||||||||||||||||||
| 51/406 | celarefData 1.10.0 (landing page) | Sarah Williams | OK | OK | OK | ||||||||||||||||||||||||||||||
| 52/406 | celldex 1.2.0 (landing page) | Aaron Lun | OK | OK | WARNINGS | ||||||||||||||||||||||||||||||
| 53/406 | CellMapperData 1.18.0 (landing page) | Brad Nelms | OK | OK | OK | ||||||||||||||||||||||||||||||
| 54/406 | VJ Carey | ERROR | ERROR | skipped | |||||||||||||||||||||||||||||||
| 55/406 | VJ Carey | ERROR | ERROR | skipped | |||||||||||||||||||||||||||||||
| 56/406 | VJ Carey | ERROR | OK | ERROR | |||||||||||||||||||||||||||||||
| 57/406 | VJ Carey | OK | ERROR | skipped | |||||||||||||||||||||||||||||||
| 58/406 | ChAMPdata 2.24.0 (landing page) | Yuan Tian | OK | OK | OK | ||||||||||||||||||||||||||||||
| 59/406 | ChIC.data 1.12.0 (landing page) | Carmen Maria Livi | OK | OK | OK | ||||||||||||||||||||||||||||||
| 60/406 | ChimpHumanBrainData 1.30.0 (landing page) | Sean Davis | OK | OK | OK | ||||||||||||||||||||||||||||||
| 61/406 | chipenrich.data 2.16.0 (landing page) | Raymond G. Cavalcante | OK | OK | WARNINGS | ||||||||||||||||||||||||||||||
| 62/406 | ChIPexoQualExample 1.16.1 (landing page) | Rene Welch | OK | OK | OK | ||||||||||||||||||||||||||||||
| 63/406 | chipseqDBData 1.8.1 (landing page) | Aaron Lun | OK | OK | OK | ||||||||||||||||||||||||||||||
| 64/406 | ChIPXpressData 1.30.0 (landing page) | George Wu | OK | OK | WARNINGS | ||||||||||||||||||||||||||||||
| 65/406 | chromstaRData 1.18.0 (landing page) | Aaron Taudt | OK | OK | OK | ||||||||||||||||||||||||||||||
| 66/406 | CLL 1.32.0 (landing page) | Robert Gentleman | OK | OK | OK | ||||||||||||||||||||||||||||||
| 67/406 | CLLmethylation 1.12.0 (landing page) | Malgorzata Oles | OK | OK | OK | ||||||||||||||||||||||||||||||
| 68/406 | CluMSIDdata 1.8.0 (landing page) | Tobias Depke | OK | OK | OK | ||||||||||||||||||||||||||||||
| 69/406 | clustifyrdatahub 1.2.0 (landing page) | Rui Fu | OK | OK | OK | ||||||||||||||||||||||||||||||
| 70/406 | cMap2data 1.28.0 (landing page) | J. Saez-Rodriguez | OK | OK | WARNINGS | ||||||||||||||||||||||||||||||
| 71/406 | cnvGSAdata 1.28.0 (landing page) | Joseph Lugo | OK | OK | WARNINGS | ||||||||||||||||||||||||||||||
| 72/406 | COHCAPanno 1.28.0 (landing page) | Charles Warden | OK | OK | OK | ||||||||||||||||||||||||||||||
| 73/406 | colonCA 1.34.0 (landing page) | W Sylvia Merk | OK | OK | WARNINGS | ||||||||||||||||||||||||||||||
| 74/406 | CONFESSdata 1.20.0 (landing page) | Diana LOW | OK | OK | OK | ||||||||||||||||||||||||||||||
| 75/406 | ConnectivityMap 1.28.0 (landing page) | Paul Shannon | OK | OK | OK | ||||||||||||||||||||||||||||||
| 76/406 | COPDSexualDimorphism.data 1.28.0 (landing page) | J Fah Sathirapongsasuti | OK | OK | WARNINGS | ||||||||||||||||||||||||||||||
| 77/406 | CopyhelpeR 1.24.0 (landing page) | Oscar Krijgsman | OK | OK | OK | ||||||||||||||||||||||||||||||
| 78/406 | CopyNeutralIMA 1.10.0 (landing page) | Xavier Pastor Hostench | OK | OK | OK | ||||||||||||||||||||||||||||||
| 79/406 | COSMIC.67 1.28.0 (landing page) | Julian Gehring | OK | OK | OK | ||||||||||||||||||||||||||||||
| 80/406 | CRCL18 1.12.0 (landing page) | Claudio Isella | OK | OK | OK | ||||||||||||||||||||||||||||||
| 81/406 | curatedAdipoArray 1.4.0 (landing page) | Mahmoud Ahmed | OK | OK | OK | ||||||||||||||||||||||||||||||
| 82/406 | curatedAdipoChIP 1.8.0 (landing page) | Mahmoud Ahmed | OK | OK | OK | ||||||||||||||||||||||||||||||
| 83/406 | curatedAdipoRNA 1.8.0 (landing page) | Mahmoud Ahmed | OK | OK | WARNINGS | ||||||||||||||||||||||||||||||
| 84/406 | curatedBladderData 1.28.0 (landing page) | Markus Riester | OK | OK | OK | ||||||||||||||||||||||||||||||
| 85/406 | curatedBreastData 2.20.0 (landing page) | Katie Planey | OK | OK | OK | ||||||||||||||||||||||||||||||
| 86/406 | curatedCRCData 2.24.0 (landing page) | Princy Parsana | OK | OK | OK | ||||||||||||||||||||||||||||||
| 87/406 | curatedMetagenomicData 3.0.10 (landing page) | Lucas schiffer | OK | OK | OK | ||||||||||||||||||||||||||||||
| 88/406 | curatedOvarianData 1.30.0 (landing page) | Levi Waldron | OK | OK | OK | ||||||||||||||||||||||||||||||
| 89/406 | curatedTCGAData 1.14.0 (landing page) | Marcel Ramos | OK | OK | OK | ||||||||||||||||||||||||||||||
|
| ||||||||||||||||||||||||||||||||||
| Package | Maintainer | INSTALL | BUILD | CHECK | |||||||||||||||||||||||||||||||
| 90/406 | DAPARdata 1.22.2 (landing page) | Samuel Wieczorek | OK | OK | WARNINGS | ||||||||||||||||||||||||||||||
| 91/406 | davidTiling 1.32.0 (landing page) | Wolfgang Huber | OK | OK | WARNINGS | ||||||||||||||||||||||||||||||
| 92/406 | depmap 1.6.0 (landing page) | Laurent Gatto | OK | OK | OK | ||||||||||||||||||||||||||||||
| 93/406 | derfinderData 2.10.0 (landing page) | Leonardo Collado-Torres | OK | OK | OK | ||||||||||||||||||||||||||||||
| 94/406 | DeSousa2013 1.28.0 (landing page) | Xin Wang | OK | OK | OK | ||||||||||||||||||||||||||||||
| 95/406 | DExMAdata 1.0.0 (landing page) | Juan Antonio Villatoro-GarcĆa | OK | OK | OK | ||||||||||||||||||||||||||||||
| 96/406 | diffloopdata 1.20.0 (landing page) | Caleb Lareau | OK | OK | OK | ||||||||||||||||||||||||||||||
| 97/406 | diggitdata 1.24.0 (landing page) | Mariano Javier Alvarez | OK | OK | OK | ||||||||||||||||||||||||||||||
| 98/406 | DLBCL 1.32.0 (landing page) | Marcus Dittrich | OK | OK | WARNINGS | ||||||||||||||||||||||||||||||
| 99/406 | DmelSGI 1.24.0 (landing page) | Mike Smith | OK | OK | OK | ||||||||||||||||||||||||||||||
| 100/406 | DMRcatedata 2.10.0 (landing page) | Tim Peters | OK | OK | OK | ||||||||||||||||||||||||||||||
| 101/406 | DonaPLLP2013 1.30.0 (landing page) | Joseph D. Barry | OK | OK | OK | ||||||||||||||||||||||||||||||
| 102/406 | dorothea 1.4.2 (landing page) | Christian H. Holland | OK | OK | OK | ||||||||||||||||||||||||||||||
| 103/406 | DREAM4 1.28.0 (landing page) | Paul Shannon | OK | OK | WARNINGS | ||||||||||||||||||||||||||||||
| 104/406 | dressCheck 0.30.0 (landing page) | Vincent Carey | OK | OK | OK | ||||||||||||||||||||||||||||||
| 105/406 | DropletTestFiles 1.2.0 (landing page) | Aaron Lun | OK | OK | OK | ||||||||||||||||||||||||||||||
| 106/406 | DrugVsDiseasedata 1.28.0 (landing page) | J. Saez-Rodriguez | OK | OK | OK | ||||||||||||||||||||||||||||||
| 107/406 | VJ Carey | ERROR | ERROR | skipped | |||||||||||||||||||||||||||||||
| 108/406 | DuoClustering2018 1.10.0 (landing page) | Angelo Duò | OK | OK | OK | ||||||||||||||||||||||||||||||
| 109/406 | DvDdata 1.28.0 (landing page) | J. Saez-Rodriguez | OK | OK | WARNINGS | ||||||||||||||||||||||||||||||
| 110/406 | dyebiasexamples 1.32.0 (landing page) | Philip Lijnzaad | OK | OK | WARNINGS | ||||||||||||||||||||||||||||||
|
| ||||||||||||||||||||||||||||||||||
| Package | Maintainer | INSTALL | BUILD | CHECK | |||||||||||||||||||||||||||||||
| 111/406 | EatonEtAlChIPseq 0.30.0 (landing page) | Patrick Aboyoun | OK | OK | WARNINGS | ||||||||||||||||||||||||||||||
| 112/406 | ecoliLeucine 1.32.0 (landing page) | Laurent Gautier | OK | OK | WARNINGS | ||||||||||||||||||||||||||||||
| 113/406 | EGSEAdata 1.20.0 (landing page) | Monther Alhamdoosh | OK | OK | OK | ||||||||||||||||||||||||||||||
| 114/406 | ELMER.data 2.16.0 (landing page) | Tiago Chedraoui Silva | OK | OK | OK | ||||||||||||||||||||||||||||||
| 115/406 | emtdata 1.0.0 (landing page) | Malvika D. Kharbanda | OK | OK | OK | ||||||||||||||||||||||||||||||
| 116/406 | estrogen 1.38.0 (landing page) | Wolfgang Huber | OK | OK | OK | ||||||||||||||||||||||||||||||
| 117/406 | etec16s 1.20.0 (landing page) | Joseph N. Paulson | OK | OK | OK | ||||||||||||||||||||||||||||||
| 118/406 | ewceData 1.0.0 (landing page) | Alan Murphy | OK | OK | OK | ||||||||||||||||||||||||||||||
|
| ||||||||||||||||||||||||||||||||||
| Package | Maintainer | INSTALL | BUILD | CHECK | |||||||||||||||||||||||||||||||
| 119/406 | faahKO 1.32.0 (landing page) | Steffen Neumann | OK | OK | OK | ||||||||||||||||||||||||||||||
| 120/406 | fabiaData 1.30.0 (landing page) | Sepp Hochreiter | OK | OK | OK | ||||||||||||||||||||||||||||||
| 121/406 | Florian Hahne | ERROR | OK | ERROR | |||||||||||||||||||||||||||||||
| 122/406 | FANTOM3and4CAGE 1.28.0 (landing page) | Vanja Haberle | OK | OK | OK | ||||||||||||||||||||||||||||||
| 123/406 | ffpeExampleData 1.30.0 (landing page) | Levi Waldron | OK | OK | OK | ||||||||||||||||||||||||||||||
| 124/406 | fibroEset 1.34.0 (landing page) | Sylvia Merk | OK | OK | WARNINGS | ||||||||||||||||||||||||||||||
| 125/406 | FieldEffectCrc 1.2.0 (landing page) | Christopher Dampier | OK | OK | OK | ||||||||||||||||||||||||||||||
| 126/406 | FIs 1.20.0 (landing page) | Herbert Braselmann | OK | OK | OK | ||||||||||||||||||||||||||||||
| 127/406 | fission 1.12.0 (landing page) | Michael Love | OK | OK | OK | ||||||||||||||||||||||||||||||
| 128/406 | Fletcher2013a 1.28.0 (landing page) | Mauro Castro | OK | OK | OK | ||||||||||||||||||||||||||||||
| 129/406 | Fletcher2013b 1.28.0 (landing page) | Mauro Castro | OK | OK | OK | ||||||||||||||||||||||||||||||
| 130/406 | flowPloidyData 1.18.0 (landing page) | Tyler Smith | OK | OK | OK | ||||||||||||||||||||||||||||||
| 131/406 | FlowSorted.Blood.450k 1.30.0 (landing page) | Andrew E Jaffe | OK | OK | WARNINGS | ||||||||||||||||||||||||||||||
| 132/406 | FlowSorted.Blood.EPIC 1.10.1 (landing page) | Lucas A. Salas | OK | OK | OK | ||||||||||||||||||||||||||||||
| 133/406 | FlowSorted.CordBlood.450k 1.20.0 (landing page) | Shan V. Andrews | OK | OK | WARNINGS | ||||||||||||||||||||||||||||||
| 134/406 | FlowSorted.CordBloodCombined.450k 1.8.0 (landing page) | Lucas A. Salas | OK | OK | OK | ||||||||||||||||||||||||||||||
| 135/406 | FlowSorted.CordBloodNorway.450k 1.18.0 (landing page) | kristina gervin | OK | OK | WARNINGS | ||||||||||||||||||||||||||||||
| 136/406 | FlowSorted.DLPFC.450k 1.28.0 (landing page) | Andrew E Jaffe | OK | OK | WARNINGS | ||||||||||||||||||||||||||||||
| 137/406 | flowWorkspaceData 3.4.0 (landing page) | Mike Jiang | OK | OK | OK | ||||||||||||||||||||||||||||||
| 138/406 | frmaExampleData 1.28.0 (landing page) | Matthew N. McCall | OK | OK | WARNINGS | ||||||||||||||||||||||||||||||
| 139/406 | furrowSeg 1.20.0 (landing page) | Joseph Barry | OK | OK | WARNINGS | ||||||||||||||||||||||||||||||
|
| ||||||||||||||||||||||||||||||||||
| Package | Maintainer | INSTALL | BUILD | CHECK | |||||||||||||||||||||||||||||||
| 140/406 | gageData 2.30.0 (landing page) | Weijun Luo | OK | OK | OK | ||||||||||||||||||||||||||||||
| 141/406 | gaschYHS 1.30.0 (landing page) | Vince Carey | OK | OK | OK | ||||||||||||||||||||||||||||||
| 142/406 | gatingMLData 2.32.0 (landing page) | J. Spidlen | OK | OK | OK | ||||||||||||||||||||||||||||||
| 143/406 | gcspikelite 1.30.0 (landing page) | Mark Robinson | OK | OK | WARNINGS | ||||||||||||||||||||||||||||||
| 144/406 | geneLenDataBase 1.28.0 (landing page) | Matthew Young | OK | OK | WARNINGS | ||||||||||||||||||||||||||||||
| 145/406 | genomationData 1.24.0 (landing page) | Vedran Franke | OK | OK | OK | ||||||||||||||||||||||||||||||
| 146/406 | GenomicDistributionsData 1.0.0 (landing page) | Kristyna Kupkova | OK | OK | OK | ||||||||||||||||||||||||||||||
| 147/406 | GeuvadisTranscriptExpr 1.20.0 (landing page) | Malgorzata Nowicka | OK | OK | OK | ||||||||||||||||||||||||||||||
| 148/406 | GIGSEAdata 1.10.0 (landing page) | Shijia Zhu | OK | OK | WARNINGS | ||||||||||||||||||||||||||||||
| 149/406 | golubEsets 1.34.0 (landing page) | Vince Carey | OK | OK | OK | ||||||||||||||||||||||||||||||
| 150/406 | gpaExample 1.4.0 (landing page) | Dongjun Chung | OK | OK | OK | ||||||||||||||||||||||||||||||
| 151/406 | grndata 1.24.0 (landing page) | Pau Bellot | OK | OK | WARNINGS | ||||||||||||||||||||||||||||||
| 152/406 | GSBenchMark 1.12.0 (landing page) | Bahman Afsari | OK | OK | OK | ||||||||||||||||||||||||||||||
| 153/406 | GSE13015 1.0.0 (landing page) | Darawan Rinchai | OK | OK | OK | ||||||||||||||||||||||||||||||
| 154/406 | GSE62944 1.20.0 (landing page) | Bioconductor Package Maintainer | OK | OK | OK | ||||||||||||||||||||||||||||||
| 155/406 | Valerie Bares | OK | ERROR | skipped | |||||||||||||||||||||||||||||||
| 156/406 | GSVAdata 1.28.0 (landing page) | Robert Castelo | OK | OK | OK | ||||||||||||||||||||||||||||||
| 157/406 | GWASdata 1.30.0 (landing page) | Stephanie Gogarten | OK | OK | OK | ||||||||||||||||||||||||||||||
|
| ||||||||||||||||||||||||||||||||||
| Package | Maintainer | INSTALL | BUILD | CHECK | |||||||||||||||||||||||||||||||
| 158/406 | h5vcData 2.12.0 (landing page) | Paul Theodor Pyl | OK | OK | OK | ||||||||||||||||||||||||||||||
| 159/406 | hapmap100khind 1.34.0 (landing page) | Benilton Carvalho | OK | OK | OK | ||||||||||||||||||||||||||||||
| 160/406 | hapmap100kxba 1.34.0 (landing page) | Benilton Carvalho | OK | OK | OK | ||||||||||||||||||||||||||||||
| 161/406 | hapmap500knsp 1.34.0 (landing page) | Benilton Carvalho | OK | OK | OK | ||||||||||||||||||||||||||||||
| 162/406 | hapmap500ksty 1.34.0 (landing page) | Benilton Carvalho | OK | OK | OK | ||||||||||||||||||||||||||||||
| 163/406 | hapmapsnp5 1.34.0 (landing page) | Benilton Carvalho | OK | OK | OK | ||||||||||||||||||||||||||||||
| 164/406 | hapmapsnp6 1.34.0 (landing page) | Benilton Carvalho | OK | OK | OK | ||||||||||||||||||||||||||||||
| 165/406 | harbChIP 1.30.0 (landing page) | VJ Carey | OK | OK | OK | ||||||||||||||||||||||||||||||
| 166/406 | HarmanData 1.20.0 (landing page) | Jason Ross | OK | OK | WARNINGS | ||||||||||||||||||||||||||||||
| 167/406 | HarmonizedTCGAData 1.14.0 (landing page) | Tianle Ma | OK | OK | OK | ||||||||||||||||||||||||||||||
| 168/406 | HCAData 1.8.0 (landing page) | Federico Marini | OK | OK | OK | ||||||||||||||||||||||||||||||
| 169/406 | HD2013SGI 1.32.0 (landing page) | Mike Smith | OK | OK | OK | ||||||||||||||||||||||||||||||
| 170/406 | HDCytoData 1.12.0 (landing page) | Lukas M. Weber | OK | OK | OK | ||||||||||||||||||||||||||||||
| 171/406 | healthyFlowData 1.30.0 (landing page) | Ariful Azad | OK | OK | OK | ||||||||||||||||||||||||||||||
| 172/406 | HEEBOdata 1.30.0 (landing page) | Agnes Paquet | OK | OK | WARNINGS | ||||||||||||||||||||||||||||||
| 173/406 | HelloRangesData 1.18.0 (landing page) | Michael Lawrence | OK | OK | OK | ||||||||||||||||||||||||||||||
| 174/406 | hgu133abarcodevecs 1.30.0 (landing page) | Matthew N. McCall | OK | OK | OK | ||||||||||||||||||||||||||||||
| 175/406 | hgu133plus2barcodevecs 1.30.0 (landing page) | Matthew N. McCall | OK | OK | OK | ||||||||||||||||||||||||||||||
| 176/406 | hgu133plus2CellScore 1.12.0 (landing page) | Nancy Mah | OK | OK | WARNINGS | ||||||||||||||||||||||||||||||
| 177/406 | hgu2beta7 1.32.0 (landing page) | Bioconductor Package Maintainer | OK | OK | WARNINGS | ||||||||||||||||||||||||||||||
| 178/406 | HiCDataHumanIMR90 1.12.0 (landing page) | Nicolas Servant | OK | OK | OK | ||||||||||||||||||||||||||||||
| 179/406 | HiCDataLymphoblast 1.28.0 (landing page) | Borbala Mifsud | OK | OK | OK | ||||||||||||||||||||||||||||||
| 180/406 | HighlyReplicatedRNASeq 1.4.0 (landing page) | Constantin Ahlmann-Eltze | OK | OK | OK | ||||||||||||||||||||||||||||||
| 181/406 | Hiiragi2013 1.28.0 (landing page) | Andrzej Oles | OK | OK | OK | ||||||||||||||||||||||||||||||
| 182/406 | HIVcDNAvantWout03 1.32.0 (landing page) | Chris Fraley | OK | OK | WARNINGS | ||||||||||||||||||||||||||||||
| 183/406 | HMP16SData 1.12.0 (landing page) | Lucas schiffer | OK | OK | OK | ||||||||||||||||||||||||||||||
| 184/406 | HMP2Data 1.6.0 (landing page) | John Stansfield | OK | OK | OK | ||||||||||||||||||||||||||||||
| 185/406 | Vincent Carey | ERROR | OK | ERROR | |||||||||||||||||||||||||||||||
| 186/406 | HSMMSingleCell 1.12.0 (landing page) | Cole Trapnell | OK | OK | WARNINGS | ||||||||||||||||||||||||||||||
| 187/406 | HumanAffyData 1.18.0 (landing page) | Brad Nelms | OK | OK | OK | ||||||||||||||||||||||||||||||
| 188/406 | humanStemCell 0.32.0 (landing page) | R. Gentleman | OK | OK | WARNINGS | ||||||||||||||||||||||||||||||
|
| ||||||||||||||||||||||||||||||||||
| Package | Maintainer | INSTALL | BUILD | CHECK | |||||||||||||||||||||||||||||||
| 189/406 | IHWpaper 1.20.0 (landing page) | Nikos Ignatiadis | OK | ERROR | skipped | ||||||||||||||||||||||||||||||
| 190/406 | Illumina450ProbeVariants.db 1.28.0 (landing page) | Tiffany Morris | OK | OK | OK | ||||||||||||||||||||||||||||||
| 191/406 | IlluminaDataTestFiles 1.30.0 (landing page) | Kasper Daniel Hansen | OK | OK | OK | ||||||||||||||||||||||||||||||
| 192/406 | imcdatasets 1.0.1 (landing page) | Nicolas Damond | OK | OK | OK | ||||||||||||||||||||||||||||||
| 193/406 | ITALICSData 2.30.0 (landing page) | Guillem Rigaill | OK | OK | WARNINGS | ||||||||||||||||||||||||||||||
| 194/406 | Iyer517 1.34.0 (landing page) | Vince Carey | OK | OK | OK | ||||||||||||||||||||||||||||||
|
| ||||||||||||||||||||||||||||||||||
| Package | Maintainer | INSTALL | BUILD | CHECK | |||||||||||||||||||||||||||||||
| 195/406 | JASPAR2014 1.28.0 (landing page) | Ge Tan | OK | OK | WARNINGS | ||||||||||||||||||||||||||||||
| 196/406 | JASPAR2016 1.20.0 (landing page) | Ge Tan | OK | OK | OK | ||||||||||||||||||||||||||||||
| 197/406 | Stephen Hartley | OK | OK | ERROR | |||||||||||||||||||||||||||||||
|
| ||||||||||||||||||||||||||||||||||
| Package | Maintainer | INSTALL | BUILD | CHECK | |||||||||||||||||||||||||||||||
| 198/406 | KEGGandMetacoreDzPathwaysGEO 1.12.0 (landing page) | Gaurav Bhatti | OK | OK | OK | ||||||||||||||||||||||||||||||
| 199/406 | KEGGdzPathwaysGEO 1.30.0 (landing page) | Gaurav Bhatti | OK | OK | OK | ||||||||||||||||||||||||||||||
| 200/406 | kidpack 1.34.0 (landing page) | Wolfgang Huber | OK | OK | WARNINGS | ||||||||||||||||||||||||||||||
| 201/406 | KOdata 1.18.0 (landing page) | Shana White | OK | OK | WARNINGS | ||||||||||||||||||||||||||||||
|
| ||||||||||||||||||||||||||||||||||
| Package | Maintainer | INSTALL | BUILD | CHECK | |||||||||||||||||||||||||||||||
| 202/406 | leeBamViews 1.28.0 (landing page) | VJ Carey | OK | OK | OK | ||||||||||||||||||||||||||||||
| 203/406 | leukemiasEset 1.28.0 (landing page) | Sara Aibar | OK | OK | OK | ||||||||||||||||||||||||||||||
| 204/406 | LiebermanAidenHiC2009 0.30.0 (landing page) | Felix Klein | OK | OK | WARNINGS | ||||||||||||||||||||||||||||||
| 205/406 | ListerEtAlBSseq 1.24.0 (landing page) | Kamal Kishore | OK | OK | WARNINGS | ||||||||||||||||||||||||||||||
| 206/406 | LRcellTypeMarkers 1.0.0 (landing page) | Wenjing Ma | OK | OK | OK | ||||||||||||||||||||||||||||||
| 207/406 | lumiBarnes 1.32.0 (landing page) | Pan Du | OK | OK | WARNINGS | ||||||||||||||||||||||||||||||
| 208/406 | LungCancerACvsSCCGEO 1.28.0 (landing page) | Adi Laurentiu Tarca | OK | OK | OK | ||||||||||||||||||||||||||||||
| 209/406 | LungCancerLines 0.30.0 (landing page) | Cory Barr | OK | OK | OK | ||||||||||||||||||||||||||||||
| 210/406 | lungExpression 0.30.0 (landing page) | Robert Scharpf | OK | OK | OK | ||||||||||||||||||||||||||||||
| 211/406 | lydata 1.18.0 (landing page) | Alex Pickering | OK | OK | OK | ||||||||||||||||||||||||||||||
|
| ||||||||||||||||||||||||||||||||||
| Package | Maintainer | INSTALL | BUILD | CHECK | |||||||||||||||||||||||||||||||
| 212/406 | M3DExampleData 1.18.0 (landing page) | Tallulah Andrews | OK | OK | WARNINGS | ||||||||||||||||||||||||||||||
| 213/406 | macrophage 1.8.0 (landing page) | Michael Love | OK | OK | OK | ||||||||||||||||||||||||||||||
| 214/406 | MACSdata 1.0.0 (landing page) | Qiang Hu | OK | OK | OK | ||||||||||||||||||||||||||||||
| 215/406 | mammaPrintData 1.28.0 (landing page) | Luigi Marchionni | OK | OK | OK | ||||||||||||||||||||||||||||||
| 216/406 | mAPKLData 1.24.0 (landing page) | Argiris Sakellariou | OK | OK | WARNINGS | ||||||||||||||||||||||||||||||
| 217/406 | maqcExpression4plex 1.36.0 (landing page) | Benilton Carvalho | OK | OK | OK | ||||||||||||||||||||||||||||||
| 218/406 | MAQCsubset 1.30.0 (landing page) | VJ Carey | OK | OK | OK | ||||||||||||||||||||||||||||||
| 219/406 | Laurent Gatto | OK | OK | WARNINGS | |||||||||||||||||||||||||||||||
| 220/406 | MAQCsubsetILM 1.30.0 (landing page) | Laurent Gatto | OK | OK | OK | ||||||||||||||||||||||||||||||
| 221/406 | mCSEAdata 1.12.0 (landing page) | Jordi Martorell MarugƔn | OK | OK | WARNINGS | ||||||||||||||||||||||||||||||
| 222/406 | mcsurvdata 1.10.0 (landing page) | Adria Caballe Mestres | OK | OK | OK | ||||||||||||||||||||||||||||||
| 223/406 | MEDIPSData 1.28.0 (landing page) | Lukas Chavez | OK | OK | WARNINGS | ||||||||||||||||||||||||||||||
| 224/406 | MEEBOdata 1.30.0 (landing page) | Agnes Paquet | OK | OK | WARNINGS | ||||||||||||||||||||||||||||||
| 225/406 | MetaGxBreast 1.12.0 (landing page) | Benjamin Haibe-Kains | OK | OK | OK | ||||||||||||||||||||||||||||||
| 226/406 | MetaGxOvarian 1.12.0 (landing page) | Michael Zon | OK | OK | WARNINGS | ||||||||||||||||||||||||||||||
| 227/406 | MetaGxPancreas 1.12.1 (landing page) | Benjamin Haibe-Kains | OK | OK | OK | ||||||||||||||||||||||||||||||
| 228/406 | metaMSdata 1.28.0 (landing page) | Yann Guitton | OK | OK | OK | ||||||||||||||||||||||||||||||
| 229/406 | MethylAidData 1.24.0 (landing page) | M. van Iterson | OK | OK | OK | ||||||||||||||||||||||||||||||
| 230/406 | methylclockData 1.0.9 (landing page) | Dolors Pelegri-Siso | OK | OK | WARNINGS | ||||||||||||||||||||||||||||||
| 231/406 | MethylSeqData 1.2.0 (landing page) | Peter Hickey | OK | OK | OK | ||||||||||||||||||||||||||||||
| 232/406 | microbiomeDataSets 1.0.1 (landing page) | Leo Lahti | OK | OK | OK | ||||||||||||||||||||||||||||||
| 233/406 | microRNAome 1.14.0 (landing page) | Matthew N. McCall | OK | OK | OK | ||||||||||||||||||||||||||||||
| 234/406 | MIGSAdata 1.16.0 (landing page) | Juan C. Rodriguez | OK | OK | OK | ||||||||||||||||||||||||||||||
| 235/406 | minfiData 0.38.0 (landing page) | Kasper Daniel Hansen | OK | OK | WARNINGS | ||||||||||||||||||||||||||||||
| 236/406 | minfiDataEPIC 1.18.0 (landing page) | Kasper Daniel Hansen | OK | OK | WARNINGS | ||||||||||||||||||||||||||||||
| 237/406 | minionSummaryData 1.22.0 (landing page) | Mike Smith | OK | OK | OK | ||||||||||||||||||||||||||||||
| 238/406 | miRcompData 1.22.0 (landing page) | Matthew N. McCall | OK | OK | OK | ||||||||||||||||||||||||||||||
| 239/406 | miRNATarget 1.30.0 (landing page) | Y-h. Taguchi | OK | OK | OK | ||||||||||||||||||||||||||||||
| 240/406 | MMAPPR2data 1.6.0 (landing page) | Jonathon Hill | OK | OK | OK | ||||||||||||||||||||||||||||||
| 241/406 | MMDiffBamSubset 1.28.0 (landing page) | Gabriele Schweikert | OK | OK | OK | ||||||||||||||||||||||||||||||
| 242/406 | MOFAdata 1.8.0 (landing page) | Britta Velten | OK | OK | OK | ||||||||||||||||||||||||||||||
| 243/406 | mosaicsExample 1.30.0 (landing page) | Dongjun Chung | OK | OK | OK | ||||||||||||||||||||||||||||||
| 244/406 | mouse4302barcodevecs 1.30.0 (landing page) | Matthew N. McCall | OK | OK | OK | ||||||||||||||||||||||||||||||
| 245/406 | MouseGastrulationData 1.6.0 (landing page) | Jonathan Griffiths | OK | OK | OK | ||||||||||||||||||||||||||||||
| 246/406 | MouseThymusAgeing 1.0.0 (landing page) | Mike Morgan | OK | OK | OK | ||||||||||||||||||||||||||||||
| 247/406 | msd16s 1.12.0 (landing page) | Joseph N. Paulson | OK | OK | OK | ||||||||||||||||||||||||||||||
| 248/406 | msdata 0.32.0 (landing page) | Steffen Neumann | OK | OK | OK | ||||||||||||||||||||||||||||||
| 249/406 | msigdb 1.0.0 (landing page) | Dharmesh D. Bhuva | OK | OK | OK | ||||||||||||||||||||||||||||||
| 250/406 | MSMB 1.10.0 (landing page) | Wolfgang Huber | OK | OK | WARNINGS | ||||||||||||||||||||||||||||||
| 251/406 | msPurityData 1.20.0 (landing page) | Thomas N. Lawson | OK | OK | OK | ||||||||||||||||||||||||||||||
| 252/406 | msqc1 1.20.0 (landing page) | Christian Panse | OK | OK | OK | ||||||||||||||||||||||||||||||
| 253/406 | MSstatsBioData 1.14.0 (landing page) | Meena Choi | OK | ERROR | skipped | ||||||||||||||||||||||||||||||
| 254/406 | mtbls2 1.22.0 (landing page) | Steffen Neumann | OK | ERROR | skipped | ||||||||||||||||||||||||||||||
| 255/406 | MUGAExampleData 1.12.0 (landing page) | Daniel Gatti | OK | OK | OK | ||||||||||||||||||||||||||||||
| 256/406 | muscData 1.6.0 (landing page) | Helena L. Crowell | OK | OK | WARNINGS | ||||||||||||||||||||||||||||||
| 257/406 | mvoutData 1.28.0 (landing page) | VJ Carey | OK | OK | OK | ||||||||||||||||||||||||||||||
|
| ||||||||||||||||||||||||||||||||||
| Package | Maintainer | INSTALL | BUILD | CHECK | |||||||||||||||||||||||||||||||
| 258/406 | NanoporeRNASeq 1.2.1 (landing page) | Ying Chen Developer | OK | OK | OK | ||||||||||||||||||||||||||||||
| 259/406 | nanotubes 1.8.0 (landing page) | Malte Thodberg | OK | OK | OK | ||||||||||||||||||||||||||||||
| 260/406 | NCIgraphData 1.28.0 (landing page) | Laurent Jacob | OK | OK | WARNINGS | ||||||||||||||||||||||||||||||
| 261/406 | NestLink 1.8.0 (landing page) | Lennart Opitz | OK | OK | OK | ||||||||||||||||||||||||||||||
| 262/406 | Neve2006 0.30.0 (landing page) | VJ Carey | OK | OK | OK | ||||||||||||||||||||||||||||||
| 263/406 | NGScopyData 1.12.0 (landing page) | Xiaobei Zhao | OK | OK | OK | ||||||||||||||||||||||||||||||
|
| ||||||||||||||||||||||||||||||||||
| Package | Maintainer | INSTALL | BUILD | CHECK | |||||||||||||||||||||||||||||||
| 264/406 | ObMiTi 1.0.0 (landing page) | Omar Elashkar | OK | OK | OK | ||||||||||||||||||||||||||||||
| 265/406 | oct4 1.8.0 (landing page) | Michael Love | OK | OK | OK | ||||||||||||||||||||||||||||||
| 266/406 | OMICsPCAdata 1.10.0 (landing page) | Subhadeep Das | OK | OK | WARNINGS | ||||||||||||||||||||||||||||||
| 267/406 | OnassisJavaLibs 1.14.0 (landing page) | Eugenia Galeota | OK | OK | OK | ||||||||||||||||||||||||||||||
| 268/406 | optimalFlowData 1.4.0 (landing page) | Hristo Inouzhe | OK | OK | WARNINGS | ||||||||||||||||||||||||||||||
|
| ||||||||||||||||||||||||||||||||||
| Package | Maintainer | INSTALL | BUILD | CHECK | |||||||||||||||||||||||||||||||
| 269/406 | parathyroidSE 1.30.0 (landing page) | Michael Love | OK | OK | OK | ||||||||||||||||||||||||||||||
| 270/406 | pasilla 1.20.0 (landing page) | Alejandro Reyes | OK | OK | WARNINGS | ||||||||||||||||||||||||||||||
| 271/406 | pasillaBamSubset 0.30.0 (landing page) | Hervé Pagès | OK | OK | OK | ||||||||||||||||||||||||||||||
| 272/406 | PasillaTranscriptExpr 1.20.0 (landing page) | Malgorzata Nowicka | OK | OK | OK | ||||||||||||||||||||||||||||||
| 273/406 | PathNetData 1.28.0 (landing page) | Ludwig Geistlinger | OK | OK | OK | ||||||||||||||||||||||||||||||
| 274/406 | PCHiCdata 1.20.0 (landing page) | Paula Freire-Pritchett | OK | OK | WARNINGS | ||||||||||||||||||||||||||||||
| 275/406 | pcxnData 2.14.0 (landing page) | Sokratis Kariotis | OK | OK | WARNINGS | ||||||||||||||||||||||||||||||
| 276/406 | pd.atdschip.tiling 0.30.0 (landing page) | Kristof De Beuf | OK | OK | WARNINGS | ||||||||||||||||||||||||||||||
| 277/406 | pepDat 1.12.0 (landing page) | Renan Sauteraud | OK | OK | OK | ||||||||||||||||||||||||||||||
| 278/406 | PepsNMRData 1.10.0 (landing page) | Manon Martin | OK | OK | WARNINGS | ||||||||||||||||||||||||||||||
| 279/406 | PhyloProfileData 1.6.1 (landing page) | Vinh Tran | OK | OK | OK | ||||||||||||||||||||||||||||||
| 280/406 | plasFIA 1.20.0 (landing page) | Alexis Delabriere | OK | OK | OK | ||||||||||||||||||||||||||||||
| 281/406 | ppiData 0.30.0 (landing page) | Bioconductor Package Maintainer | OK | OK | WARNINGS | ||||||||||||||||||||||||||||||
| 282/406 | prebsdata 1.28.0 (landing page) | Karolis Uziela | OK | OK | OK | ||||||||||||||||||||||||||||||
| 283/406 | preciseTADhub 1.0.0 (landing page) | Spiro Stilianoudakis | OK | OK | OK | ||||||||||||||||||||||||||||||
| 284/406 | PREDAsampledata 0.32.0 (landing page) | Francesco Ferrari | OK | OK | OK | ||||||||||||||||||||||||||||||
| 285/406 | ProData 1.30.0 (landing page) | Xiaochun Li | OK | OK | OK | ||||||||||||||||||||||||||||||
| 286/406 | pRolocdata 1.30.0 (landing page) | Laurent Gatto | OK | OK | OK | ||||||||||||||||||||||||||||||
| 287/406 | prostateCancerCamcap 1.20.0 (landing page) | Mark Dunning | OK | OK | WARNINGS | ||||||||||||||||||||||||||||||
| 288/406 | prostateCancerGrasso 1.20.0 (landing page) | Mark Dunning | OK | OK | WARNINGS | ||||||||||||||||||||||||||||||
| 289/406 | prostateCancerStockholm 1.20.0 (landing page) | Mark Dunning | OK | OK | WARNINGS | ||||||||||||||||||||||||||||||
| 290/406 | prostateCancerTaylor 1.20.0 (landing page) | Mark Dunning | OK | OK | WARNINGS | ||||||||||||||||||||||||||||||
| 291/406 | prostateCancerVarambally 1.20.0 (landing page) | Mark Dunning | OK | OK | WARNINGS | ||||||||||||||||||||||||||||||
| 292/406 | ptairData 1.0.1 (landing page) | camille Roquencourt | OK | OK | OK | ||||||||||||||||||||||||||||||
| 293/406 | PtH2O2lipids 1.18.0 (landing page) | James Collins | OK | OK | WARNINGS | ||||||||||||||||||||||||||||||
| 294/406 | pumadata 2.28.0 (landing page) | Xuejun liu | OK | OK | OK | ||||||||||||||||||||||||||||||
| 295/406 | PWMEnrich.Dmelanogaster.background 4.26.1 (landing page) | Diego Diez | OK | OK | OK | ||||||||||||||||||||||||||||||
| 296/406 | PWMEnrich.Hsapiens.background 4.26.1 (landing page) | Diego Diez | OK | OK | OK | ||||||||||||||||||||||||||||||
| 297/406 | PWMEnrich.Mmusculus.background 4.26.1 (landing page) | Diego Diez | OK | OK | OK | ||||||||||||||||||||||||||||||
| 298/406 | pwrEWAS.data 1.6.0 (landing page) | Stefan Graw | OK | OK | OK | ||||||||||||||||||||||||||||||
|
| ||||||||||||||||||||||||||||||||||
| Package | Maintainer | INSTALL | BUILD | CHECK | |||||||||||||||||||||||||||||||
| 299/406 | QDNAseq.hg19 1.22.0 (landing page) | Daoud Sie | OK | OK | OK | ||||||||||||||||||||||||||||||
| 300/406 | QDNAseq.mm10 1.22.0 (landing page) | Daoud Sie | OK | OK | OK | ||||||||||||||||||||||||||||||
| 301/406 | qPLEXdata 1.10.0 (landing page) | Kamal Kishore Developer | OK | OK | WARNINGS | ||||||||||||||||||||||||||||||
| 302/406 | QUBICdata 1.20.0 (landing page) | Yu Zhang | OK | OK | OK | ||||||||||||||||||||||||||||||
|
| ||||||||||||||||||||||||||||||||||
| Package | Maintainer | INSTALL | BUILD | CHECK | |||||||||||||||||||||||||||||||
| 303/406 | rcellminerData 2.14.0 (landing page) | Augustin Luna | OK | OK | WARNINGS | ||||||||||||||||||||||||||||||
| 304/406 | RcisTarget.hg19.motifDBs.cisbpOnly.500bp 1.12.0 (landing page) | Sara Aibar | OK | OK | OK | ||||||||||||||||||||||||||||||
| 305/406 | ReactomeGSA.data 1.6.0 (landing page) | Johannes Griss | OK | OK | OK | ||||||||||||||||||||||||||||||
| 306/406 | RegParallel 1.10.0 (landing page) | Kevin Blighe | OK | ERROR | skipped | ||||||||||||||||||||||||||||||
| 307/406 | restfulSEData 1.14.0 (landing page) | Bioconductor Package Maintainer | OK | OK | OK | ||||||||||||||||||||||||||||||
| 308/406 | RforProteomics 1.30.1 (landing page) | Laurent Gatto | OK | ERROR | skipped | ||||||||||||||||||||||||||||||
| 309/406 | RGMQLlib 1.12.0 (landing page) | Simone Pallotta | OK | OK | OK | ||||||||||||||||||||||||||||||
| 310/406 | rheumaticConditionWOLLBOLD 1.30.0 (landing page) | Alejandro Quiroz-Zarate | OK | OK | OK | ||||||||||||||||||||||||||||||
| 311/406 | RITANdata 1.16.0 (landing page) | Michael Zimmermann | OK | OK | WARNINGS | ||||||||||||||||||||||||||||||
| 312/406 | RMassBankData 1.30.0 (landing page) | Michael Stravs, Emma Schymanski | OK | OK | OK | ||||||||||||||||||||||||||||||
| 313/406 | RNAinteractMAPK 1.30.0 (landing page) | Mike Smith | OK | OK | OK | ||||||||||||||||||||||||||||||
| 314/406 | RNAmodR.Data 1.6.0 (landing page) | Felix G.M. Ernst | OK | OK | OK | ||||||||||||||||||||||||||||||
| 315/406 | RNAseqData.HNRNPC.bam.chr14 0.30.0 (landing page) | Hervé Pagès | OK | OK | OK | ||||||||||||||||||||||||||||||
| 316/406 | RNASeqRData 1.10.0 (landing page) | Kuan-Hao Chao | OK | OK | OK | ||||||||||||||||||||||||||||||
| 317/406 | RnaSeqSampleSizeData 1.24.0 (landing page) | Shilin Zhao | OK | OK | OK | ||||||||||||||||||||||||||||||
| 318/406 | RnBeads.hg19 1.24.0 (landing page) | RnBeadsAnnotationCreator | OK | OK | WARNINGS | ||||||||||||||||||||||||||||||
| 319/406 | RnBeads.hg38 1.24.0 (landing page) | RnBeadsAnnotationCreator | OK | OK | OK | ||||||||||||||||||||||||||||||
| 320/406 | RnBeads.mm10 2.0.0 (landing page) | RnBeads Team | OK | OK | OK | ||||||||||||||||||||||||||||||
| 321/406 | RnBeads.mm9 1.24.0 (landing page) | RnBeadsAnnotationCreator | OK | OK | WARNINGS | ||||||||||||||||||||||||||||||
| 322/406 | RnBeads.rn5 1.24.0 (landing page) | RnBeadsAnnotationCreator | OK | OK | OK | ||||||||||||||||||||||||||||||
| 323/406 | RRBSdata 1.12.0 (landing page) | Katja Hebestreit | OK | OK | OK | ||||||||||||||||||||||||||||||
| 324/406 | rRDPData 1.12.0 (landing page) | Michael Hahsler | OK | OK | OK | ||||||||||||||||||||||||||||||
| 325/406 | RTCGA.clinical 20151101.22.0 (landing page) | Marcin Kosinski | OK | OK | WARNINGS | ||||||||||||||||||||||||||||||
| 326/406 | RTCGA.CNV 1.20.0 (landing page) | Marcin Kosinski | OK | OK | WARNINGS | ||||||||||||||||||||||||||||||
| 327/406 | RTCGA.methylation 1.20.0 (landing page) | Marcin Kosinski | OK | OK | WARNINGS | ||||||||||||||||||||||||||||||
| 328/406 | RTCGA.miRNASeq 1.20.0 (landing page) | Marcin Kosinski | OK | OK | WARNINGS | ||||||||||||||||||||||||||||||
| 329/406 | RTCGA.mRNA 1.20.0 (landing page) | Marcin Kosinski | OK | OK | WARNINGS | ||||||||||||||||||||||||||||||
| 330/406 | RTCGA.mutations 20151101.22.0 (landing page) | Marcin Kosinski | OK | OK | WARNINGS | ||||||||||||||||||||||||||||||
| 331/406 | RTCGA.PANCAN12 1.20.0 (landing page) | Marcin Kosinski | OK | OK | OK | ||||||||||||||||||||||||||||||
| 332/406 | RTCGA.rnaseq 20151101.22.0 (landing page) | Marcin Kosinski | OK | OK | WARNINGS | ||||||||||||||||||||||||||||||
| 333/406 | RTCGA.RPPA 1.20.0 (landing page) | Marcin Kosinski | OK | OK | WARNINGS | ||||||||||||||||||||||||||||||
| 334/406 | RUVnormalizeData 1.12.0 (landing page) | Laurent Jacob | OK | OK | OK | ||||||||||||||||||||||||||||||
|
| ||||||||||||||||||||||||||||||||||
| Package | Maintainer | INSTALL | BUILD | CHECK | |||||||||||||||||||||||||||||||
| 335/406 | sampleClassifierData 1.16.0 (landing page) | Khadija El Amrani | OK | OK | OK | ||||||||||||||||||||||||||||||
| 336/406 | SBGNview.data 1.6.0 (landing page) | Weijun Luo | OK | OK | OK | ||||||||||||||||||||||||||||||
| 337/406 | SCATEData 1.2.0 (landing page) | Wenpin Hou | OK | OK | OK | ||||||||||||||||||||||||||||||
| 338/406 | SCLCBam 1.24.0 (landing page) | Oscar Krijgsman | OK | OK | OK | ||||||||||||||||||||||||||||||
| 339/406 | scpdata 1.0.0 (landing page) | Christophe Vanderaa | OK | OK | OK | ||||||||||||||||||||||||||||||
| 340/406 | scRNAseq 2.6.1 (landing page) | Aaron Lun | OK | OK | ERROR | ||||||||||||||||||||||||||||||
| 341/406 | scTHI.data 1.4.0 (landing page) | Michele Ceccarelli | OK | OK | OK | ||||||||||||||||||||||||||||||
| 342/406 | seq2pathway.data 1.24.0 (landing page) | Arjun Kinstlick | OK | OK | WARNINGS | ||||||||||||||||||||||||||||||
| 343/406 | seqc 1.26.0 (landing page) | Yang Liao | OK | OK | WARNINGS | ||||||||||||||||||||||||||||||
| 344/406 | seqCNA.annot 1.28.0 (landing page) | David Mosen-Ansorena | OK | OK | OK | ||||||||||||||||||||||||||||||
| 345/406 | serumStimulation 1.28.0 (landing page) | Morten Hansen, | OK | OK | OK | ||||||||||||||||||||||||||||||
| 346/406 | sesameData 1.10.1 (landing page) | Wanding Zhou | OK | OK | OK | ||||||||||||||||||||||||||||||
| 347/406 | seventyGeneData 1.28.0 (landing page) | Luigi Marchionni | OK | OK | OK | ||||||||||||||||||||||||||||||
| 348/406 | shinyMethylData 1.12.0 (landing page) | Jean-Philippe Fortin | OK | OK | WARNINGS | ||||||||||||||||||||||||||||||
| 349/406 | signatureSearchData 1.6.0 (landing page) | Yuzhu Duan | OK | OK | OK | ||||||||||||||||||||||||||||||
| 350/406 | SimBenchData 1.0.0 (landing page) | Yue Cao | OK | OK | OK | ||||||||||||||||||||||||||||||
| 351/406 | simpIntLists 1.28.0 (landing page) | Kircicegi Korkmaz | OK | OK | WARNINGS | ||||||||||||||||||||||||||||||
| 352/406 | Single.mTEC.Transcriptomes 1.20.0 (landing page) | Alejandro Reyes | OK | OK | OK | ||||||||||||||||||||||||||||||
| 353/406 | SingleCellMultiModal 1.4.1 (landing page) | Marcel Ramos | OK | OK | OK | ||||||||||||||||||||||||||||||
| 354/406 | SingleMoleculeFootprintingData 1.0.0 (landing page) | Guido Barzaghi | OK | OK | OK | ||||||||||||||||||||||||||||||
| 355/406 | SNAData 1.38.0 (landing page) | Denise Scholtens | OK | OK | OK | ||||||||||||||||||||||||||||||
| 356/406 | SNAGEEdata 1.28.0 (landing page) | David Venet | OK | OK | OK | ||||||||||||||||||||||||||||||
| 357/406 | SNPhoodData 1.22.0 (landing page) | Christian Arnold | OK | OK | OK | ||||||||||||||||||||||||||||||
| 358/406 | SomatiCAData 1.30.0 (landing page) | Mengjie Chen | OK | OK | WARNINGS | ||||||||||||||||||||||||||||||
| 359/406 | SomaticCancerAlterations 1.28.0 (landing page) | Julian Gehring | OK | OK | OK | ||||||||||||||||||||||||||||||
| 360/406 | spatialLIBD 1.4.0 (landing page) | Leonardo Collado-Torres | OK | OK | OK | ||||||||||||||||||||||||||||||
| 361/406 | SpikeIn 1.34.0 (landing page) | Rafael A. Irizarry | OK | OK | WARNINGS | ||||||||||||||||||||||||||||||
| 362/406 | SpikeInSubset 1.32.0 (landing page) | Rafael A. Irizarry | OK | OK | WARNINGS | ||||||||||||||||||||||||||||||
| 363/406 | spqnData 1.4.0 (landing page) | Yi Wang | OK | OK | OK | ||||||||||||||||||||||||||||||
| 364/406 | stemHypoxia 1.28.0 (landing page) | Cristobal Fresno | OK | OK | OK | ||||||||||||||||||||||||||||||
| 365/406 | STexampleData 1.0.8 (landing page) | Lukas M. Weber | OK | OK | OK | ||||||||||||||||||||||||||||||
| 366/406 | stjudem 1.32.0 (landing page) | Joern Toedling | OK | OK | OK | ||||||||||||||||||||||||||||||
| 367/406 | SVM2CRMdata 1.24.0 (landing page) | Guidantonio Malagoli Tagliazucchi | OK | OK | WARNINGS | ||||||||||||||||||||||||||||||
| 368/406 | synapterdata 1.30.0 (landing page) | Laurent Gatto | OK | OK | OK | ||||||||||||||||||||||||||||||
| 369/406 | systemPipeRdata 1.20.0 (landing page) | Thomas Girke | OK | OK | OK | ||||||||||||||||||||||||||||||
|
| ||||||||||||||||||||||||||||||||||
| Package | Maintainer | INSTALL | BUILD | CHECK | |||||||||||||||||||||||||||||||
| 370/406 | TabulaMurisData 1.10.0 (landing page) | Charlotte Soneson | OK | OK | OK | ||||||||||||||||||||||||||||||
| 371/406 | TargetScoreData 1.28.0 (landing page) | Yue Li | OK | OK | OK | ||||||||||||||||||||||||||||||
| 372/406 | TargetSearchData 1.30.0 (landing page) | Alvaro Cuadros-Inostroza | OK | OK | OK | ||||||||||||||||||||||||||||||
| 373/406 | tartare 1.6.0 (landing page) | Christian Panse | OK | OK | OK | ||||||||||||||||||||||||||||||
| 374/406 | TBX20BamSubset 1.28.0 (landing page) | D. Bindreither | OK | OK | OK | ||||||||||||||||||||||||||||||
| 375/406 | TCGAbiolinksGUI.data 1.12.0 (landing page) | Tiago Chedraoui Silva | OK | OK | OK | ||||||||||||||||||||||||||||||
| 376/406 | TCGAcrcmiRNA 1.12.0 (landing page) | Claudio Isella | OK | OK | OK | ||||||||||||||||||||||||||||||
| 377/406 | TCGAcrcmRNA 1.12.0 (landing page) | Claudio Isella | OK | OK | OK | ||||||||||||||||||||||||||||||
| 378/406 | TCGAMethylation450k 1.28.0 (landing page) | Sean Davis | OK | OK | OK | ||||||||||||||||||||||||||||||
| 379/406 | tcgaWGBSData.hg19 1.10.0 (landing page) | Divy Kangeyan | OK | OK | OK | ||||||||||||||||||||||||||||||
| 380/406 | TCGAWorkflowData 1.16.0 (landing page) | Tiago Chedraoui Silva | OK | OK | WARNINGS | ||||||||||||||||||||||||||||||
| 381/406 | TENxBrainData 1.12.0 (landing page) | Bioconductor Package Maintainer | OK | OK | OK | ||||||||||||||||||||||||||||||
| 382/406 | TENxBUSData 1.6.0 (landing page) | Lambda Moses | OK | OK | OK | ||||||||||||||||||||||||||||||
| 383/406 | TENxPBMCData 1.10.0 (landing page) | Stephanie Hicks | OK | OK | OK | ||||||||||||||||||||||||||||||
| 384/406 | TENxVisiumData 1.0.2 (landing page) | Helena L. Crowell | OK | OK | WARNINGS | ||||||||||||||||||||||||||||||
| 385/406 | timecoursedata 1.2.0 (landing page) | Nelle Varoquaux | OK | OK | OK | ||||||||||||||||||||||||||||||
| 386/406 | TimerQuant 1.22.0 (landing page) | Joseph Barry | OK | OK | OK | ||||||||||||||||||||||||||||||
| 387/406 | tinesath1cdf 1.30.0 (landing page) | Tine Casneuf | OK | OK | WARNINGS | ||||||||||||||||||||||||||||||
| 388/406 | tinesath1probe 1.30.0 (landing page) | Tine Casneuf | OK | OK | WARNINGS | ||||||||||||||||||||||||||||||
| 389/406 | tissueTreg 1.12.0 (landing page) | Charles Imbusch | OK | OK | OK | ||||||||||||||||||||||||||||||
| 390/406 | TMExplorer 1.2.1 (landing page) | Erik Christensen | OK | OK | OK | ||||||||||||||||||||||||||||||
| 391/406 | tofsimsData 1.20.0 (landing page) | Lorenz Gerber | OK | OK | OK | ||||||||||||||||||||||||||||||
| 392/406 | topdownrdata 1.14.0 (landing page) | Sebastian Gibb | OK | OK | OK | ||||||||||||||||||||||||||||||
| 393/406 | tweeDEseqCountData 1.30.0 (landing page) | Juan R Gonzalez | OK | OK | OK | ||||||||||||||||||||||||||||||
| 394/406 | tximportData 1.20.0 (landing page) | Michael Love | OK | OK | OK | ||||||||||||||||||||||||||||||
|
| ||||||||||||||||||||||||||||||||||
| Package | Maintainer | INSTALL | BUILD | CHECK | |||||||||||||||||||||||||||||||
| 395/406 | VariantToolsData 1.16.0 (landing page) | Michael Lawrence | OK | OK | WARNINGS | ||||||||||||||||||||||||||||||
| 396/406 | vulcandata 1.14.0 (landing page) | Federico M. Giorgi | OK | OK | OK | ||||||||||||||||||||||||||||||
|
| ||||||||||||||||||||||||||||||||||
| Package | Maintainer | INSTALL | BUILD | CHECK | |||||||||||||||||||||||||||||||
| 397/406 | WES.1KG.WUGSC 1.24.0 (landing page) | Yuchao Jiang | OK | OK | OK | ||||||||||||||||||||||||||||||
| 398/406 | WGSmapp 1.4.0 (landing page) | Rujin Wang | OK | OK | WARNINGS | ||||||||||||||||||||||||||||||
|
| ||||||||||||||||||||||||||||||||||
| Package | Maintainer | INSTALL | BUILD | CHECK | |||||||||||||||||||||||||||||||
| 399/406 | XhybCasneuf 1.30.0 (landing page) | Tineke Casneuf | OK | OK | WARNINGS | ||||||||||||||||||||||||||||||
|
| ||||||||||||||||||||||||||||||||||
| Package | Maintainer | INSTALL | BUILD | CHECK | |||||||||||||||||||||||||||||||
| 400/406 | yeastCC 1.32.0 (landing page) | Sandrine Dudoit | OK | OK | WARNINGS | ||||||||||||||||||||||||||||||
| 401/406 | yeastExpData 0.38.0 (landing page) | R. Gentleman | OK | OK | WARNINGS | ||||||||||||||||||||||||||||||
| 402/406 | yeastGSData 0.30.0 (landing page) | R. Gentleman | OK | OK | WARNINGS | ||||||||||||||||||||||||||||||
| 403/406 | yeastNagalakshmi 1.28.0 (landing page) | Bioconductor Package Maintainer | OK | OK | OK | ||||||||||||||||||||||||||||||
| 404/406 | yeastRNASeq 0.30.0 (landing page) | J. Bullard | OK | OK | WARNINGS | ||||||||||||||||||||||||||||||
| 405/406 | VJ Carey | ERROR | OK | ERROR | |||||||||||||||||||||||||||||||
|
| ||||||||||||||||||||||||||||||||||
| Package | Maintainer | INSTALL | BUILD | CHECK | |||||||||||||||||||||||||||||||
| 406/406 | zebrafishRNASeq 1.12.0 (landing page) | Davide Risso | OK | OK | OK | ||||||||||||||||||||||||||||||