| Back to Build/check report for BioC 3.13 experimental data |
|
This page was generated on 2021-10-16 15:58:41 -0400 (Sat, 16 Oct 2021).
|
To the developers/maintainers of the minfiData package: Make sure to use the following settings in order to reproduce any error or warning you see on this page. |
| Package 235/406 | Hostname | OS / Arch | INSTALL | BUILD | CHECK | ||||||||
| minfiData 0.38.0 (landing page) Kasper Daniel Hansen
| malbec2 | Linux (Ubuntu 20.04.2 LTS) / x86_64 | OK | OK | WARNINGS | ||||||||
| Package: minfiData |
| Version: 0.38.0 |
| Command: /home/biocbuild/bbs-3.13-bioc/R/bin/R CMD build --keep-empty-dirs --no-resave-data minfiData |
| StartedAt: 2021-10-16 12:21:25 -0400 (Sat, 16 Oct 2021) |
| EndedAt: 2021-10-16 12:21:39 -0400 (Sat, 16 Oct 2021) |
| EllapsedTime: 14.7 seconds |
| RetCode: 0 |
| Status: OK |
| PackageFile: minfiData_0.38.0.tar.gz |
| PackageFileSize: 74.56 MiB |
##############################################################################
##############################################################################
###
### Running command:
###
### /home/biocbuild/bbs-3.13-bioc/R/bin/R CMD build --keep-empty-dirs --no-resave-data minfiData
###
##############################################################################
##############################################################################
* checking for file ‘minfiData/DESCRIPTION’ ... OK
* preparing ‘minfiData’:
* checking DESCRIPTION meta-information ... OK
* checking for LF line-endings in source and make files and shell scripts
* checking for empty or unneeded directories
NB: this package now depends on R (>= 3.5.0)
WARNING: Added dependency on R >= 3.5.0 because serialized objects in
serialize/load version 3 cannot be read in older versions of R.
File(s) containing such objects:
‘minfiData/data/MsetEx.rda’ ‘minfiData/data/MsetEx.sub.rda’
‘minfiData/data/RGsetEx.rda’ ‘minfiData/data/RGsetEx.sub.rda’
* building ‘minfiData_0.38.0.tar.gz’