Back to Build/check report for BioC 3.13 experimental data |
|
This page was generated on 2021-10-16 15:58:40 -0400 (Sat, 16 Oct 2021).
To the developers/maintainers of the FlowSorted.CordBloodNorway.450k package: Make sure to use the following settings in order to reproduce any error or warning you see on this page. |
Package 135/406 | Hostname | OS / Arch | INSTALL | BUILD | CHECK | ||||||||
FlowSorted.CordBloodNorway.450k 1.18.0 (landing page) kristina gervin
| malbec2 | Linux (Ubuntu 20.04.2 LTS) / x86_64 | OK | OK | WARNINGS | ![]() | |||||||
Package: FlowSorted.CordBloodNorway.450k |
Version: 1.18.0 |
Command: /home/biocbuild/bbs-3.13-bioc/R/bin/R CMD INSTALL FlowSorted.CordBloodNorway.450k |
StartedAt: 2021-10-16 11:17:16 -0400 (Sat, 16 Oct 2021) |
EndedAt: 2021-10-16 11:20:56 -0400 (Sat, 16 Oct 2021) |
EllapsedTime: 219.6 seconds |
RetCode: 0 |
Status: OK |
############################################################################## ############################################################################## ### ### Running command: ### ### /home/biocbuild/bbs-3.13-bioc/R/bin/R CMD INSTALL FlowSorted.CordBloodNorway.450k ### ############################################################################## ############################################################################## * installing to library ‘/home/biocbuild/bbs-3.13-bioc/R/library’ * installing *source* package ‘FlowSorted.CordBloodNorway.450k’ ... ** using staged installation ** data *** moving datasets to lazyload DB ** help *** installing help indices ** building package indices ** testing if installed package can be loaded from temporary location ** testing if installed package can be loaded from final location ** testing if installed package keeps a record of temporary installation path * DONE (FlowSorted.CordBloodNorway.450k)