Back to Build/check report for BioC 3.13 experimental data |
|
This page was generated on 2021-10-16 15:58:42 -0400 (Sat, 16 Oct 2021).
To the developers/maintainers of the msigdb package: Make sure to use the following settings in order to reproduce any error or warning you see on this page. |
Package 249/406 | Hostname | OS / Arch | INSTALL | BUILD | CHECK | ||||||||
msigdb 1.0.0 (landing page) Dharmesh D. Bhuva
| malbec2 | Linux (Ubuntu 20.04.2 LTS) / x86_64 | OK | OK | OK | ![]() | |||||||
Package: msigdb |
Version: 1.0.0 |
Command: /home/biocbuild/bbs-3.13-bioc/R/bin/R CMD check --install=check:msigdb.install-out.txt --library=/home/biocbuild/bbs-3.13-bioc/R/library --no-vignettes --timings msigdb_1.0.0.tar.gz |
StartedAt: 2021-10-16 13:37:38 -0400 (Sat, 16 Oct 2021) |
EndedAt: 2021-10-16 13:42:12 -0400 (Sat, 16 Oct 2021) |
EllapsedTime: 273.1 seconds |
RetCode: 0 |
Status: OK |
CheckDir: msigdb.Rcheck |
Warnings: 0 |
############################################################################## ############################################################################## ### ### Running command: ### ### /home/biocbuild/bbs-3.13-bioc/R/bin/R CMD check --install=check:msigdb.install-out.txt --library=/home/biocbuild/bbs-3.13-bioc/R/library --no-vignettes --timings msigdb_1.0.0.tar.gz ### ############################################################################## ############################################################################## * using log directory ‘/home/biocbuild/bbs-3.13-data-experiment/meat/msigdb.Rcheck’ * using R version 4.1.1 (2021-08-10) * using platform: x86_64-pc-linux-gnu (64-bit) * using session charset: UTF-8 * using option ‘--no-vignettes’ * checking for file ‘msigdb/DESCRIPTION’ ... OK * this is package ‘msigdb’ version ‘1.0.0’ * package encoding: UTF-8 * checking package namespace information ... OK * checking package dependencies ... OK * checking if this is a source package ... OK * checking if there is a namespace ... OK * checking for hidden files and directories ... OK * checking for portable file names ... OK * checking for sufficient/correct file permissions ... OK * checking whether package ‘msigdb’ can be installed ... OK * checking installed package size ... OK * checking package directory ... OK * checking ‘build’ directory ... OK * checking DESCRIPTION meta-information ... OK * checking top-level files ... OK * checking for left-over files ... OK * checking index information ... OK * checking package subdirectories ... OK * checking R files for non-ASCII characters ... OK * checking R files for syntax errors ... OK * checking whether the package can be loaded ... OK * checking whether the package can be loaded with stated dependencies ... OK * checking whether the package can be unloaded cleanly ... OK * checking whether the namespace can be loaded with stated dependencies ... OK * checking whether the namespace can be unloaded cleanly ... OK * checking dependencies in R code ... OK * checking S3 generic/method consistency ... OK * checking replacement functions ... OK * checking foreign function calls ... OK * checking R code for possible problems ... OK * checking Rd files ... OK * checking Rd metadata ... OK * checking Rd cross-references ... OK * checking for missing documentation entries ... OK * checking for code/documentation mismatches ... OK * checking Rd \usage sections ... OK * checking Rd contents ... OK * checking for unstated dependencies in examples ... OK * checking R/sysdata.rda ... OK * checking files in ‘vignettes’ ... OK * checking examples ... OK Examples with CPU (user + system) or elapsed time > 5s user system elapsed getMsigOrganism 19.464 0.240 20.227 msigdb 15.834 0.132 16.944 getMsigIdType 7.399 0.156 7.971 subsetCollection 6.464 0.012 6.663 getMsigdb 5.427 0.116 5.797 listCollections 5.157 0.040 5.384 listSubCollections 5.096 0.044 5.323 * checking for unstated dependencies in ‘tests’ ... OK * checking tests ... Running ‘testthat.R’ OK * checking for unstated dependencies in vignettes ... OK * checking package vignettes in ‘inst/doc’ ... OK * checking running R code from vignettes ... SKIPPED * checking re-building of vignette outputs ... SKIPPED * checking PDF version of manual ... OK * DONE Status: OK
msigdb.Rcheck/00install.out
############################################################################## ############################################################################## ### ### Running command: ### ### /home/biocbuild/bbs-3.13-bioc/R/bin/R CMD INSTALL msigdb ### ############################################################################## ############################################################################## * installing to library ‘/home/biocbuild/bbs-3.13-bioc/R/library’ * installing *source* package ‘msigdb’ ... ** using staged installation ** R ** inst ** byte-compile and prepare package for lazy loading ** help *** installing help indices ** building package indices ** installing vignettes ** testing if installed package can be loaded from temporary location snapshotDate(): 2021-05-18 ** testing if installed package can be loaded from final location snapshotDate(): 2021-05-18 ** testing if installed package keeps a record of temporary installation path * DONE (msigdb)
msigdb.Rcheck/tests/testthat.Rout
R version 4.1.1 (2021-08-10) -- "Kick Things" Copyright (C) 2021 The R Foundation for Statistical Computing Platform: x86_64-pc-linux-gnu (64-bit) R is free software and comes with ABSOLUTELY NO WARRANTY. You are welcome to redistribute it under certain conditions. Type 'license()' or 'licence()' for distribution details. R is a collaborative project with many contributors. Type 'contributors()' for more information and 'citation()' on how to cite R or R packages in publications. Type 'demo()' for some demos, 'help()' for on-line help, or 'help.start()' for an HTML browser interface to help. Type 'q()' to quit R. > library(testthat) > library(msigdb) snapshotDate(): 2021-05-18 > > test_check("msigdb") Loading required package: BiocGenerics Loading required package: parallel Attaching package: 'BiocGenerics' The following objects are masked from 'package:parallel': clusterApply, clusterApplyLB, clusterCall, clusterEvalQ, clusterExport, clusterMap, parApply, parCapply, parLapply, parLapplyLB, parRapply, parSapply, parSapplyLB The following objects are masked from 'package:stats': IQR, mad, sd, var, xtabs The following objects are masked from 'package:base': Filter, Find, Map, Position, Reduce, anyDuplicated, append, as.data.frame, basename, cbind, colnames, dirname, do.call, duplicated, eval, evalq, get, grep, grepl, intersect, is.unsorted, lapply, mapply, match, mget, order, paste, pmax, pmax.int, pmin, pmin.int, rank, rbind, rownames, sapply, setdiff, sort, table, tapply, union, unique, unsplit, which.max, which.min Loading required package: Biobase Welcome to Bioconductor Vignettes contain introductory material; view with 'browseVignettes()'. To cite Bioconductor, see 'citation("Biobase")', and for packages 'citation("pkgname")'. Loading required package: annotate Loading required package: AnnotationDbi Loading required package: stats4 Loading required package: IRanges Loading required package: S4Vectors Attaching package: 'S4Vectors' The following objects are masked from 'package:base': I, expand.grid, unname Loading required package: XML Loading required package: graph Attaching package: 'graph' The following object is masked from 'package:XML': addNode see ?msigdb and browseVignettes('msigdb') for documentation loading from cache see ?msigdb and browseVignettes('msigdb') for documentation loading from cache [ FAIL 0 | WARN 236 | SKIP 0 | PASS 26 ] > > proc.time() user system elapsed 30.618 0.457 32.859
msigdb.Rcheck/msigdb-Ex.timings
name | user | system | elapsed | |
appendKEGG | 1.231 | 0.032 | 1.703 | |
getMsigIdType | 7.399 | 0.156 | 7.971 | |
getMsigOrganism | 19.464 | 0.240 | 20.227 | |
getMsigdb | 5.427 | 0.116 | 5.797 | |
listCollections | 5.157 | 0.040 | 5.384 | |
listSubCollections | 5.096 | 0.044 | 5.323 | |
msigdb | 15.834 | 0.132 | 16.944 | |
subsetCollection | 6.464 | 0.012 | 6.663 | |